PDS_VERSION_ID = PDS3
/* FILE DATA ELEMENTS */
RECORD_TYPE = STREAM
/* POINTERS TO DATA OBJECTS */
^COMPRESSED_FILE = "HF747_0000_GR3.JP2"
/* IDENTIFICATION DATA ELEMENTS */
DATA_SET_ID = "MEX-M-HRSC-5-REFDR-MAPPROJECTED-V3.0"
DATA_SET_NAME = "MARS EXPRESS HRSC MAP PROJECTED REFDR V3.0"
DETECTOR_ID = MEX_HRSC_GREEN
EVENT_TYPE = "MARS-REGIONAL-MAPPING-Im-Pf-Eo"
INSTRUMENT_HOST_ID = MEX
INSTRUMENT_HOST_NAME = "MARS EXPRESS"
INSTRUMENT_ID = HRSC
INSTRUMENT_NAME = "HIGH RESOLUTION STEREO CAMERA"
MISSION_NAME = "MARS EXPRESS"
MISSION_PHASE_NAME = ME_Phase_34
PROCESSING_LEVEL_ID = 3
PRODUCT_CREATION_TIME = 2016-11-08T12:40:53.000Z
PRODUCT_ID = "HF747_0000_GR3.JP2"
RELEASE_ID = 0133
REVISION_ID = 0000
/* QUALITY DATA ELEMENTS */
DATA_QUALITY_ID = 1
DATA_QUALITY_DESC = "Data calculated based on original SPICE kernels"
/* TIME DATA ELEMENTS */
SPACECRAFT_CLOCK_START_COUNT = "1/0413127462.09046"
SPACECRAFT_CLOCK_STOP_COUNT = "1/0413127727.41470"
START_TIME = 2016-06-04T13:38:21.522Z
STOP_TIME = 2016-06-04T13:41:34.259Z
/* ORBITAL DATA ELEMENTS */
ASCENDING_NODE_LONGITUDE = 278.06
MAXIMUM_RESOLUTION = 59.1
FOOTPRINT_POINT_LATITUDE = (46.9791,46.9692,46.9565,46.9302, 46.6719,46.4133,46.1545,45.8955,45.6362 ,45.3768,45.1171,44.8572,44.5972, 44.3369,44.0764,43.8158,43.5549,43.2939 ,43.0327,42.7713,42.5097,42.2479, 41.9861,41.7241,41.4619,41.1996,40.9372 ,40.6746,40.4118,40.1489,39.7544, 39.3595,39.0962,38.7257,38.2839,37.8419 ,37.2889,37.0676,36.8463,36.6249, 36.4035,36.182,35.9605,35.6282,35.2958, 35.0741,34.8525,34.6211,34.626,34.6278, 34.6287,34.8508,35.1839,35.4059,35.6279 ,35.8499,36.0718,36.2938,36.5156, 36.7374,36.9591,37.1809,37.4025,37.735, 37.9565,38.178,38.3994,38.6207,38.842, 39.1005,39.3644,39.6282,39.8919,40.1555 ,40.4189,40.6823,40.9455,41.2086, 41.4715,41.7344,41.997,42.2595,42.5219, 42.7841,43.0461,43.3081,43.5698,43.8314 ,44.0928,44.354,44.6151,44.8759,45.1365 ,45.397,45.6573,45.9174,46.3072,46.5667 ,46.826,46.9791)
FOOTPRINT_POINT_LONGITUDE = (173.88,173.263,172.67,172.254,172.274, 172.293,172.312,172.331,172.349,172.367 ,172.384,172.401,172.418,172.435, 172.451,172.466,172.482,172.497,172.511 ,172.525,172.539,172.553,172.566, 172.579,172.592,172.605,172.617,172.629 ,172.64,172.651,172.668,172.683,172.694 ,172.707,172.723,172.738,172.756, 172.763,172.77,172.776,172.782,172.789, 172.794,172.803,172.812,172.817,172.822 ,173.029,173.625,174.065,174.394, 174.394,174.393,174.392,174.392,174.391 ,174.391,174.39,174.39,174.389,174.389, 174.388,174.387,174.386,174.386,174.385 ,174.384,174.384,174.383,174.382, 174.381,174.38,174.379,174.378,174.376, 174.375,174.374,174.373,174.371,174.37, 174.369,174.367,174.366,174.364,174.363 ,174.361,174.359,174.358,174.356, 174.354,174.352,174.35,174.348,174.346, 174.344,174.341,174.338,174.336,174.333 ,173.88)
ORBIT_NUMBER = 15747
ORBITAL_ECCENTRICITY = 0.574
ORBITAL_INCLINATION = 86.93
ORBITAL_SEMIMAJOR_AXIS = 8823.5
PERIAPSIS_ALTITUDE = 364.8
PERIAPSIS_ARGUMENT_ANGLE = 145.16
PERIAPSIS_TIME = 2016-06-04T13:41:37.000Z
SPACECRAFT_ORIENTATION = (0.0,-1.0,0.0)
^MEX_ORIENTATION_DESC = "MEX_ORIENTATION_DESC.TXT"
SPACECRAFT_POINTING_MODE = ACROSSTRACK
^MEX_POINTING_DESC = "MEX_POINTING_DESC.TXT"
RIGHT_ASCENSION = -1e+32
DECLINATION = -1e+32
OFFSET_ANGLE = 0.269
SPACECRAFT_SOLAR_DISTANCE = 2.25094e+08
TARGET_NAME = MARS
/* CAMERA DATA ELEMENTS */
DETECTOR_TEMPERATURE = 18.7783
FOCAL_PLANE_TEMPERATURE = 7.9716
INST_CMPRS_NAME = "DISCRETE COSINE TRANSFORMATION (DCT)"
INST_CMPRS_RATIO = 10.2511
INST_CMPRS_QUALITY = 0
INST_CMPRS_QUANTZ_TBL_ID = 0
INSTRUMENT_TEMPERATURE = 12.0496
LENS_TEMPERATURE = 8.9911
MACROPIXEL_SIZE = 4
MISSING_FRAMES = 0
PIXEL_SUBSAMPLING_FLAG = N
SIGNAL_CHAIN_ID = 2
/* RADIOMETRIC DATA ELEMENTS */
BANDWIDTH = 88.0
CENTER_FILTER_WAVELENGTH = 538.0
RADIANCE_OFFSET = 0.850204
RADIANCE_SCALING_FACTOR = 0.00397402
REFLECTANCE_SCALING_FACTOR = 0.00017336
MEX:REFLECTANCE_OFFSET = 0.0370887
/* IMAGE OBJECT DEFINITIONS */
OBJECT = IMAGE
  INTERCHANGE_FORMAT = BINARY
  LINES = 14642
  LINE_SAMPLES = 1832
  SAMPLE_TYPE = UNSIGNED_INTEGER
  SAMPLE_BITS = 8
  BANDS = 1
  BAND_STORAGE_TYPE = BAND_SEQUENTIAL
  MAXIMUM = 255
  MEAN = 108.169
  MINIMUM = 1
  STANDARD_DEVIATION = 22.1301
END_OBJECT = IMAGE
/* MAP OBJECT DEFINITIONS */
OBJECT = IMAGE_MAP_PROJECTION
  ^DATA_SET_MAP_PROJECTION_CATALOG= "DSMAP.CAT"
  A_AXIS_RADIUS = 3396.0
  B_AXIS_RADIUS = 3396.0
  C_AXIS_RADIUS = 3396.0
  CENTER_LATITUDE = 0.0
  CENTER_LONGITUDE = 174.0
  COORDINATE_SYSTEM_NAME = PLANETOGRAPHIC
  COORDINATE_SYSTEM_TYPE = "BODY-FIXED ROTATING"
  EASTERNMOST_LONGITUDE = 174.394
  FIRST_STANDARD_PARALLEL = "N/A"
  LINE_FIRST_PIXEL = 1
  LINE_LAST_PIXEL = 14642
  LINE_PROJECTION_OFFSET = 55682.375
  MAP_PROJECTION_ROTATION = 0.0
  MAP_PROJECTION_TYPE = SINUSOIDAL
  MAP_RESOLUTION = 1185.42760773333
  MAP_SCALE = 0.05
  MAXIMUM_LATITUDE = 46.9791
  MINIMUM_LATITUDE = 34.6211
  POSITIVE_LONGITUDE_DIRECTION = EAST
  REFERENCE_LATITUDE = "N/A"
  REFERENCE_LONGITUDE = "N/A"
  SAMPLE_FIRST_PIXEL = 1
  SAMPLE_LAST_PIXEL = 1832
  SAMPLE_PROJECTION_OFFSET = 1413.125
  SECOND_STANDARD_PARALLEL = "N/A"
  WESTERNMOST_LONGITUDE = 172.254
END_OBJECT = IMAGE_MAP_PROJECTION
/* The JPEG2000 image data file associated with this label. */
OBJECT = COMPRESSED_FILE
  FILE_NAME = "HF747_0000_GR3.JP2"
  RECORD_TYPE = UNDEFINED
  FILE_RECORDS = UNK
  ENCODING_TYPE = "JP2"
  INTERCHANGE_FORMAT = BINARY
  UNCOMPRESSED_FILE_NAME = "HF747_0000_GR3.IMG"
  REQUIRED_STORAGE_BYTES = "26844296"
  ^DESCRIPTION = "JP2INFO.TXT"
END_OBJECT = COMPRESSED_FILE
END
