PDS_VERSION_ID = PDS3
/* FILE DATA ELEMENTS */
RECORD_TYPE = STREAM
/* POINTERS TO DATA OBJECTS */
^COMPRESSED_FILE = "HF747_0000_RE3.JP2"
/* IDENTIFICATION DATA ELEMENTS */
DATA_SET_ID = "MEX-M-HRSC-5-REFDR-MAPPROJECTED-V3.0"
DATA_SET_NAME = "MARS EXPRESS HRSC MAP PROJECTED REFDR V3.0"
DETECTOR_ID = MEX_HRSC_RED
EVENT_TYPE = "MARS-REGIONAL-MAPPING-Im-Pf-Eo"
INSTRUMENT_HOST_ID = MEX
INSTRUMENT_HOST_NAME = "MARS EXPRESS"
INSTRUMENT_ID = HRSC
INSTRUMENT_NAME = "HIGH RESOLUTION STEREO CAMERA"
MISSION_NAME = "MARS EXPRESS"
MISSION_PHASE_NAME = ME_Phase_34
PROCESSING_LEVEL_ID = 3
PRODUCT_CREATION_TIME = 2016-11-08T12:40:53.000Z
PRODUCT_ID = "HF747_0000_RE3.JP2"
RELEASE_ID = 0133
REVISION_ID = 0000
/* QUALITY DATA ELEMENTS */
DATA_QUALITY_ID = 1
DATA_QUALITY_DESC = "Data calculated based on original SPICE kernels"
/* TIME DATA ELEMENTS */
SPACECRAFT_CLOCK_START_COUNT = "1/0413127462.09046"
SPACECRAFT_CLOCK_STOP_COUNT = "1/0413127727.41470"
START_TIME = 2016-06-04T13:38:57.770Z
STOP_TIME = 2016-06-04T13:42:07.381Z
/* ORBITAL DATA ELEMENTS */
ASCENDING_NODE_LONGITUDE = 278.06
MAXIMUM_RESOLUTION = 61.8
FOOTPRINT_POINT_LATITUDE = (46.9112,46.9041,46.899,46.891,46.8827, 46.875,46.8651,46.9352,46.6636,46.3922, 45.9851,45.7136,45.3064,45.0349,44.7634 ,44.3561,44.0845,43.6775,43.2703, 42.9989,42.5925,42.1856,41.9143,41.6432 ,41.3722,40.976,40.7491,40.4086,40.0685 ,39.8418,39.5018,39.2753,39.0485,38.709 ,38.4826,38.143,37.9167,37.6909,37.4651 ,37.1263,36.7877,36.4492,36.2236, 35.9983,35.7732,35.4351,35.0976,34.8723 ,34.6477,34.6343,34.6383,34.6438, 34.6484,34.654,34.6602,34.8853,35.2231, 35.5611,35.8995,36.2382,36.5772,36.9162 ,37.2554,37.4816,37.708,37.9345,38.1611 ,38.5011,38.8414,39.1818,39.5223, 39.8632,40.2041,40.5451,40.7725,41.0, 41.2573,41.6648,41.9365,42.2084,42.6163 ,42.8883,43.0245,43.2965,43.7047, 44.1127,44.3848,44.6569,44.7932,45.0656 ,45.3376,45.61,45.882,46.1534,46.2898, 46.4261,46.5624,46.8347,46.9711, 46.9112)
FOOTPRINT_POINT_LONGITUDE = (174.09,173.796,173.595,173.303,173.013 ,172.76,172.452,172.275,172.295,172.315 ,172.343,172.362,172.388,172.406, 172.423,172.447,172.463,172.487,172.509 ,172.524,172.544,172.565,172.578,172.59 ,172.603,172.621,172.63,172.645,172.658 ,172.667,172.68,172.688,172.697,172.709 ,172.716,172.727,172.735,172.742, 172.748,172.758,172.768,172.777,172.783 ,172.789,172.794,172.802,172.81,172.815 ,172.819,173.053,173.243,173.522, 173.772,174.098,174.401,174.4,174.399, 174.397,174.396,174.394,174.393,174.392 ,174.39,174.389,174.388,174.386,174.385 ,174.383,174.382,174.38,174.378,174.376 ,174.374,174.371,174.37,174.368,174.366 ,174.363,174.361,174.359,174.356, 174.354,174.353,174.35,174.347,174.343, 174.34,174.337,174.336,174.333,174.33, 174.328,174.324,174.321,174.319,174.318 ,174.316,174.313,174.311,174.09)
ORBIT_NUMBER = 15747
ORBITAL_ECCENTRICITY = 0.574
ORBITAL_INCLINATION = 86.93
ORBITAL_SEMIMAJOR_AXIS = 8823.5
PERIAPSIS_ALTITUDE = 364.8
PERIAPSIS_ARGUMENT_ANGLE = 145.16
PERIAPSIS_TIME = 2016-06-04T13:41:37.000Z
SPACECRAFT_ORIENTATION = (0.0,-1.0,0.0)
^MEX_ORIENTATION_DESC = "MEX_ORIENTATION_DESC.TXT"
SPACECRAFT_POINTING_MODE = ACROSSTRACK
^MEX_POINTING_DESC = "MEX_POINTING_DESC.TXT"
RIGHT_ASCENSION = -1e+32
DECLINATION = -1e+32
OFFSET_ANGLE = 0.269
SPACECRAFT_SOLAR_DISTANCE = 2.25094e+08
TARGET_NAME = MARS
/* CAMERA DATA ELEMENTS */
DETECTOR_TEMPERATURE = 19.1861
FOCAL_PLANE_TEMPERATURE = 7.9716
INST_CMPRS_NAME = "DISCRETE COSINE TRANSFORMATION (DCT)"
INST_CMPRS_RATIO = 11.8757
INST_CMPRS_QUALITY = 0
INST_CMPRS_QUANTZ_TBL_ID = 0
INSTRUMENT_TEMPERATURE = 12.0496
LENS_TEMPERATURE = 8.9911
MACROPIXEL_SIZE = 4
MISSING_FRAMES = 0
PIXEL_SUBSAMPLING_FLAG = N
SIGNAL_CHAIN_ID = 2
/* RADIOMETRIC DATA ELEMENTS */
BANDWIDTH = 48.0
CENTER_FILTER_WAVELENGTH = 748.0
RADIANCE_OFFSET = 0.590896
RADIANCE_SCALING_FACTOR = 0.00450393
REFLECTANCE_SCALING_FACTOR = 0.000520771
MEX:REFLECTANCE_OFFSET = 0.0683229
/* IMAGE OBJECT DEFINITIONS */
OBJECT = IMAGE
  INTERCHANGE_FORMAT = BINARY
  LINES = 14642
  LINE_SAMPLES = 1832
  SAMPLE_TYPE = UNSIGNED_INTEGER
  SAMPLE_BITS = 8
  BANDS = 1
  BAND_STORAGE_TYPE = BAND_SEQUENTIAL
  MAXIMUM = 255
  MEAN = 106.082
  MINIMUM = 1
  STANDARD_DEVIATION = 28.1245
END_OBJECT = IMAGE
/* MAP OBJECT DEFINITIONS */
OBJECT = IMAGE_MAP_PROJECTION
  ^DATA_SET_MAP_PROJECTION_CATALOG= "DSMAP.CAT"
  A_AXIS_RADIUS = 3396.0
  B_AXIS_RADIUS = 3396.0
  C_AXIS_RADIUS = 3396.0
  CENTER_LATITUDE = 0.0
  CENTER_LONGITUDE = 174.0
  COORDINATE_SYSTEM_NAME = PLANETOGRAPHIC
  COORDINATE_SYSTEM_TYPE = "BODY-FIXED ROTATING"
  EASTERNMOST_LONGITUDE = 174.401
  FIRST_STANDARD_PARALLEL = "N/A"
  LINE_FIRST_PIXEL = 1
  LINE_LAST_PIXEL = 14642
  LINE_PROJECTION_OFFSET = 55682.375
  MAP_PROJECTION_ROTATION = 0.0
  MAP_PROJECTION_TYPE = SINUSOIDAL
  MAP_RESOLUTION = 1185.42760773333
  MAP_SCALE = 0.05
  MAXIMUM_LATITUDE = 46.9711
  MINIMUM_LATITUDE = 34.6343
  POSITIVE_LONGITUDE_DIRECTION = EAST
  REFERENCE_LATITUDE = "N/A"
  REFERENCE_LONGITUDE = "N/A"
  SAMPLE_FIRST_PIXEL = 1
  SAMPLE_LAST_PIXEL = 1832
  SAMPLE_PROJECTION_OFFSET = 1413.125
  SECOND_STANDARD_PARALLEL = "N/A"
  WESTERNMOST_LONGITUDE = 172.275
END_OBJECT = IMAGE_MAP_PROJECTION
/* The JPEG2000 image data file associated with this label. */
OBJECT = COMPRESSED_FILE
  FILE_NAME = "HF747_0000_RE3.JP2"
  RECORD_TYPE = UNDEFINED
  FILE_RECORDS = UNK
  ENCODING_TYPE = "JP2"
  INTERCHANGE_FORMAT = BINARY
  UNCOMPRESSED_FILE_NAME = "HF747_0000_RE3.IMG"
  REQUIRED_STORAGE_BYTES = "26844296"
  ^DESCRIPTION = "JP2INFO.TXT"
END_OBJECT = COMPRESSED_FILE
END
