PDS_VERSION_ID = PDS3
/* FILE DATA ELEMENTS */
RECORD_TYPE = STREAM
/* POINTERS TO DATA OBJECTS */
^COMPRESSED_FILE = "HF755_0000_BL3.JP2"
/* IDENTIFICATION DATA ELEMENTS */
DATA_SET_ID = "MEX-M-HRSC-5-REFDR-MAPPROJECTED-V3.0"
DATA_SET_NAME = "MARS EXPRESS HRSC MAP PROJECTED REFDR V3.0"
DETECTOR_ID = MEX_HRSC_BLUE
EVENT_TYPE = "MARS-REGIONAL-MAPPING-Te-Im-Pf"
INSTRUMENT_HOST_ID = MEX
INSTRUMENT_HOST_NAME = "MARS EXPRESS"
INSTRUMENT_ID = HRSC
INSTRUMENT_NAME = "HIGH RESOLUTION STEREO CAMERA"
MISSION_NAME = "MARS EXPRESS"
MISSION_PHASE_NAME = ME_Phase_34
PROCESSING_LEVEL_ID = 3
PRODUCT_CREATION_TIME = 2016-11-08T12:40:53.000Z
PRODUCT_ID = "HF755_0000_BL3.JP2"
RELEASE_ID = 0133
REVISION_ID = 0000
/* QUALITY DATA ELEMENTS */
DATA_QUALITY_ID = 1
DATA_QUALITY_DESC = "Data calculated based on original SPICE kernels"
/* TIME DATA ELEMENTS */
SPACECRAFT_CLOCK_START_COUNT = "1/0413328904.08270"
SPACECRAFT_CLOCK_STOP_COUNT = "1/0413329107.06560"
START_TIME = 2016-06-06T21:35:59.160Z
STOP_TIME = 2016-06-06T21:38:04.227Z
/* ORBITAL DATA ELEMENTS */
ASCENDING_NODE_LONGITUDE = 277.91
MAXIMUM_RESOLUTION = 60.6
FOOTPRINT_POINT_LATITUDE = (51.1658,51.157,51.1473,51.1366,51.1249 ,51.1121,51.1134,50.871,50.7093,50.5475 ,50.3858,50.1492,49.8335,49.5175, 49.2011,48.8846,48.7262,48.5678,48.4093 ,48.1713,48.0127,47.8539,47.6952, 47.5363,47.3773,47.2183,47.0592,46.9002 ,46.741,46.5818,46.4226,46.2631,46.1038 ,45.9444,45.7849,45.6253,45.3859, 45.2263,45.0666,44.9068,44.7471,44.5872 ,44.4274,44.1875,44.0275,43.7875, 43.6274,43.4673,43.3071,43.1493,43.1588 ,43.1648,43.1702,43.1746,43.1801, 43.2663,43.427,43.6681,43.8287,43.9892, 44.1498,44.3103,44.4709,44.6313,44.7918 ,45.0323,45.2729,45.4332,45.5934, 45.7536,45.9137,46.0738,46.2339,46.3938 ,46.5537,46.7936,46.9535,47.1133,47.273 ,47.4327,47.5923,47.8317,48.0709, 48.2304,48.3898,48.5491,48.7084,48.9471 ,49.1063,49.2654,49.4244,49.5833, 49.9009,50.1389,50.4561,50.6187,50.7813 ,50.9439,51.1877,51.1658)
FOOTPRINT_POINT_LONGITUDE = (73.9545,73.6234,73.2902,72.9552, 72.6183,72.2789,71.9121,71.9452,71.9668 ,71.9883,72.0096,72.0403,72.0801, 72.1192,72.1577,72.1947,72.213,72.2311, 72.2489,72.2756,72.2929,72.31,72.3268, 72.3438,72.3605,72.377,72.3933,72.4092, 72.425,72.4407,72.4559,72.4717,72.4864, 72.5015,72.5163,72.531,72.5527,72.5667, 72.5807,72.5949,72.6082,72.6218,72.6349 ,72.6547,72.6676,72.6868,72.6993, 72.7118,72.7243,72.8922,73.2556,73.4945 ,73.7329,73.9534,74.2564,74.5603, 74.5554,74.548,74.543,74.538,74.5329, 74.5277,74.5225,74.5173,74.512,74.5039, 74.4958,74.4903,74.4847,74.479,74.4734, 74.4676,74.4618,74.4559,74.45,74.441, 74.4349,74.4288,74.4226,74.4163,74.41, 74.4004,74.3906,74.384,74.3774,74.3706, 74.3638,74.3535,74.3465,74.3395,74.3324 ,74.3251,74.3105,74.2993,74.2842, 74.2763,74.2683,74.2602,74.2479, 73.9545)
ORBIT_NUMBER = 15755
ORBITAL_ECCENTRICITY = 0.575
ORBITAL_INCLINATION = 86.94
ORBITAL_SEMIMAJOR_AXIS = 8830.89
PERIAPSIS_ALTITUDE = 364.52
PERIAPSIS_ARGUMENT_ANGLE = 143.76
PERIAPSIS_TIME = 2016-06-06T21:39:47.000Z
SPACECRAFT_ORIENTATION = (0.0,-1.0,0.0)
^MEX_ORIENTATION_DESC = "MEX_ORIENTATION_DESC.TXT"
SPACECRAFT_POINTING_MODE = ACROSSTRACK
^MEX_POINTING_DESC = "MEX_POINTING_DESC.TXT"
RIGHT_ASCENSION = -1e+32
DECLINATION = -1e+32
OFFSET_ANGLE = -0.6
SPACECRAFT_SOLAR_DISTANCE = 2.24638e+08
TARGET_NAME = MARS
/* CAMERA DATA ELEMENTS */
DETECTOR_TEMPERATURE = 18.5744
FOCAL_PLANE_TEMPERATURE = 8.3794
INST_CMPRS_NAME = "DISCRETE COSINE TRANSFORMATION (DCT)"
INST_CMPRS_RATIO = 5.43492
INST_CMPRS_QUALITY = 0
INST_CMPRS_QUANTZ_TBL_ID = 0
INSTRUMENT_TEMPERATURE = 11.4379
LENS_TEMPERATURE = 8.7872
MACROPIXEL_SIZE = 4
MISSING_FRAMES = 0
PIXEL_SUBSAMPLING_FLAG = N
SIGNAL_CHAIN_ID = 2
/* RADIOMETRIC DATA ELEMENTS */
BANDWIDTH = 76.0
CENTER_FILTER_WAVELENGTH = 444.0
RADIANCE_OFFSET = 0.324838
RADIANCE_SCALING_FACTOR = 0.00142249
REFLECTANCE_SCALING_FACTOR = 7.37523e-05
MEX:REFLECTANCE_OFFSET = 0.0168419
/* IMAGE OBJECT DEFINITIONS */
OBJECT = IMAGE
  INTERCHANGE_FORMAT = BINARY
  LINES = 9563
  LINE_SAMPLES = 2194
  SAMPLE_TYPE = UNSIGNED_INTEGER
  SAMPLE_BITS = 8
  BANDS = 1
  BAND_STORAGE_TYPE = BAND_SEQUENTIAL
  MAXIMUM = 255
  MEAN = 137.654
  MINIMUM = 1
  STANDARD_DEVIATION = 23.4665
END_OBJECT = IMAGE
/* MAP OBJECT DEFINITIONS */
OBJECT = IMAGE_MAP_PROJECTION
  ^DATA_SET_MAP_PROJECTION_CATALOG= "DSMAP.CAT"
  A_AXIS_RADIUS = 3396.0
  B_AXIS_RADIUS = 3396.0
  C_AXIS_RADIUS = 3396.0
  CENTER_LATITUDE = 0.0
  CENTER_LONGITUDE = 73.0
  COORDINATE_SYSTEM_NAME = PLANETOGRAPHIC
  COORDINATE_SYSTEM_TYPE = "BODY-FIXED ROTATING"
  EASTERNMOST_LONGITUDE = 74.5603
  FIRST_STANDARD_PARALLEL = "N/A"
  LINE_FIRST_PIXEL = 1
  LINE_LAST_PIXEL = 9563
  LINE_PROJECTION_OFFSET = 60704.375
  MAP_PROJECTION_ROTATION = 0.0
  MAP_PROJECTION_TYPE = SINUSOIDAL
  MAP_RESOLUTION = 1185.42760773333
  MAP_SCALE = 0.05
  MAXIMUM_LATITUDE = 51.1877
  MINIMUM_LATITUDE = 43.1493
  POSITIVE_LONGITUDE_DIRECTION = EAST
  REFERENCE_LATITUDE = "N/A"
  REFERENCE_LONGITUDE = "N/A"
  SAMPLE_FIRST_PIXEL = 1
  SAMPLE_LAST_PIXEL = 2194
  SAMPLE_PROJECTION_OFFSET = 841.625
  SECOND_STANDARD_PARALLEL = "N/A"
  WESTERNMOST_LONGITUDE = 71.9121
END_OBJECT = IMAGE_MAP_PROJECTION
/* The JPEG2000 image data file associated with this label. */
OBJECT = COMPRESSED_FILE
  FILE_NAME = "HF755_0000_BL3.JP2"
  RECORD_TYPE = UNDEFINED
  FILE_RECORDS = UNK
  ENCODING_TYPE = "JP2"
  INTERCHANGE_FORMAT = BINARY
  UNCOMPRESSED_FILE_NAME = "HF755_0000_BL3.IMG"
  REQUIRED_STORAGE_BYTES = "21003162"
  ^DESCRIPTION = "JP2INFO.TXT"
END_OBJECT = COMPRESSED_FILE
END
