PDS_VERSION_ID = PDS3
/* FILE DATA ELEMENTS */
RECORD_TYPE = STREAM
/* POINTERS TO DATA OBJECTS */
^COMPRESSED_FILE = "HF755_0000_RE3.JP2"
/* IDENTIFICATION DATA ELEMENTS */
DATA_SET_ID = "MEX-M-HRSC-5-REFDR-MAPPROJECTED-V3.0"
DATA_SET_NAME = "MARS EXPRESS HRSC MAP PROJECTED REFDR V3.0"
DETECTOR_ID = MEX_HRSC_RED
EVENT_TYPE = "MARS-REGIONAL-MAPPING-Te-Im-Pf"
INSTRUMENT_HOST_ID = MEX
INSTRUMENT_HOST_NAME = "MARS EXPRESS"
INSTRUMENT_ID = HRSC
INSTRUMENT_NAME = "HIGH RESOLUTION STEREO CAMERA"
MISSION_NAME = "MARS EXPRESS"
MISSION_PHASE_NAME = ME_Phase_34
PROCESSING_LEVEL_ID = 3
PRODUCT_CREATION_TIME = 2016-11-08T12:40:53.000Z
PRODUCT_ID = "HF755_0000_RE3.JP2"
RELEASE_ID = 0133
REVISION_ID = 0000
/* QUALITY DATA ELEMENTS */
DATA_QUALITY_ID = 1
DATA_QUALITY_DESC = "Data calculated based on original SPICE kernels"
/* TIME DATA ELEMENTS */
SPACECRAFT_CLOCK_START_COUNT = "1/0413328904.08270"
SPACECRAFT_CLOCK_STOP_COUNT = "1/0413329107.06560"
START_TIME = 2016-06-06T21:36:23.836Z
STOP_TIME = 2016-06-06T21:38:26.582Z
/* ORBITAL DATA ELEMENTS */
ASCENDING_NODE_LONGITUDE = 277.91
MAXIMUM_RESOLUTION = 62.8
FOOTPRINT_POINT_LATITUDE = (51.1093,51.1058,51.1016,51.0967, 51.0911,51.0848,51.0777,50.8356,50.6781 ,50.5204,50.2839,50.1262,49.8898, 49.7321,49.4952,49.3373,49.1007,48.864, 48.7061,48.5483,48.3904,48.2323,48.0743 ,47.9165,47.7587,47.6007,47.3637, 47.2055,46.9684,46.7314,46.5734,46.3365 ,46.1782,46.0205,45.8623,45.7041, 45.5459,45.3879,45.2299,44.9928,44.8346 ,44.6769,44.5188,44.2819,44.1239, 43.9658,43.8078,43.5708,43.4128,43.1782 ,43.18,43.1807,43.1832,43.1835,43.1832, 43.184,43.4217,43.5803,43.7386,43.8966, 44.0553,44.2141,44.3726,44.5313,44.7692 ,44.9278,45.0866,45.2453,45.4039, 45.6417,45.8005,45.9591,46.1176,46.2762 ,46.514,46.6727,46.8313,46.9898,47.1486 ,47.3072,47.5451,47.7038,47.9416,48.18, 48.4179,48.5765,48.735,48.8938,49.1319, 49.2905,49.449,49.6866,49.8449,50.0035, 50.1618,50.3203,50.5581,50.7163,50.8745 ,51.1093)
FOOTPRINT_POINT_LONGITUDE = (74.0822,73.7566,73.4292,73.0994, 72.7678,72.434,72.0972,71.9563,71.9771, 71.9977,72.0281,72.048,72.0774,72.0968, 72.1257,72.1446,72.1723,72.1995,72.2175 ,72.2352,72.2526,72.2702,72.2873, 72.3041,72.3206,72.3372,72.3616,72.3778 ,72.4017,72.425,72.4402,72.4626,72.4777 ,72.492,72.5066,72.5211,72.5354,72.5494 ,72.563,72.5835,72.597,72.6099,72.623, 72.6423,72.6549,72.6675,72.6798,72.6981 ,72.7101,72.7284,73.0058,73.265,73.6574 ,73.929,74.165,74.5551,74.5476,74.5425, 74.5373,74.5321,74.5269,74.5215,74.5162 ,74.5108,74.5025,74.497,74.4914,74.4857 ,74.48,74.4713,74.4654,74.4594,74.4534, 74.4474,74.4382,74.4319,74.4257,74.4193 ,74.4129,74.4064,74.3966,74.3899, 74.3798,74.3695,74.3591,74.352,74.3449, 74.3377,74.3268,74.3194,74.3119,74.3006 ,74.2929,74.2851,74.2773,74.2694, 74.2573,74.2492,74.241,74.0822)
ORBIT_NUMBER = 15755
ORBITAL_ECCENTRICITY = 0.575
ORBITAL_INCLINATION = 86.94
ORBITAL_SEMIMAJOR_AXIS = 8830.89
PERIAPSIS_ALTITUDE = 364.52
PERIAPSIS_ARGUMENT_ANGLE = 143.76
PERIAPSIS_TIME = 2016-06-06T21:39:47.000Z
SPACECRAFT_ORIENTATION = (0.0,-1.0,0.0)
^MEX_ORIENTATION_DESC = "MEX_ORIENTATION_DESC.TXT"
SPACECRAFT_POINTING_MODE = ACROSSTRACK
^MEX_POINTING_DESC = "MEX_POINTING_DESC.TXT"
RIGHT_ASCENSION = -1e+32
DECLINATION = -1e+32
OFFSET_ANGLE = -0.6
SPACECRAFT_SOLAR_DISTANCE = 2.24638e+08
TARGET_NAME = MARS
/* CAMERA DATA ELEMENTS */
DETECTOR_TEMPERATURE = 18.5744
FOCAL_PLANE_TEMPERATURE = 8.3794
INST_CMPRS_NAME = "DISCRETE COSINE TRANSFORMATION (DCT)"
INST_CMPRS_RATIO = 12.1425
INST_CMPRS_QUALITY = 0
INST_CMPRS_QUANTZ_TBL_ID = 0
INSTRUMENT_TEMPERATURE = 11.4379
LENS_TEMPERATURE = 8.7872
MACROPIXEL_SIZE = 4
MISSING_FRAMES = 0
PIXEL_SUBSAMPLING_FLAG = N
SIGNAL_CHAIN_ID = 2
/* RADIOMETRIC DATA ELEMENTS */
BANDWIDTH = 48.0
CENTER_FILTER_WAVELENGTH = 748.0
RADIANCE_OFFSET = 0.557223
RADIANCE_SCALING_FACTOR = 0.00481633
REFLECTANCE_SCALING_FACTOR = 0.000554641
MEX:REFLECTANCE_OFFSET = 0.0641689
/* IMAGE OBJECT DEFINITIONS */
OBJECT = IMAGE
  INTERCHANGE_FORMAT = BINARY
  LINES = 9563
  LINE_SAMPLES = 2194
  SAMPLE_TYPE = UNSIGNED_INTEGER
  SAMPLE_BITS = 8
  BANDS = 1
  BAND_STORAGE_TYPE = BAND_SEQUENTIAL
  MAXIMUM = 255
  MEAN = 112.246
  MINIMUM = 1
  STANDARD_DEVIATION = 35.847
END_OBJECT = IMAGE
/* MAP OBJECT DEFINITIONS */
OBJECT = IMAGE_MAP_PROJECTION
  ^DATA_SET_MAP_PROJECTION_CATALOG= "DSMAP.CAT"
  A_AXIS_RADIUS = 3396.0
  B_AXIS_RADIUS = 3396.0
  C_AXIS_RADIUS = 3396.0
  CENTER_LATITUDE = 0.0
  CENTER_LONGITUDE = 73.0
  COORDINATE_SYSTEM_NAME = PLANETOGRAPHIC
  COORDINATE_SYSTEM_TYPE = "BODY-FIXED ROTATING"
  EASTERNMOST_LONGITUDE = 74.5551
  FIRST_STANDARD_PARALLEL = "N/A"
  LINE_FIRST_PIXEL = 1
  LINE_LAST_PIXEL = 9563
  LINE_PROJECTION_OFFSET = 60704.375
  MAP_PROJECTION_ROTATION = 0.0
  MAP_PROJECTION_TYPE = SINUSOIDAL
  MAP_RESOLUTION = 1185.42760773333
  MAP_SCALE = 0.05
  MAXIMUM_LATITUDE = 51.1093
  MINIMUM_LATITUDE = 43.1782
  POSITIVE_LONGITUDE_DIRECTION = EAST
  REFERENCE_LATITUDE = "N/A"
  REFERENCE_LONGITUDE = "N/A"
  SAMPLE_FIRST_PIXEL = 1
  SAMPLE_LAST_PIXEL = 2194
  SAMPLE_PROJECTION_OFFSET = 841.625
  SECOND_STANDARD_PARALLEL = "N/A"
  WESTERNMOST_LONGITUDE = 71.9563
END_OBJECT = IMAGE_MAP_PROJECTION
/* The JPEG2000 image data file associated with this label. */
OBJECT = COMPRESSED_FILE
  FILE_NAME = "HF755_0000_RE3.JP2"
  RECORD_TYPE = UNDEFINED
  FILE_RECORDS = UNK
  ENCODING_TYPE = "JP2"
  INTERCHANGE_FORMAT = BINARY
  UNCOMPRESSED_FILE_NAME = "HF755_0000_RE3.IMG"
  REQUIRED_STORAGE_BYTES = "21003162"
  ^DESCRIPTION = "JP2INFO.TXT"
END_OBJECT = COMPRESSED_FILE
END
