PDS_VERSION_ID = PDS3
/* FILE DATA ELEMENTS */
RECORD_TYPE = STREAM
/* POINTERS TO DATA OBJECTS */
^COMPRESSED_FILE = "HF755_0000_S13.JP2"
/* IDENTIFICATION DATA ELEMENTS */
DATA_SET_ID = "MEX-M-HRSC-5-REFDR-MAPPROJECTED-V3.0"
DATA_SET_NAME = "MARS EXPRESS HRSC MAP PROJECTED REFDR V3.0"
DETECTOR_ID = MEX_HRSC_S1
EVENT_TYPE = "MARS-REGIONAL-MAPPING-Te-Im-Pf"
INSTRUMENT_HOST_ID = MEX
INSTRUMENT_HOST_NAME = "MARS EXPRESS"
INSTRUMENT_ID = HRSC
INSTRUMENT_NAME = "HIGH RESOLUTION STEREO CAMERA"
MISSION_NAME = "MARS EXPRESS"
MISSION_PHASE_NAME = ME_Phase_34
PROCESSING_LEVEL_ID = 3
PRODUCT_CREATION_TIME = 2016-11-08T12:40:53.000Z
PRODUCT_ID = "HF755_0000_S13.JP2"
RELEASE_ID = 0133
REVISION_ID = 0000
/* QUALITY DATA ELEMENTS */
DATA_QUALITY_ID = 1
DATA_QUALITY_DESC = "Data calculated based on original SPICE kernels"
/* TIME DATA ELEMENTS */
SPACECRAFT_CLOCK_START_COUNT = "1/0413328904.08270"
SPACECRAFT_CLOCK_STOP_COUNT = "1/0413329107.06560"
START_TIME = 2016-06-06T21:35:11.595Z
STOP_TIME = 2016-06-06T21:37:23.066Z
/* ORBITAL DATA ELEMENTS */
ASCENDING_NODE_LONGITUDE = 277.91
MAXIMUM_RESOLUTION = 32.9
FOOTPRINT_POINT_LATITUDE = (51.3044,51.2859,51.266,51.2443,51.2211 ,51.1961,51.1712,50.9905,50.826,50.6613 ,50.4963,50.2506,50.0086,49.8471, 49.6854,49.5236,49.3617,49.1995,48.9563 ,48.7978,48.639,48.4005,48.2415,48.0821 ,47.8426,47.6828,47.5235,47.1337, 46.8992,46.7427,46.5861,46.4293,46.1938 ,46.0363,45.8006,45.6433,45.4856, 45.3278,45.1699,44.9329,44.6948,44.5364 ,44.3776,44.1395,43.9807,43.8216, 43.6623,43.5029,43.3436,43.1099,43.1312 ,43.153,43.1672,43.182,43.1922,43.2854, 43.4457,43.6859,43.8462,44.0065,44.1658 ,44.4048,44.5644,44.7237,44.8827, 45.0417,45.2798,45.4385,45.5969,45.7552 ,45.9137,46.072,46.23,46.388,46.5459, 46.7821,46.9396,47.0968,47.3325,47.6462 ,47.8865,48.047,48.2072,48.3674,48.5275 ,48.6877,48.8475,49.0068,49.2488, 49.4122,49.5754,49.7386,49.9017,50.0645 ,50.3083,50.4704,50.7199,50.8861, 51.0518,51.3044)
FOOTPRINT_POINT_LONGITUDE = (74.1154,73.7508,73.3843,73.0157, 72.6454,72.2727,71.921,71.8548,71.8782, 71.9013,71.9241,71.9576,71.99,72.0114, 72.0325,72.0534,72.0742,72.0947,72.1244 ,72.1437,72.1628,72.191,72.2098,72.2282 ,72.2552,72.2731,72.2908,72.3332,72.358 ,72.3743,72.3904,72.4064,72.43,72.4453, 72.4685,72.4837,72.4987,72.5134,72.5281 ,72.5498,72.5707,72.5847,72.5984, 72.6189,72.6324,72.6458,72.6588,72.6718 ,72.6847,72.8528,73.1857,73.57,73.8249, 74.0966,74.3124,74.5853,74.581,74.5745, 74.5701,74.5657,74.5613,74.5545,74.55, 74.5454,74.5407,74.5361,74.529,74.5242, 74.5194,74.5145,74.5096,74.5046,74.4996 ,74.4945,74.4894,74.4816,74.4764, 74.4711,74.4631,74.4523,74.4438,74.4381 ,74.4324,74.4266,74.4207,74.4147, 74.4087,74.4027,74.3934,74.3871,74.3807 ,74.3742,74.3676,74.361,74.3509,74.3442 ,74.3336,74.3265,74.3193,74.1154)
ORBIT_NUMBER = 15755
ORBITAL_ECCENTRICITY = 0.575
ORBITAL_INCLINATION = 86.94
ORBITAL_SEMIMAJOR_AXIS = 8830.89
PERIAPSIS_ALTITUDE = 364.52
PERIAPSIS_ARGUMENT_ANGLE = 143.76
PERIAPSIS_TIME = 2016-06-06T21:39:47.000Z
SPACECRAFT_ORIENTATION = (0.0,-1.0,0.0)
^MEX_ORIENTATION_DESC = "MEX_ORIENTATION_DESC.TXT"
SPACECRAFT_POINTING_MODE = ACROSSTRACK
^MEX_POINTING_DESC = "MEX_POINTING_DESC.TXT"
RIGHT_ASCENSION = -1e+32
DECLINATION = -1e+32
OFFSET_ANGLE = -0.6
SPACECRAFT_SOLAR_DISTANCE = 2.24638e+08
TARGET_NAME = MARS
/* CAMERA DATA ELEMENTS */
DETECTOR_TEMPERATURE = 17.5549
FOCAL_PLANE_TEMPERATURE = 8.3794
INST_CMPRS_NAME = "DISCRETE COSINE TRANSFORMATION (DCT)"
INST_CMPRS_RATIO = 7.89951
INST_CMPRS_QUALITY = 0
INST_CMPRS_QUANTZ_TBL_ID = 0
INSTRUMENT_TEMPERATURE = 11.4379
LENS_TEMPERATURE = 8.7872
MACROPIXEL_SIZE = 2
MISSING_FRAMES = 0
PIXEL_SUBSAMPLING_FLAG = N
SIGNAL_CHAIN_ID = 1
/* RADIOMETRIC DATA ELEMENTS */
BANDWIDTH = 180.0
CENTER_FILTER_WAVELENGTH = 677.0
RADIANCE_OFFSET = 2.37392
RADIANCE_SCALING_FACTOR = 0.0167571
REFLECTANCE_SCALING_FACTOR = 0.000441174
MEX:REFLECTANCE_OFFSET = 0.0624997
/* IMAGE OBJECT DEFINITIONS */
OBJECT = IMAGE
  INTERCHANGE_FORMAT = BINARY
  LINES = 19126
  LINE_SAMPLES = 4387
  SAMPLE_TYPE = UNSIGNED_INTEGER
  SAMPLE_BITS = 8
  BANDS = 1
  BAND_STORAGE_TYPE = BAND_SEQUENTIAL
  MAXIMUM = 255
  MEAN = 112.472
  MINIMUM = 1
  STANDARD_DEVIATION = 34.3696
END_OBJECT = IMAGE
/* MAP OBJECT DEFINITIONS */
OBJECT = IMAGE_MAP_PROJECTION
  ^DATA_SET_MAP_PROJECTION_CATALOG= "DSMAP.CAT"
  A_AXIS_RADIUS = 3396.0
  B_AXIS_RADIUS = 3396.0
  C_AXIS_RADIUS = 3396.0
  CENTER_LATITUDE = 0.0
  CENTER_LONGITUDE = 73.0
  COORDINATE_SYSTEM_NAME = PLANETOGRAPHIC
  COORDINATE_SYSTEM_TYPE = "BODY-FIXED ROTATING"
  EASTERNMOST_LONGITUDE = 74.5853
  FIRST_STANDARD_PARALLEL = "N/A"
  LINE_FIRST_PIXEL = 1
  LINE_LAST_PIXEL = 19126
  LINE_PROJECTION_OFFSET = 121409.25
  MAP_PROJECTION_ROTATION = 0.0
  MAP_PROJECTION_TYPE = SINUSOIDAL
  MAP_RESOLUTION = 2370.85521546667
  MAP_SCALE = 0.025
  MAXIMUM_LATITUDE = 51.3044
  MINIMUM_LATITUDE = 43.1099
  POSITIVE_LONGITUDE_DIRECTION = EAST
  REFERENCE_LATITUDE = "N/A"
  REFERENCE_LONGITUDE = "N/A"
  SAMPLE_FIRST_PIXEL = 1
  SAMPLE_LAST_PIXEL = 4387
  SAMPLE_PROJECTION_OFFSET = 1683.75
  SECOND_STANDARD_PARALLEL = "N/A"
  WESTERNMOST_LONGITUDE = 71.8548
END_OBJECT = IMAGE_MAP_PROJECTION
/* The JPEG2000 image data file associated with this label. */
OBJECT = COMPRESSED_FILE
  FILE_NAME = "HF755_0000_S13.JP2"
  RECORD_TYPE = UNDEFINED
  FILE_RECORDS = UNK
  ENCODING_TYPE = "JP2"
  INTERCHANGE_FORMAT = BINARY
  UNCOMPRESSED_FILE_NAME = "HF755_0000_S13.IMG"
  REQUIRED_STORAGE_BYTES = "83932084"
  ^DESCRIPTION = "JP2INFO.TXT"
END_OBJECT = COMPRESSED_FILE
END
