PDS_VERSION_ID = PDS3
/* FILE DATA ELEMENTS */
RECORD_TYPE = STREAM
/* POINTERS TO DATA OBJECTS */
^COMPRESSED_FILE = "HF755_0001_P23.JP2"
/* IDENTIFICATION DATA ELEMENTS */
DATA_SET_ID = "MEX-M-HRSC-5-REFDR-MAPPROJECTED-V3.0"
DATA_SET_NAME = "MARS EXPRESS HRSC MAP PROJECTED REFDR V3.0"
DETECTOR_ID = MEX_HRSC_P2
EVENT_TYPE = "MARS-LOCAL-STEREO-Eb-La-Ot"
INSTRUMENT_HOST_ID = MEX
INSTRUMENT_HOST_NAME = "MARS EXPRESS"
INSTRUMENT_ID = HRSC
INSTRUMENT_NAME = "HIGH RESOLUTION STEREO CAMERA"
MISSION_NAME = "MARS EXPRESS"
MISSION_PHASE_NAME = ME_Phase_34
PROCESSING_LEVEL_ID = 3
PRODUCT_CREATION_TIME = 2016-11-08T12:40:53.000Z
PRODUCT_ID = "HF755_0001_P23.JP2"
RELEASE_ID = 0133
REVISION_ID = 0000
/* QUALITY DATA ELEMENTS */
DATA_QUALITY_ID = 1
DATA_QUALITY_DESC = "Data calculated based on original SPICE kernels"
/* TIME DATA ELEMENTS */
SPACECRAFT_CLOCK_START_COUNT = "1/0413329312.08279"
SPACECRAFT_CLOCK_STOP_COUNT = "1/0413329490.15993"
START_TIME = 2016-06-06T21:42:57.884Z
STOP_TIME = 2016-06-06T21:44:40.863Z
/* ORBITAL DATA ELEMENTS */
ASCENDING_NODE_LONGITUDE = 277.91
MAXIMUM_RESOLUTION = 32.3
FOOTPRINT_POINT_LATITUDE = (25.4204,25.4245,25.4286,25.4326, 25.4364,25.44,25.455,25.3303,25.1419, 25.0159,24.8918,24.7675,24.5812,24.4568 ,24.3318,24.0852,23.8998,23.7754, 23.6527,23.4686,23.2838,23.1605,23.0376 ,22.8524,22.606,22.4814,22.3579,22.232, 22.1056,21.9165,21.728,21.6026,21.4777, 21.2904,21.1038,20.9789,20.8527,20.7239 ,20.5944,20.4657,20.338,20.2101,20.083, 19.9573,19.8299,19.7023,19.5745,19.4446 ,19.3142,19.1837,19.1492,19.143,19.1391 ,19.1357,19.131,19.1255,19.121,19.1171, 19.1801,19.3104,19.4419,19.6355,19.7624 ,19.9545,20.0838,20.2784,20.4064, 20.5314,20.7246,20.8534,21.0419,21.1674 ,21.2938,21.4837,21.6099,21.7989,21.925 ,22.0512,22.1769,22.3006,22.5461, 22.6701,22.7968,22.9196,23.1617,23.2853 ,23.4707,23.6567,23.7807,24.0283,24.156 ,24.2826,24.4707,24.5941,24.7183, 24.9005,25.1487,25.2747,25.4004, 25.4204)
FOOTPRINT_POINT_LONGITUDE = (74.6956,74.4622,74.227,73.9903,73.7519 ,73.5115,73.3578,73.3584,73.3608, 73.3626,73.3628,73.3632,73.3636,73.3642 ,73.3653,73.3644,73.3643,73.365,73.3641 ,73.363,73.3626,73.3624,73.362,73.362, 73.3619,73.3631,73.3633,73.3627,73.3627 ,73.3621,73.3613,73.3604,73.3592, 73.3574,73.3551,73.354,73.3534,73.353, 73.3532,73.3527,73.3514,73.3504,73.3487 ,73.3459,73.3445,73.3434,73.3425, 73.3411,73.3397,73.3384,73.5306,73.7862 ,73.9447,74.0868,74.3222,74.4789,74.65, 74.7893,74.9644,74.9631,74.9619,74.9601 ,74.9588,74.957,74.9559,74.9542,74.953, 74.9514,74.9496,74.9483,74.9465,74.9453 ,74.9441,74.9423,74.9411,74.9392, 74.9379,74.9366,74.9353,74.9338,74.9311 ,74.9299,74.9289,74.9275,74.9246, 74.9233,74.9213,74.9193,74.918,74.9152, 74.9141,74.9129,74.9109,74.9095,74.908, 74.9056,74.9027,74.9014,74.9,74.6956)
ORBIT_NUMBER = 15755
ORBITAL_ECCENTRICITY = 0.575
ORBITAL_INCLINATION = 86.94
ORBITAL_SEMIMAJOR_AXIS = 8830.89
PERIAPSIS_ALTITUDE = 364.52
PERIAPSIS_ARGUMENT_ANGLE = 143.76
PERIAPSIS_TIME = 2016-06-06T21:39:47.000Z
SPACECRAFT_ORIENTATION = (0.0,-1.0,0.0)
^MEX_ORIENTATION_DESC = "MEX_ORIENTATION_DESC.TXT"
SPACECRAFT_POINTING_MODE = ACROSSTRACK
^MEX_POINTING_DESC = "MEX_POINTING_DESC.TXT"
RIGHT_ASCENSION = -1e+32
DECLINATION = -1e+32
OFFSET_ANGLE = -0.6
SPACECRAFT_SOLAR_DISTANCE = 2.24638e+08
TARGET_NAME = MARS
/* CAMERA DATA ELEMENTS */
DETECTOR_TEMPERATURE = 19.7978
FOCAL_PLANE_TEMPERATURE = 8.5833
INST_CMPRS_NAME = "DISCRETE COSINE TRANSFORMATION (DCT)"
INST_CMPRS_RATIO = 7.2293
INST_CMPRS_QUALITY = 0
INST_CMPRS_QUANTZ_TBL_ID = 0
INSTRUMENT_TEMPERATURE = 13.0691
LENS_TEMPERATURE = 8.9911
MACROPIXEL_SIZE = 2
MISSING_FRAMES = 0
PIXEL_SUBSAMPLING_FLAG = N
SIGNAL_CHAIN_ID = 3
/* RADIOMETRIC DATA ELEMENTS */
BANDWIDTH = 177.0
CENTER_FILTER_WAVELENGTH = 676.5
RADIANCE_OFFSET = 1.48938
RADIANCE_SCALING_FACTOR = 0.0223893
REFLECTANCE_SCALING_FACTOR = 0.00059905
MEX:REFLECTANCE_OFFSET = 0.0398499
/* IMAGE OBJECT DEFINITIONS */
OBJECT = IMAGE
  INTERCHANGE_FORMAT = BINARY
  LINES = 14979
  LINE_SAMPLES = 3686
  SAMPLE_TYPE = UNSIGNED_INTEGER
  SAMPLE_BITS = 8
  BANDS = 1
  BAND_STORAGE_TYPE = BAND_SEQUENTIAL
  MAXIMUM = 255
  MEAN = 74.9347
  MINIMUM = 1
  STANDARD_DEVIATION = 30.4714
END_OBJECT = IMAGE
/* MAP OBJECT DEFINITIONS */
OBJECT = IMAGE_MAP_PROJECTION
  ^DATA_SET_MAP_PROJECTION_CATALOG= "DSMAP.CAT"
  A_AXIS_RADIUS = 3396.0
  B_AXIS_RADIUS = 3396.0
  C_AXIS_RADIUS = 3396.0
  CENTER_LATITUDE = 0.0
  CENTER_LONGITUDE = 74.0
  COORDINATE_SYSTEM_NAME = PLANETOGRAPHIC
  COORDINATE_SYSTEM_TYPE = "BODY-FIXED ROTATING"
  EASTERNMOST_LONGITUDE = 74.9644
  FIRST_STANDARD_PARALLEL = "N/A"
  LINE_FIRST_PIXEL = 1
  LINE_LAST_PIXEL = 14979
  LINE_PROJECTION_OFFSET = 60328.25
  MAP_PROJECTION_ROTATION = 0.0
  MAP_PROJECTION_TYPE = SINUSOIDAL
  MAP_RESOLUTION = 2370.85521546667
  MAP_SCALE = 0.025
  MAXIMUM_LATITUDE = 25.455
  MINIMUM_LATITUDE = 19.1171
  POSITIVE_LONGITUDE_DIRECTION = EAST
  REFERENCE_LATITUDE = "N/A"
  REFERENCE_LONGITUDE = "N/A"
  SAMPLE_FIRST_PIXEL = 1
  SAMPLE_LAST_PIXEL = 3686
  SAMPLE_PROJECTION_OFFSET = 1573.75
  SECOND_STANDARD_PARALLEL = "N/A"
  WESTERNMOST_LONGITUDE = 73.33839999999999
END_OBJECT = IMAGE_MAP_PROJECTION
/* The JPEG2000 image data file associated with this label. */
OBJECT = COMPRESSED_FILE
  FILE_NAME = "HF755_0001_P23.JP2"
  RECORD_TYPE = UNDEFINED
  FILE_RECORDS = UNK
  ENCODING_TYPE = "JP2"
  INTERCHANGE_FORMAT = BINARY
  UNCOMPRESSED_FILE_NAME = "HF755_0001_P23.IMG"
  REQUIRED_STORAGE_BYTES = "55234710"
  ^DESCRIPTION = "JP2INFO.TXT"
END_OBJECT = COMPRESSED_FILE
END
