PDS_VERSION_ID = PDS3
/* FILE DATA ELEMENTS */
RECORD_TYPE = STREAM
/* POINTERS TO DATA OBJECTS */
^COMPRESSED_FILE = "HF759_0000_P13.JP2"
/* IDENTIFICATION DATA ELEMENTS */
DATA_SET_ID = "MEX-M-HRSC-5-REFDR-MAPPROJECTED-V3.0"
DATA_SET_NAME = "MARS EXPRESS HRSC MAP PROJECTED REFDR V3.0"
DETECTOR_ID = MEX_HRSC_P1
EVENT_TYPE = "MARS-REGIONAL-STEREO-Te-Gl-Mw"
INSTRUMENT_HOST_ID = MEX
INSTRUMENT_HOST_NAME = "MARS EXPRESS"
INSTRUMENT_ID = HRSC
INSTRUMENT_NAME = "HIGH RESOLUTION STEREO CAMERA"
MISSION_NAME = "MARS EXPRESS"
MISSION_PHASE_NAME = ME_Phase_34
PROCESSING_LEVEL_ID = 3
PRODUCT_CREATION_TIME = 2016-11-08T12:40:53.000Z
PRODUCT_ID = "HF759_0000_P13.JP2"
RELEASE_ID = 0133
REVISION_ID = 0000
/* QUALITY DATA ELEMENTS */
DATA_QUALITY_ID = 1
DATA_QUALITY_DESC = "Data calculated based on original SPICE kernels"
/* TIME DATA ELEMENTS */
SPACECRAFT_CLOCK_START_COUNT = "1/0413429638.09062"
SPACECRAFT_CLOCK_STOP_COUNT = "1/0413429928.07249"
START_TIME = 2016-06-08T01:34:20.599Z
STOP_TIME = 2016-06-08T01:37:57.344Z
/* ORBITAL DATA ELEMENTS */
ASCENDING_NODE_LONGITUDE = 277.84
MAXIMUM_RESOLUTION = 30.6
FOOTPRINT_POINT_LATITUDE = (52.5394,52.5464,52.5519,52.5558, 52.5582,52.5591,52.2168,51.798,51.5183, 51.239,50.9644,50.6898,50.277,50.0015, 49.5944,49.3245,49.0545,48.784,48.5129, 48.2421,47.9779,47.7135,47.4486,47.1836 ,46.9183,46.6523,46.253,45.9866,45.5875 ,45.3195,45.0521,44.7857,44.3817, 43.9792,43.7106,43.4429,43.1732,42.9037 ,42.5002,42.2268,41.8199,41.4131, 41.0075,40.736,40.4689,40.1974,39.9245, 39.5171,39.2443,38.9714,38.9504,38.9431 ,38.9352,38.9231,38.9028,39.1704, 39.4432,39.7147,40.1224,40.3952,40.6695 ,40.943,41.2091,41.4846,41.7517,42.0219 ,42.4279,42.6983,42.9679,43.3731, 43.6443,43.9123,44.1837,44.4511,44.7208 ,45.1243,45.5256,45.7938,46.1944, 46.5973,46.9924,47.3901,47.6551,47.9211 ,48.321,48.5912,48.8545,49.124,49.3974, 49.6648,49.9397,50.2174,50.4986,50.776, 51.047,51.3215,51.6063,52.0337,52.4514, 52.5394)
FOOTPRINT_POINT_LONGITUDE = (27.5902,27.1918,26.7982,26.41,26.0269, 25.648,25.5113,25.5448,25.5664,25.5879, 25.6085,25.6285,25.6575,25.6762,25.7028 ,25.7202,25.7371,25.7536,25.7698, 25.7854,25.8002,25.8145,25.8286,25.8422 ,25.8554,25.8685,25.8874,25.8995, 25.9163,25.9281,25.9391,25.949,25.9655, 25.9801,25.9894,25.9979,26.007,26.0156, 26.0272,26.037,26.0491,26.0603,26.07, 26.0766,26.0803,26.0862,26.0925,26.1002 ,26.1056,26.1108,26.3379,26.6012, 26.8678,27.2075,27.7121,27.8637,27.8681 ,27.8746,27.8829,27.8863,27.8866, 27.8882,27.9022,27.8996,27.9112,27.917, 27.9239,27.9284,27.934,27.9402,27.9417, 27.9487,27.949,27.9562,27.9587,27.9634, 27.9712,27.9744,27.9815,27.9832,27.9981 ,28.0072,28.0126,28.0158,28.023,28.0304 ,28.0503,28.0577,28.057,28.067,28.0687, 28.0713,28.0662,28.068,28.0815,28.0904, 28.0891,28.0852,28.0986,27.5902)
ORBIT_NUMBER = 15759
ORBITAL_ECCENTRICITY = 0.575
ORBITAL_INCLINATION = 86.92
ORBITAL_SEMIMAJOR_AXIS = 8826.98
PERIAPSIS_ALTITUDE = 365.86
PERIAPSIS_ARGUMENT_ANGLE = 143.08
PERIAPSIS_TIME = 2016-06-08T01:38:51.000Z
SPACECRAFT_ORIENTATION = (0.0,-1.0,0.0)
^MEX_ORIENTATION_DESC = "MEX_ORIENTATION_DESC.TXT"
SPACECRAFT_POINTING_MODE = ACROSSTRACK
^MEX_POINTING_DESC = "MEX_POINTING_DESC.TXT"
RIGHT_ASCENSION = -1e+32
DECLINATION = -1e+32
OFFSET_ANGLE = 1.2
SPACECRAFT_SOLAR_DISTANCE = 2.2441e+08
TARGET_NAME = MARS
/* CAMERA DATA ELEMENTS */
DETECTOR_TEMPERATURE = 17.7588
FOCAL_PLANE_TEMPERATURE = 7.9716
INST_CMPRS_NAME = "DISCRETE COSINE TRANSFORMATION (DCT)"
INST_CMPRS_RATIO = 9.39556
INST_CMPRS_QUALITY = 0
INST_CMPRS_QUANTZ_TBL_ID = 0
INSTRUMENT_TEMPERATURE = 11.8457
LENS_TEMPERATURE = 8.9911
MACROPIXEL_SIZE = 2
MISSING_FRAMES = 0
PIXEL_SUBSAMPLING_FLAG = N
SIGNAL_CHAIN_ID = 3
/* RADIOMETRIC DATA ELEMENTS */
BANDWIDTH = 174.0
CENTER_FILTER_WAVELENGTH = 675.0
RADIANCE_OFFSET = 1.52538
RADIANCE_SCALING_FACTOR = 0.0212884
REFLECTANCE_SCALING_FACTOR = 0.000576658
MEX:REFLECTANCE_OFFSET = 0.0413192
/* IMAGE OBJECT DEFINITIONS */
OBJECT = IMAGE
  INTERCHANGE_FORMAT = BINARY
  LINES = 32184
  LINE_SAMPLES = 3908
  SAMPLE_TYPE = UNSIGNED_INTEGER
  SAMPLE_BITS = 8
  BANDS = 1
  BAND_STORAGE_TYPE = BAND_SEQUENTIAL
  MAXIMUM = 255
  MEAN = 101.449
  MINIMUM = 1
  STANDARD_DEVIATION = 22.3515
END_OBJECT = IMAGE
/* MAP OBJECT DEFINITIONS */
OBJECT = IMAGE_MAP_PROJECTION
  ^DATA_SET_MAP_PROJECTION_CATALOG= "DSMAP.CAT"
  A_AXIS_RADIUS = 3396.0
  B_AXIS_RADIUS = 3396.0
  C_AXIS_RADIUS = 3396.0
  CENTER_LATITUDE = 0.0
  CENTER_LONGITUDE = 27.0
  COORDINATE_SYSTEM_NAME = PLANETOGRAPHIC
  COORDINATE_SYSTEM_TYPE = "BODY-FIXED ROTATING"
  EASTERNMOST_LONGITUDE = 28.0986
  FIRST_STANDARD_PARALLEL = "N/A"
  LINE_FIRST_PIXEL = 1
  LINE_LAST_PIXEL = 32184
  LINE_PROJECTION_OFFSET = 124499.25
  MAP_PROJECTION_ROTATION = 0.0
  MAP_PROJECTION_TYPE = SINUSOIDAL
  MAP_RESOLUTION = 2370.85521546667
  MAP_SCALE = 0.025
  MAXIMUM_LATITUDE = 52.5591
  MINIMUM_LATITUDE = 38.9028
  POSITIVE_LONGITUDE_DIRECTION = EAST
  REFERENCE_LATITUDE = "N/A"
  REFERENCE_LONGITUDE = "N/A"
  SAMPLE_FIRST_PIXEL = 1
  SAMPLE_LAST_PIXEL = 3908
  SAMPLE_PROJECTION_OFFSET = 2188.75
  SECOND_STANDARD_PARALLEL = "N/A"
  WESTERNMOST_LONGITUDE = 25.5113
END_OBJECT = IMAGE_MAP_PROJECTION
/* The JPEG2000 image data file associated with this label. */
OBJECT = COMPRESSED_FILE
  FILE_NAME = "HF759_0000_P13.JP2"
  RECORD_TYPE = UNDEFINED
  FILE_RECORDS = UNK
  ENCODING_TYPE = "JP2"
  INTERCHANGE_FORMAT = BINARY
  UNCOMPRESSED_FILE_NAME = "HF759_0000_P13.IMG"
  REQUIRED_STORAGE_BYTES = "125798520"
  ^DESCRIPTION = "JP2INFO.TXT"
END_OBJECT = COMPRESSED_FILE
END
