PDS_VERSION_ID = PDS3
/* FILE DATA ELEMENTS */
RECORD_TYPE = STREAM
/* POINTERS TO DATA OBJECTS */
^COMPRESSED_FILE = "HF771_0000_P13.JP2"
/* IDENTIFICATION DATA ELEMENTS */
DATA_SET_ID = "MEX-M-HRSC-5-REFDR-MAPPROJECTED-V3.0"
DATA_SET_NAME = "MARS EXPRESS HRSC MAP PROJECTED REFDR V3.0"
DETECTOR_ID = MEX_HRSC_P1
EVENT_TYPE = "MARS-LOCAL-CARTOGRAPHY-Pf-Tc-Ts"
INSTRUMENT_HOST_ID = MEX
INSTRUMENT_HOST_NAME = "MARS EXPRESS"
INSTRUMENT_ID = HRSC
INSTRUMENT_NAME = "HIGH RESOLUTION STEREO CAMERA"
MISSION_NAME = "MARS EXPRESS"
MISSION_PHASE_NAME = ME_Phase_34
PROCESSING_LEVEL_ID = 3
PRODUCT_CREATION_TIME = 2016-11-08T12:40:53.000Z
PRODUCT_ID = "HF771_0000_P13.JP2"
RELEASE_ID = 0133
REVISION_ID = 0000
/* QUALITY DATA ELEMENTS */
DATA_QUALITY_ID = 1
DATA_QUALITY_DESC = "Data calculated based on original SPICE kernels"
/* TIME DATA ELEMENTS */
SPACECRAFT_CLOCK_START_COUNT = "1/0413731562.09045"
SPACECRAFT_CLOCK_STOP_COUNT = "1/0413731769.52899"
START_TIME = 2016-06-11T13:26:35.588Z
STOP_TIME = 2016-06-11T13:28:09.221Z
/* ORBITAL DATA ELEMENTS */
ASCENDING_NODE_LONGITUDE = 277.61
MAXIMUM_RESOLUTION = 93
FOOTPRINT_POINT_LATITUDE = (71.4882,71.4667,71.4493,71.4353, 71.4154,71.3913,71.3563,71.3311,71.3045 ,71.2765,71.247,71.216,71.1837,71.1627, 71.0611,70.9583,70.8567,70.7553,70.6024 ,70.5003,70.3988,70.2981,70.1973, 70.0962,69.9951,69.8941,69.7944,69.6946 ,69.5945,69.4443,69.3443,69.2455, 69.0979,68.9983,68.8991,68.7509,68.5067 ,68.3101,68.1149,67.9698,67.8243, 67.6785,67.4381,67.2461,67.054,66.9108, 66.7688,66.5788,66.2944,66.107,66.1262, 66.1474,66.1776,66.1965,66.21,66.2294, 66.2455,66.2663,66.2818,66.2916,66.3053 ,66.3137,66.3734,66.6612,66.9035, 67.0968,67.291,67.4875,67.6342,67.8301, 68.0783,68.276,68.5243,68.6245,68.725, 68.8255,68.9258,69.0259,69.1267,69.2284 ,69.33,69.4315,69.5329,69.6342,69.7371, 69.8407,69.9434,70.046,70.1998,70.3035, 70.4072,70.5107,70.6143,70.7176,70.8747 ,70.9796,71.0846,71.1892,71.3472, 71.4882)
FOOTPRINT_POINT_LONGITUDE = (236.468,235.767,235.259,234.879, 234.373,233.805,233.051,232.549,232.05, 231.552,231.055,230.558,230.064,229.756 ,229.67,229.744,229.817,229.888,229.994 ,230.064,230.133,230.2,230.266,230.332, 230.397,230.461,230.524,230.586,230.648 ,230.739,230.799,230.857,230.944, 231.001,231.057,231.14,231.275,231.38, 231.482,231.558,231.631,231.704,231.822 ,231.914,232.004,232.07,232.135,232.22, 232.344,232.424,232.737,233.099,233.643 ,234.006,234.279,234.689,235.053, 235.556,235.968,236.242,236.655,236.931 ,237.309,237.279,237.252,237.231,237.21 ,237.187,237.17,237.147,237.116,237.093 ,237.062,237.049,237.036,237.023, 237.009,236.996,236.982,236.968,236.954 ,236.94,236.926,236.911,236.896,236.879 ,236.864,236.849,236.825,236.81,236.794 ,236.778,236.761,236.745,236.72,236.702 ,236.685,236.667,236.639,236.468)
ORBIT_NUMBER = 15771
ORBITAL_ECCENTRICITY = 0.575
ORBITAL_INCLINATION = 86.93
ORBITAL_SEMIMAJOR_AXIS = 8827.62
PERIAPSIS_ALTITUDE = 366.36
PERIAPSIS_ARGUMENT_ANGLE = 140.96
PERIAPSIS_TIME = 2016-06-11T13:36:01.000Z
SPACECRAFT_ORIENTATION = (0.0,-1.0,0.0)
^MEX_ORIENTATION_DESC = "MEX_ORIENTATION_DESC.TXT"
SPACECRAFT_POINTING_MODE = NADIR
^MEX_POINTING_DESC = "MEX_POINTING_DESC.TXT"
RIGHT_ASCENSION = -1e+32
DECLINATION = -1e+32
OFFSET_ANGLE = -1e+32
SPACECRAFT_SOLAR_DISTANCE = 2.23729e+08
TARGET_NAME = MARS
/* CAMERA DATA ELEMENTS */
DETECTOR_TEMPERATURE = 17.351
FOCAL_PLANE_TEMPERATURE = 7.5638
INST_CMPRS_NAME = "DISCRETE COSINE TRANSFORMATION (DCT)"
INST_CMPRS_RATIO = 25.5649
INST_CMPRS_QUALITY = 0
INST_CMPRS_QUANTZ_TBL_ID = 0
INSTRUMENT_TEMPERATURE = 11.0301
LENS_TEMPERATURE = 8.5833
MACROPIXEL_SIZE = 4
MISSING_FRAMES = 0
PIXEL_SUBSAMPLING_FLAG = N
SIGNAL_CHAIN_ID = 1
/* RADIOMETRIC DATA ELEMENTS */
BANDWIDTH = 174.0
CENTER_FILTER_WAVELENGTH = 675.0
RADIANCE_OFFSET = 3.02928
RADIANCE_SCALING_FACTOR = 0.00520344
REFLECTANCE_SCALING_FACTOR = 0.000140096
MEX:REFLECTANCE_OFFSET = 0.0815594
/* IMAGE OBJECT DEFINITIONS */
OBJECT = IMAGE
  INTERCHANGE_FORMAT = BINARY
  LINES = 3124
  LINE_SAMPLES = 1541
  SAMPLE_TYPE = UNSIGNED_INTEGER
  SAMPLE_BITS = 8
  BANDS = 1
  BAND_STORAGE_TYPE = BAND_SEQUENTIAL
  MAXIMUM = 255
  MEAN = 117.262
  MINIMUM = 1
  STANDARD_DEVIATION = 40.705
END_OBJECT = IMAGE
/* MAP OBJECT DEFINITIONS */
OBJECT = IMAGE_MAP_PROJECTION
  ^DATA_SET_MAP_PROJECTION_CATALOG= "DSMAP.CAT"
  A_AXIS_RADIUS = 3396.0
  B_AXIS_RADIUS = 3396.0
  C_AXIS_RADIUS = 3396.0
  CENTER_LATITUDE = 0.0
  CENTER_LONGITUDE = 234.0
  COORDINATE_SYSTEM_NAME = PLANETOGRAPHIC
  COORDINATE_SYSTEM_TYPE = "BODY-FIXED ROTATING"
  EASTERNMOST_LONGITUDE = 237.309
  FIRST_STANDARD_PARALLEL = "N/A"
  LINE_FIRST_PIXEL = 1
  LINE_LAST_PIXEL = 3124
  LINE_PROJECTION_OFFSET = 42319.625
  MAP_PROJECTION_ROTATION = 0.0
  MAP_PROJECTION_TYPE = SINUSOIDAL
  MAP_RESOLUTION = 592.713803866667
  MAP_SCALE = 0.1
  MAXIMUM_LATITUDE = 71.48820000000001
  MINIMUM_LATITUDE = 66.107
  POSITIVE_LONGITUDE_DIRECTION = EAST
  REFERENCE_LATITUDE = "N/A"
  REFERENCE_LONGITUDE = "N/A"
  SAMPLE_FIRST_PIXEL = 1
  SAMPLE_LAST_PIXEL = 1541
  SAMPLE_PROJECTION_OFFSET = 793.125
  SECOND_STANDARD_PARALLEL = "N/A"
  WESTERNMOST_LONGITUDE = 229.67
END_OBJECT = IMAGE_MAP_PROJECTION
/* The JPEG2000 image data file associated with this label. */
OBJECT = COMPRESSED_FILE
  FILE_NAME = "HF771_0000_P13.JP2"
  RECORD_TYPE = UNDEFINED
  FILE_RECORDS = UNK
  ENCODING_TYPE = "JP2"
  INTERCHANGE_FORMAT = BINARY
  UNCOMPRESSED_FILE_NAME = "HF771_0000_P13.IMG"
  REQUIRED_STORAGE_BYTES = "4832576"
  ^DESCRIPTION = "JP2INFO.TXT"
END_OBJECT = COMPRESSED_FILE
END
