PDS_VERSION_ID = PDS3
/* FILE DATA ELEMENTS */
RECORD_TYPE = STREAM
/* POINTERS TO DATA OBJECTS */
^COMPRESSED_FILE = "HF771_0004_SR3.JP2"
/* IDENTIFICATION DATA ELEMENTS */
DATA_SET_ID = "MEX-M-HRSC-5-REFDR-MAPPROJECTED-V3.0"
DATA_SET_NAME = "MARS EXPRESS HRSC MAP PROJECTED REFDR V3.0"
DETECTOR_ID = MEX_HRSC_SRC
EVENT_TYPE = "MARS-LOCAL-CARTOGRAPHY-Pf-Tc-Ts"
INSTRUMENT_HOST_ID = MEX
INSTRUMENT_HOST_NAME = "MARS EXPRESS"
INSTRUMENT_ID = HRSC
INSTRUMENT_NAME = "HIGH RESOLUTION STEREO CAMERA"
MISSION_NAME = "MARS EXPRESS"
MISSION_PHASE_NAME = ME_Phase_34
PROCESSING_LEVEL_ID = 3
PRODUCT_CREATION_TIME = 2016-11-08T12:40:53.000Z
PRODUCT_ID = "HF771_0004_SR3.JP2"
RELEASE_ID = 0133
REVISION_ID = 0000
/* QUALITY DATA ELEMENTS */
DATA_QUALITY_ID = 1
DATA_QUALITY_DESC = "Data calculated based on original SPICE kernels"
/* TIME DATA ELEMENTS */
SPACECRAFT_CLOCK_START_COUNT = "1/0413731562.09045"
SPACECRAFT_CLOCK_STOP_COUNT = "1/0413731769.52899"
IMAGE_TIME = 2016-06-11T13:27:33.740Z
START_TIME = 2016-06-11T13:27:33.737Z
STOP_TIME = 2016-06-11T13:27:33.742Z
/* ORBITAL DATA ELEMENTS */
ASCENDING_NODE_LONGITUDE = 277.61
MAXIMUM_RESOLUTION = 5.43
FOOTPRINT_POINT_LATITUDE = (70.3522,70.3552,70.3594,70.3631, 70.3665,70.3693,70.3739,70.3768,70.381, 70.3853,70.3887,70.391,70.3942,70.3981, 70.4017,70.4046,70.408,70.4112,70.4158, 70.4212,70.4241,70.4273,70.4303,70.4344 ,70.4369,70.4389,70.4394,70.4399, 70.4405,70.4409,70.4414,70.4419,70.4423 ,70.4428,70.4433,70.4438,70.4444, 70.4449,70.4454,70.4459,70.4464,70.4471 ,70.4476,70.4482,70.4487,70.4492, 70.4497,70.4502,70.4507,70.4512,70.4491 ,70.4454,70.4413,70.4383,70.4334, 70.4302,70.4259,70.4224,70.4189,70.416, 70.4119,70.4064,70.4029,70.4004,70.3965 ,70.3932,70.3887,70.3855,70.3822, 70.3793,70.3745,70.3706,70.3668,70.3628 ,70.3598,70.3594,70.3589,70.3584,70.358 ,70.3574,70.3569,70.3565,70.356,70.3555 ,70.3548,70.3543,70.3537,70.3531, 70.3526,70.3522,70.3516,70.3511,70.3504 ,70.3499,70.3495,70.3491,70.3486, 70.3481,70.3476,70.3522)
FOOTPRINT_POINT_LONGITUDE = (233.358,233.357,233.355,233.353, 233.352,233.351,233.349,233.348,233.346 ,233.344,233.343,233.342,233.34,233.339 ,233.337,233.336,233.335,233.333, 233.331,233.329,233.328,233.326,233.325 ,233.323,233.322,233.327,233.338, 233.349,233.363,233.371,233.382,233.393 ,233.401,233.412,233.423,233.434, 233.445,233.456,233.466,233.477,233.488 ,233.505,233.516,233.526,233.537, 233.548,233.559,233.57,233.581,233.592, 233.597,233.599,233.6,233.602,233.604, 233.605,233.607,233.608,233.61,233.611, 233.612,233.615,233.616,233.617,233.619 ,233.62,233.622,233.623,233.624,233.626 ,233.628,233.629,233.631,233.632, 233.628,233.617,233.606,233.595,233.587 ,233.573,233.562,233.554,233.543, 233.533,233.519,233.508,233.495,233.481 ,233.47,233.462,233.448,233.438,233.424 ,233.413,233.405,233.397,233.386, 233.375,233.364,233.358)
ORBIT_NUMBER = 15771
ORBITAL_ECCENTRICITY = 0.575
ORBITAL_INCLINATION = 86.93
ORBITAL_SEMIMAJOR_AXIS = 8827.62
PERIAPSIS_ALTITUDE = 366.36
PERIAPSIS_ARGUMENT_ANGLE = 140.96
PERIAPSIS_TIME = 2016-06-11T13:36:01.000Z
SPACECRAFT_ORIENTATION = (0.0,-1.0,0.0)
^MEX_ORIENTATION_DESC = "MEX_ORIENTATION_DESC.TXT"
SPACECRAFT_POINTING_MODE = NADIR
^MEX_POINTING_DESC = "MEX_POINTING_DESC.TXT"
RIGHT_ASCENSION = -1e+32
DECLINATION = -1e+32
OFFSET_ANGLE = -1e+32
SPACECRAFT_SOLAR_DISTANCE = 2.23729e+08
TARGET_NAME = MARS
/* CAMERA DATA ELEMENTS */
BUFFER_MODE_ID = DIRECT
EXPOSURE_DURATION = 5.04
INST_CMPRS_NAME = "DISCRETE COSINE TRANSFORMATION (DCT)"
INST_CMPRS_RATIO = 18.6721
INST_CMPRS_QUALITY = 0
INST_CMPRS_QUANTZ_TBL_ID = 0
INSTRUMENT_TEMPERATURE = 7.90829
MISSING_FRAMES = 0
START_BIT = 0
/* RADIOMETRIC DATA ELEMENTS */
BANDWIDTH = 250.0
CENTER_FILTER_WAVELENGTH = 600.0
RADIANCE_OFFSET = -9.99e+31
RADIANCE_SCALING_FACTOR = -9.99e+31
REFLECTANCE_SCALING_FACTOR = -9.99e+31
MEX:REFLECTANCE_OFFSET = -9.99e+31
/* IMAGE OBJECT DEFINITIONS */
OBJECT = IMAGE
  INTERCHANGE_FORMAT = BINARY
  LINES = 1310
  LINE_SAMPLES = 1325
  SAMPLE_TYPE = UNSIGNED_INTEGER
  SAMPLE_BITS = 8
  BANDS = 1
  BAND_STORAGE_TYPE = BAND_SEQUENTIAL
  MAXIMUM = 250
  MEAN = 128.154
  MINIMUM = 23
  STANDARD_DEVIATION = 14.6426
END_OBJECT = IMAGE
/* MAP OBJECT DEFINITIONS */
OBJECT = IMAGE_MAP_PROJECTION
  ^DATA_SET_MAP_PROJECTION_CATALOG= "DSMAP.CAT"
  A_AXIS_RADIUS = 3396.19
  B_AXIS_RADIUS = 3396.19
  C_AXIS_RADIUS = 3396.19
  CENTER_LATITUDE = 0.0
  CENTER_LONGITUDE = 233.0
  COORDINATE_SYSTEM_NAME = PLANETOGRAPHIC
  COORDINATE_SYSTEM_TYPE = "BODY-FIXED ROTATING"
  EASTERNMOST_LONGITUDE = 233.632
  FIRST_STANDARD_PARALLEL = "N/A"
  LINE_FIRST_PIXEL = 1
  LINE_LAST_PIXEL = 1310
  LINE_PROJECTION_OFFSET = 833415.0
  MAP_PROJECTION_ROTATION = 0.0
  MAP_PROJECTION_TYPE = SINUSOIDAL
  MAP_RESOLUTION = 11854.9393024378
  MAP_SCALE = 0.005
  MAXIMUM_LATITUDE = 70.4512
  MINIMUM_LATITUDE = 70.3476
  POSITIVE_LONGITUDE_DIRECTION = EAST
  REFERENCE_LATITUDE = "N/A"
  REFERENCE_LONGITUDE = "N/A"
  SAMPLE_FIRST_PIXEL = 1
  SAMPLE_LAST_PIXEL = 1325
  SAMPLE_PROJECTION_OFFSET = -1231.0
  SECOND_STANDARD_PARALLEL = "N/A"
  WESTERNMOST_LONGITUDE = 233.322
END_OBJECT = IMAGE_MAP_PROJECTION
/* The JPEG2000 image data file associated with this label. */
OBJECT = COMPRESSED_FILE
  FILE_NAME = "HF771_0004_SR3.JP2"
  RECORD_TYPE = UNDEFINED
  FILE_RECORDS = UNK
  ENCODING_TYPE = "JP2"
  INTERCHANGE_FORMAT = BINARY
  UNCOMPRESSED_FILE_NAME = "HF771_0004_SR3.IMG"
  REQUIRED_STORAGE_BYTES = "1754300"
  ^DESCRIPTION = "JP2INFO.TXT"
END_OBJECT = COMPRESSED_FILE
END
