PDS_VERSION_ID = PDS3
/* FILE DATA ELEMENTS */
RECORD_TYPE = STREAM
/* POINTERS TO DATA OBJECTS */
^COMPRESSED_FILE = "HF771_0017_SR3.JP2"
/* IDENTIFICATION DATA ELEMENTS */
DATA_SET_ID = "MEX-M-HRSC-5-REFDR-MAPPROJECTED-V3.0"
DATA_SET_NAME = "MARS EXPRESS HRSC MAP PROJECTED REFDR V3.0"
DETECTOR_ID = MEX_HRSC_SRC
EVENT_TYPE = "MARS-LOCAL-CARTOGRAPHY-Pf-Tc-Ts"
INSTRUMENT_HOST_ID = MEX
INSTRUMENT_HOST_NAME = "MARS EXPRESS"
INSTRUMENT_ID = HRSC
INSTRUMENT_NAME = "HIGH RESOLUTION STEREO CAMERA"
MISSION_NAME = "MARS EXPRESS"
MISSION_PHASE_NAME = ME_Phase_34
PROCESSING_LEVEL_ID = 3
PRODUCT_CREATION_TIME = 2016-11-08T12:40:53.000Z
PRODUCT_ID = "HF771_0017_SR3.JP2"
RELEASE_ID = 0133
REVISION_ID = 0000
/* QUALITY DATA ELEMENTS */
DATA_QUALITY_ID = 1
DATA_QUALITY_DESC = "Data calculated based on original SPICE kernels"
/* TIME DATA ELEMENTS */
SPACECRAFT_CLOCK_START_COUNT = "1/0413731562.09045"
SPACECRAFT_CLOCK_STOP_COUNT = "1/0413731769.52899"
IMAGE_TIME = 2016-06-11T13:27:47.910Z
START_TIME = 2016-06-11T13:27:47.908Z
STOP_TIME = 2016-06-11T13:27:47.913Z
/* ORBITAL DATA ELEMENTS */
ASCENDING_NODE_LONGITUDE = 277.61
MAXIMUM_RESOLUTION = 5.324
FOOTPRINT_POINT_LATITUDE = (69.5401,69.5447,69.5494,69.5529, 69.5566,69.5614,69.5667,69.5715,69.5754 ,69.5785,69.5814,69.5861,69.5897, 69.5925,69.5963,69.6005,69.603,69.607, 69.6111,69.6138,69.6176,69.6202,69.6237 ,69.6266,69.627,69.6274,69.6279,69.6282 ,69.6287,69.6291,69.6295,69.63,69.6305, 69.6311,69.6316,69.632,69.6325,69.633, 69.6335,69.6339,69.6344,69.6349,69.6353 ,69.6358,69.6363,69.6367,69.6372, 69.6377,69.6381,69.6357,69.6307,69.6263 ,69.6228,69.6196,69.6143,69.6111, 69.6082,69.6049,69.6025,69.5999,69.5965 ,69.591,69.5875,69.5814,69.5773,69.5742 ,69.571,69.5672,69.564,69.5593,69.5564, 69.5534,69.5508,69.5486,69.5481,69.5476 ,69.5472,69.5467,69.5462,69.5458, 69.5453,69.5448,69.5444,69.544,69.5437, 69.5433,69.5427,69.5423,69.5419,69.5413 ,69.5408,69.5404,69.54,69.5394,69.5391, 69.5385,69.5381,69.5376,69.5372, 69.5401)
FOOTPRINT_POINT_LONGITUDE = (233.683,233.681,233.679,233.678, 233.676,233.675,233.673,233.671,233.669 ,233.668,233.667,233.665,233.664, 233.663,233.661,233.66,233.659,233.657, 233.656,233.654,233.653,233.652,233.651 ,233.65,233.66,233.668,233.678,233.686, 233.696,233.704,233.714,233.724,233.735 ,233.748,233.758,233.768,233.778, 233.789,233.799,233.809,233.82,233.83, 233.84,233.851,233.861,233.871,233.881, 233.892,233.902,233.91,233.912,233.913, 233.915,233.916,233.918,233.919,233.92, 233.921,233.922,233.923,233.924,233.926 ,233.928,233.93,233.931,233.933,233.934 ,233.935,233.936,233.938,233.939,233.94 ,233.941,233.934,233.924,233.913, 233.903,233.893,233.883,233.872,233.862 ,233.852,233.842,233.834,233.826, 233.819,233.806,233.796,233.788,233.775 ,233.765,233.755,233.747,233.734, 233.726,233.714,233.706,233.696,233.685 ,233.683)
ORBIT_NUMBER = 15771
ORBITAL_ECCENTRICITY = 0.575
ORBITAL_INCLINATION = 86.93
ORBITAL_SEMIMAJOR_AXIS = 8827.62
PERIAPSIS_ALTITUDE = 366.36
PERIAPSIS_ARGUMENT_ANGLE = 140.96
PERIAPSIS_TIME = 2016-06-11T13:36:01.000Z
SPACECRAFT_ORIENTATION = (0.0,-1.0,0.0)
^MEX_ORIENTATION_DESC = "MEX_ORIENTATION_DESC.TXT"
SPACECRAFT_POINTING_MODE = NADIR
^MEX_POINTING_DESC = "MEX_POINTING_DESC.TXT"
RIGHT_ASCENSION = -1e+32
DECLINATION = -1e+32
OFFSET_ANGLE = -1e+32
SPACECRAFT_SOLAR_DISTANCE = 2.23729e+08
TARGET_NAME = MARS
/* CAMERA DATA ELEMENTS */
BUFFER_MODE_ID = DIRECT
EXPOSURE_DURATION = 5.04
INST_CMPRS_NAME = "DISCRETE COSINE TRANSFORMATION (DCT)"
INST_CMPRS_RATIO = 21.0549
INST_CMPRS_QUALITY = 0
INST_CMPRS_QUANTZ_TBL_ID = 0
INSTRUMENT_TEMPERATURE = 8.18182
MISSING_FRAMES = 0
START_BIT = 0
/* RADIOMETRIC DATA ELEMENTS */
BANDWIDTH = 250.0
CENTER_FILTER_WAVELENGTH = 600.0
RADIANCE_OFFSET = -9.99e+31
RADIANCE_SCALING_FACTOR = -9.99e+31
REFLECTANCE_SCALING_FACTOR = -9.99e+31
MEX:REFLECTANCE_OFFSET = -9.99e+31
/* IMAGE OBJECT DEFINITIONS */
OBJECT = IMAGE
  INTERCHANGE_FORMAT = BINARY
  LINES = 1278
  LINE_SAMPLES = 1283
  SAMPLE_TYPE = UNSIGNED_INTEGER
  SAMPLE_BITS = 8
  BANDS = 1
  BAND_STORAGE_TYPE = BAND_SEQUENTIAL
  MAXIMUM = 243
  MEAN = 137.511
  MINIMUM = 13
  STANDARD_DEVIATION = 15.1075
END_OBJECT = IMAGE
/* MAP OBJECT DEFINITIONS */
OBJECT = IMAGE_MAP_PROJECTION
  ^DATA_SET_MAP_PROJECTION_CATALOG= "DSMAP.CAT"
  A_AXIS_RADIUS = 3396.19
  B_AXIS_RADIUS = 3396.19
  C_AXIS_RADIUS = 3396.19
  CENTER_LATITUDE = 0.0
  CENTER_LONGITUDE = 234.0
  COORDINATE_SYSTEM_NAME = PLANETOGRAPHIC
  COORDINATE_SYSTEM_TYPE = "BODY-FIXED ROTATING"
  EASTERNMOST_LONGITUDE = 233.941
  FIRST_STANDARD_PARALLEL = "N/A"
  LINE_FIRST_PIXEL = 1
  LINE_LAST_PIXEL = 1278
  LINE_PROJECTION_OFFSET = 823827.0
  MAP_PROJECTION_ROTATION = 0.0
  MAP_PROJECTION_TYPE = SINUSOIDAL
  MAP_RESOLUTION = 11854.9393024378
  MAP_SCALE = 0.005
  MAXIMUM_LATITUDE = 69.63809999999999
  MINIMUM_LATITUDE = 69.5372
  POSITIVE_LONGITUDE_DIRECTION = EAST
  REFERENCE_LATITUDE = "N/A"
  REFERENCE_LONGITUDE = "N/A"
  SAMPLE_FIRST_PIXEL = 1
  SAMPLE_LAST_PIXEL = 1283
  SAMPLE_PROJECTION_OFFSET = 1477.0
  SECOND_STANDARD_PARALLEL = "N/A"
  WESTERNMOST_LONGITUDE = 233.65
END_OBJECT = IMAGE_MAP_PROJECTION
/* The JPEG2000 image data file associated with this label. */
OBJECT = COMPRESSED_FILE
  FILE_NAME = "HF771_0017_SR3.JP2"
  RECORD_TYPE = UNDEFINED
  FILE_RECORDS = UNK
  ENCODING_TYPE = "JP2"
  INTERCHANGE_FORMAT = BINARY
  UNCOMPRESSED_FILE_NAME = "HF771_0017_SR3.IMG"
  REQUIRED_STORAGE_BYTES = "1658919"
  ^DESCRIPTION = "JP2INFO.TXT"
END_OBJECT = COMPRESSED_FILE
END
