PDS_VERSION_ID = PDS3
/* FILE DATA ELEMENTS */
RECORD_TYPE = STREAM
/* POINTERS TO DATA OBJECTS */
^COMPRESSED_FILE = "HF771_0020_SR3.JP2"
/* IDENTIFICATION DATA ELEMENTS */
DATA_SET_ID = "MEX-M-HRSC-5-REFDR-MAPPROJECTED-V3.0"
DATA_SET_NAME = "MARS EXPRESS HRSC MAP PROJECTED REFDR V3.0"
DETECTOR_ID = MEX_HRSC_SRC
EVENT_TYPE = "MARS-LOCAL-CARTOGRAPHY-Pf-Tc-Ts"
INSTRUMENT_HOST_ID = MEX
INSTRUMENT_HOST_NAME = "MARS EXPRESS"
INSTRUMENT_ID = HRSC
INSTRUMENT_NAME = "HIGH RESOLUTION STEREO CAMERA"
MISSION_NAME = "MARS EXPRESS"
MISSION_PHASE_NAME = ME_Phase_34
PROCESSING_LEVEL_ID = 3
PRODUCT_CREATION_TIME = 2016-11-08T12:40:53.000Z
PRODUCT_ID = "HF771_0020_SR3.JP2"
RELEASE_ID = 0133
REVISION_ID = 0000
/* QUALITY DATA ELEMENTS */
DATA_QUALITY_ID = 1
DATA_QUALITY_DESC = "Data calculated based on original SPICE kernels"
/* TIME DATA ELEMENTS */
SPACECRAFT_CLOCK_START_COUNT = "1/0413731562.09045"
SPACECRAFT_CLOCK_STOP_COUNT = "1/0413731769.52899"
IMAGE_TIME = 2016-06-11T13:27:51.180Z
START_TIME = 2016-06-11T13:27:51.178Z
STOP_TIME = 2016-06-11T13:27:51.183Z
/* ORBITAL DATA ELEMENTS */
ASCENDING_NODE_LONGITUDE = 277.61
MAXIMUM_RESOLUTION = 5.299
FOOTPRINT_POINT_LATITUDE = (69.3534,69.3568,69.3618,69.3653, 69.3685,69.3723,69.3753,69.3802,69.3832 ,69.3873,69.3899,69.3934,69.3967,69.402 ,69.4056,69.4081,69.4128,69.4174, 69.4204,69.424,69.4268,69.4302,69.4346, 69.4386,69.4391,69.4396,69.4399,69.4404 ,69.4409,69.4414,69.4418,69.4423, 69.4429,69.4433,69.4439,69.4443,69.4447 ,69.4452,69.4457,69.4461,69.4466,69.447 ,69.4475,69.448,69.4484,69.4489,69.4493 ,69.4498,69.4475,69.4436,69.4413, 69.4372,69.4347,69.4305,69.4272,69.4248 ,69.4214,69.419,69.4163,69.4134,69.4098 ,69.4074,69.4039,69.3997,69.3958, 69.3903,69.3866,69.3829,69.3782,69.3737 ,69.3698,69.3671,69.3639,69.3606, 69.3601,69.3597,69.3592,69.3588,69.3583 ,69.3578,69.3574,69.357,69.3566,69.3561 ,69.3558,69.3554,69.3551,69.3547, 69.3542,69.3537,69.3532,69.3525,69.3521 ,69.3517,69.3512,69.3508,69.3503,69.35, 69.3495,69.3534)
FOOTPRINT_POINT_LONGITUDE = (233.753,233.752,233.75,233.749,233.748 ,233.746,233.745,233.743,233.742, 233.741,233.74,233.738,233.737,233.735, 233.734,233.733,233.731,233.729,233.728 ,233.727,233.726,233.724,233.723, 233.727,233.737,233.747,233.755,233.765 ,233.775,233.785,233.795,233.805, 233.818,233.828,233.841,233.849,233.859 ,233.869,233.879,233.889,233.899,233.91 ,233.92,233.93,233.94,233.95,233.96, 233.971,233.978,233.98,233.98,233.982, 233.983,233.984,233.986,233.986,233.988 ,233.988,233.989,233.99,233.992,233.993 ,233.994,233.995,233.997,233.999,234.0, 234.002,234.003,234.005,234.006,234.007 ,234.008,234.002,233.992,233.981, 233.971,233.961,233.951,233.941,233.931 ,233.923,233.913,233.903,233.895, 233.888,233.88,233.873,233.86,233.85, 233.84,233.825,233.814,233.807,233.797, 233.787,233.777,233.769,233.759, 233.753)
ORBIT_NUMBER = 15771
ORBITAL_ECCENTRICITY = 0.575
ORBITAL_INCLINATION = 86.93
ORBITAL_SEMIMAJOR_AXIS = 8827.62
PERIAPSIS_ALTITUDE = 366.36
PERIAPSIS_ARGUMENT_ANGLE = 140.96
PERIAPSIS_TIME = 2016-06-11T13:36:01.000Z
SPACECRAFT_ORIENTATION = (0.0,-1.0,0.0)
^MEX_ORIENTATION_DESC = "MEX_ORIENTATION_DESC.TXT"
SPACECRAFT_POINTING_MODE = NADIR
^MEX_POINTING_DESC = "MEX_POINTING_DESC.TXT"
RIGHT_ASCENSION = -1e+32
DECLINATION = -1e+32
OFFSET_ANGLE = -1e+32
SPACECRAFT_SOLAR_DISTANCE = 2.23729e+08
TARGET_NAME = MARS
/* CAMERA DATA ELEMENTS */
BUFFER_MODE_ID = DIRECT
EXPOSURE_DURATION = 5.04
INST_CMPRS_NAME = "DISCRETE COSINE TRANSFORMATION (DCT)"
INST_CMPRS_RATIO = 21.4705
INST_CMPRS_QUALITY = 0
INST_CMPRS_QUANTZ_TBL_ID = 0
INSTRUMENT_TEMPERATURE = 8.18182
MISSING_FRAMES = 0
START_BIT = 0
/* RADIOMETRIC DATA ELEMENTS */
BANDWIDTH = 250.0
CENTER_FILTER_WAVELENGTH = 600.0
RADIANCE_OFFSET = -9.99e+31
RADIANCE_SCALING_FACTOR = -9.99e+31
REFLECTANCE_SCALING_FACTOR = -9.99e+31
MEX:REFLECTANCE_OFFSET = -9.99e+31
/* IMAGE OBJECT DEFINITIONS */
OBJECT = IMAGE
  INTERCHANGE_FORMAT = BINARY
  LINES = 1272
  LINE_SAMPLES = 1277
  SAMPLE_TYPE = UNSIGNED_INTEGER
  SAMPLE_BITS = 8
  BANDS = 1
  BAND_STORAGE_TYPE = BAND_SEQUENTIAL
  MAXIMUM = 241
  MEAN = 138.182
  MINIMUM = 31
  STANDARD_DEVIATION = 15.5913
END_OBJECT = IMAGE
/* MAP OBJECT DEFINITIONS */
OBJECT = IMAGE_MAP_PROJECTION
  ^DATA_SET_MAP_PROJECTION_CATALOG= "DSMAP.CAT"
  A_AXIS_RADIUS = 3396.19
  B_AXIS_RADIUS = 3396.19
  C_AXIS_RADIUS = 3396.19
  CENTER_LATITUDE = 0.0
  CENTER_LONGITUDE = 234.0
  COORDINATE_SYSTEM_NAME = PLANETOGRAPHIC
  COORDINATE_SYSTEM_TYPE = "BODY-FIXED ROTATING"
  EASTERNMOST_LONGITUDE = 234.008
  FIRST_STANDARD_PARALLEL = "N/A"
  LINE_FIRST_PIXEL = 1
  LINE_LAST_PIXEL = 1272
  LINE_PROJECTION_OFFSET = 821606.0
  MAP_PROJECTION_ROTATION = 0.0
  MAP_PROJECTION_TYPE = SINUSOIDAL
  MAP_RESOLUTION = 11854.9393024378
  MAP_SCALE = 0.005
  MAXIMUM_LATITUDE = 69.4498
  MINIMUM_LATITUDE = 69.34950000000001
  POSITIVE_LONGITUDE_DIRECTION = EAST
  REFERENCE_LATITUDE = "N/A"
  REFERENCE_LONGITUDE = "N/A"
  SAMPLE_FIRST_PIXEL = 1
  SAMPLE_LAST_PIXEL = 1277
  SAMPLE_PROJECTION_OFFSET = 1193.0
  SECOND_STANDARD_PARALLEL = "N/A"
  WESTERNMOST_LONGITUDE = 233.723
END_OBJECT = IMAGE_MAP_PROJECTION
/* The JPEG2000 image data file associated with this label. */
OBJECT = COMPRESSED_FILE
  FILE_NAME = "HF771_0020_SR3.JP2"
  RECORD_TYPE = UNDEFINED
  FILE_RECORDS = UNK
  ENCODING_TYPE = "JP2"
  INTERCHANGE_FORMAT = BINARY
  UNCOMPRESSED_FILE_NAME = "HF771_0020_SR3.IMG"
  REQUIRED_STORAGE_BYTES = "1643499"
  ^DESCRIPTION = "JP2INFO.TXT"
END_OBJECT = COMPRESSED_FILE
END
