PDS_VERSION_ID = PDS3
/* FILE DATA ELEMENTS */
RECORD_TYPE = STREAM
/* POINTERS TO DATA OBJECTS */
^COMPRESSED_FILE = "HF771_0042_SR3.JP2"
/* IDENTIFICATION DATA ELEMENTS */
DATA_SET_ID = "MEX-M-HRSC-5-REFDR-MAPPROJECTED-V3.0"
DATA_SET_NAME = "MARS EXPRESS HRSC MAP PROJECTED REFDR V3.0"
DETECTOR_ID = MEX_HRSC_SRC
EVENT_TYPE = "MARS-LOCAL-CARTOGRAPHY-Pf-Tc-Ts"
INSTRUMENT_HOST_ID = MEX
INSTRUMENT_HOST_NAME = "MARS EXPRESS"
INSTRUMENT_ID = HRSC
INSTRUMENT_NAME = "HIGH RESOLUTION STEREO CAMERA"
MISSION_NAME = "MARS EXPRESS"
MISSION_PHASE_NAME = ME_Phase_34
PROCESSING_LEVEL_ID = 3
PRODUCT_CREATION_TIME = 2016-11-08T12:40:53.000Z
PRODUCT_ID = "HF771_0042_SR3.JP2"
RELEASE_ID = 0133
REVISION_ID = 0000
/* QUALITY DATA ELEMENTS */
DATA_QUALITY_ID = 1
DATA_QUALITY_DESC = "Data calculated based on original SPICE kernels"
/* TIME DATA ELEMENTS */
SPACECRAFT_CLOCK_START_COUNT = "1/0413731562.09045"
SPACECRAFT_CLOCK_STOP_COUNT = "1/0413731769.52899"
IMAGE_TIME = 2016-06-11T13:28:15.161Z
START_TIME = 2016-06-11T13:28:15.159Z
STOP_TIME = 2016-06-11T13:28:15.164Z
/* ORBITAL DATA ELEMENTS */
ASCENDING_NODE_LONGITUDE = 277.61
MAXIMUM_RESOLUTION = 5.127
FOOTPRINT_POINT_LATITUDE = (67.9675,67.9721,67.9753,67.9803, 67.9826,67.9853,67.9879,67.9918,67.9948 ,67.9994,68.0019,68.0043,68.0071, 68.0125,68.0162,68.019,68.0221,68.0269, 68.03,68.0349,68.0392,68.0418,68.0454, 68.0489,68.0504,68.0507,68.0511,68.0515 ,68.0518,68.0522,68.0526,68.053,68.0534 ,68.0538,68.0542,68.0546,68.055,68.0554 ,68.0558,68.0562,68.0566,68.057,68.0574 ,68.0579,68.0583,68.0587,68.0591, 68.0595,68.0599,68.0603,68.0566,68.0543 ,68.0502,68.0474,68.0439,68.0399, 68.0358,68.0325,68.0286,68.0258,68.0214 ,68.0176,68.0127,68.0101,68.0075, 68.0046,68.0001,67.9943,67.9914,67.9874 ,67.983,67.9796,67.9753,67.9736,67.9732 ,67.9729,67.9726,67.9722,67.9718, 67.9714,67.971,67.9706,67.9703,67.9699, 67.9694,67.9691,67.9688,67.9684,67.9681 ,67.9676,67.9671,67.9666,67.9662, 67.9659,67.9655,67.9651,67.9647,67.9643 ,67.9639,67.9675)
FOOTPRINT_POINT_LONGITUDE = (234.235,234.233,234.232,234.231,234.23 ,234.229,234.228,234.227,234.226, 234.224,234.224,234.223,234.222,234.22, 234.219,234.218,234.217,234.215,234.214 ,234.213,234.211,234.211,234.209, 234.208,234.22,234.227,234.236,234.243, 234.25,234.259,234.268,234.278,234.287, 234.296,234.303,234.312,234.321,234.331 ,234.34,234.349,234.358,234.368,234.377 ,234.386,234.395,234.405,234.414, 234.423,234.432,234.441,234.442,234.443 ,234.444,234.445,234.446,234.447, 234.448,234.45,234.451,234.452,234.453, 234.454,234.456,234.457,234.457,234.458 ,234.46,234.461,234.462,234.464,234.465 ,234.466,234.467,234.461,234.451, 234.445,234.438,234.428,234.419,234.41, 234.401,234.392,234.385,234.375,234.366 ,234.359,234.352,234.343,234.336, 234.325,234.313,234.302,234.295,234.288 ,234.279,234.27,234.26,234.251,234.242, 234.235)
ORBIT_NUMBER = 15771
ORBITAL_ECCENTRICITY = 0.575
ORBITAL_INCLINATION = 86.93
ORBITAL_SEMIMAJOR_AXIS = 8827.62
PERIAPSIS_ALTITUDE = 366.36
PERIAPSIS_ARGUMENT_ANGLE = 140.96
PERIAPSIS_TIME = 2016-06-11T13:36:01.000Z
SPACECRAFT_ORIENTATION = (0.0,-1.0,0.0)
^MEX_ORIENTATION_DESC = "MEX_ORIENTATION_DESC.TXT"
SPACECRAFT_POINTING_MODE = NADIR
^MEX_POINTING_DESC = "MEX_POINTING_DESC.TXT"
RIGHT_ASCENSION = -1e+32
DECLINATION = -1e+32
OFFSET_ANGLE = -1e+32
SPACECRAFT_SOLAR_DISTANCE = 2.23729e+08
TARGET_NAME = MARS
/* CAMERA DATA ELEMENTS */
BUFFER_MODE_ID = DIRECT
EXPOSURE_DURATION = 5.04
INST_CMPRS_NAME = "DISCRETE COSINE TRANSFORMATION (DCT)"
INST_CMPRS_RATIO = 17.9291
INST_CMPRS_QUALITY = 0
INST_CMPRS_QUANTZ_TBL_ID = 0
INSTRUMENT_TEMPERATURE = 8.18182
MISSING_FRAMES = 0
START_BIT = 0
/* RADIOMETRIC DATA ELEMENTS */
BANDWIDTH = 250.0
CENTER_FILTER_WAVELENGTH = 600.0
RADIANCE_OFFSET = -9.99e+31
RADIANCE_SCALING_FACTOR = -9.99e+31
REFLECTANCE_SCALING_FACTOR = -9.99e+31
MEX:REFLECTANCE_OFFSET = -9.99e+31
/* IMAGE OBJECT DEFINITIONS */
OBJECT = IMAGE
  INTERCHANGE_FORMAT = BINARY
  LINES = 1222
  LINE_SAMPLES = 1235
  SAMPLE_TYPE = UNSIGNED_INTEGER
  SAMPLE_BITS = 8
  BANDS = 1
  BAND_STORAGE_TYPE = BAND_SEQUENTIAL
  MAXIMUM = 246
  MEAN = 136.746
  MINIMUM = 22
  STANDARD_DEVIATION = 15.7187
END_OBJECT = IMAGE
/* MAP OBJECT DEFINITIONS */
OBJECT = IMAGE_MAP_PROJECTION
  ^DATA_SET_MAP_PROJECTION_CATALOG= "DSMAP.CAT"
  A_AXIS_RADIUS = 3396.19
  B_AXIS_RADIUS = 3396.19
  C_AXIS_RADIUS = 3396.19
  CENTER_LATITUDE = 0.0
  CENTER_LONGITUDE = 234.0
  COORDINATE_SYSTEM_NAME = PLANETOGRAPHIC
  COORDINATE_SYSTEM_TYPE = "BODY-FIXED ROTATING"
  EASTERNMOST_LONGITUDE = 234.467
  FIRST_STANDARD_PARALLEL = "N/A"
  LINE_FIRST_PIXEL = 1
  LINE_LAST_PIXEL = 1222
  LINE_PROJECTION_OFFSET = 805213.0
  MAP_PROJECTION_ROTATION = 0.0
  MAP_PROJECTION_TYPE = SINUSOIDAL
  MAP_RESOLUTION = 11854.9393024378
  MAP_SCALE = 0.005
  MAXIMUM_LATITUDE = 68.0603
  MINIMUM_LATITUDE = 67.9639
  POSITIVE_LONGITUDE_DIRECTION = EAST
  REFERENCE_LATITUDE = "N/A"
  REFERENCE_LONGITUDE = "N/A"
  SAMPLE_FIRST_PIXEL = 1
  SAMPLE_LAST_PIXEL = 1235
  SAMPLE_PROJECTION_OFFSET = -879.0
  SECOND_STANDARD_PARALLEL = "N/A"
  WESTERNMOST_LONGITUDE = 234.208
END_OBJECT = IMAGE_MAP_PROJECTION
/* The JPEG2000 image data file associated with this label. */
OBJECT = COMPRESSED_FILE
  FILE_NAME = "HF771_0042_SR3.JP2"
  RECORD_TYPE = UNDEFINED
  FILE_RECORDS = UNK
  ENCODING_TYPE = "JP2"
  INTERCHANGE_FORMAT = BINARY
  UNCOMPRESSED_FILE_NAME = "HF771_0042_SR3.IMG"
  REQUIRED_STORAGE_BYTES = "1527695"
  ^DESCRIPTION = "JP2INFO.TXT"
END_OBJECT = COMPRESSED_FILE
END
