PDS_VERSION_ID = PDS3
/* FILE DATA ELEMENTS */
RECORD_TYPE = STREAM
/* POINTERS TO DATA OBJECTS */
^COMPRESSED_FILE = "HF771_0067_BL3.JP2"
/* IDENTIFICATION DATA ELEMENTS */
DATA_SET_ID = "MEX-M-HRSC-5-REFDR-MAPPROJECTED-V3.0"
DATA_SET_NAME = "MARS EXPRESS HRSC MAP PROJECTED REFDR V3.0"
DETECTOR_ID = MEX_HRSC_BLUE
EVENT_TYPE = "MARS-REGIONAL-MAPPING-Vo"
INSTRUMENT_HOST_ID = MEX
INSTRUMENT_HOST_NAME = "MARS EXPRESS"
INSTRUMENT_ID = HRSC
INSTRUMENT_NAME = "HIGH RESOLUTION STEREO CAMERA"
MISSION_NAME = "MARS EXPRESS"
MISSION_PHASE_NAME = ME_Phase_34
PROCESSING_LEVEL_ID = 3
PRODUCT_CREATION_TIME = 2016-11-08T12:40:53.000Z
PRODUCT_ID = "HF771_0067_BL3.JP2"
RELEASE_ID = 0133
REVISION_ID = 0000
/* QUALITY DATA ELEMENTS */
DATA_QUALITY_ID = 1
DATA_QUALITY_DESC = "Data calculated based on original SPICE kernels"
/* TIME DATA ELEMENTS */
SPACECRAFT_CLOCK_START_COUNT = "1/0413732109.07301"
SPACECRAFT_CLOCK_STOP_COUNT = "1/0413732303.14606"
START_TIME = 2016-06-11T13:35:55.698Z
STOP_TIME = 2016-06-11T13:37:59.910Z
/* ORBITAL DATA ELEMENTS */
ASCENDING_NODE_LONGITUDE = 277.61
MAXIMUM_RESOLUTION = 116.4
FOOTPRINT_POINT_LATITUDE = (39.7115,39.7082,39.7041,39.7002, 39.6965,39.6923,39.6148,39.4613,39.3078 ,39.1544,38.9241,38.6941,38.5407, 38.3105,38.1571,37.9269,37.6969,37.5435 ,37.3901,37.2369,37.0835,36.9302, 36.7769,36.5471,36.3938,36.2404,36.0874 ,35.9342,35.7811,35.628,35.4749,35.3218 ,35.1688,35.0159,34.863,34.71,34.5571, 34.2514,33.7932,33.5642,33.2935,33.1114 ,32.9295,32.7475,32.5655,32.3837,32.202 ,32.0204,31.8388,31.7137,31.7161,31.718 ,31.7194,31.7207,31.7218,31.7245, 31.9063,32.0883,32.2705,32.4523,32.6344 ,32.8166,33.0901,33.2724,33.4548, 33.6256,33.9314,34.0845,34.314,34.4671, 34.6202,34.7734,34.9266,35.0797,35.233, 35.3865,35.5398,35.6931,35.8465,36.0765 ,36.2299,36.3833,36.5368,36.6904, 36.9207,37.1511,37.3047,37.4582,37.6119 ,37.8424,37.996,38.1497,38.3033,38.5338 ,38.6875,38.8413,39.072,39.3026,39.4563 ,39.7115)
FOOTPRINT_POINT_LONGITUDE = (238.243,237.956,237.669,237.428, 237.217,237.006,236.762,236.768,236.774 ,236.78,236.788,236.796,236.802,236.81, 236.816,236.824,236.831,236.836,236.841 ,236.846,236.851,236.855,236.86,236.867 ,236.871,236.876,236.88,236.884,236.888 ,236.892,236.896,236.899,236.903, 236.907,236.91,236.914,236.917,236.924, 236.933,236.937,236.942,236.945,236.948 ,236.951,236.955,236.957,236.96,236.963 ,236.965,237.136,237.364,237.577, 237.776,237.99,238.232,238.483,238.482, 238.48,238.479,238.477,238.475,238.473, 238.471,238.469,238.467,238.465,238.462 ,238.461,238.458,238.457,238.455, 238.453,238.452,238.45,238.448,238.447, 238.445,238.443,238.442,238.439,238.437 ,238.435,238.433,238.432,238.429, 238.426,238.424,238.422,238.42,238.417, 238.414,238.412,238.41,238.407,238.404, 238.402,238.399,238.395,238.393, 238.243)
ORBIT_NUMBER = 15771
ORBITAL_ECCENTRICITY = 0.575
ORBITAL_INCLINATION = 86.93
ORBITAL_SEMIMAJOR_AXIS = 8827.62
PERIAPSIS_ALTITUDE = 366.36
PERIAPSIS_ARGUMENT_ANGLE = 140.96
PERIAPSIS_TIME = 2016-06-11T13:36:01.000Z
SPACECRAFT_ORIENTATION = (0.0,-1.0,0.0)
^MEX_ORIENTATION_DESC = "MEX_ORIENTATION_DESC.TXT"
SPACECRAFT_POINTING_MODE = NADIR
^MEX_POINTING_DESC = "MEX_POINTING_DESC.TXT"
RIGHT_ASCENSION = -1e+32
DECLINATION = -1e+32
OFFSET_ANGLE = -1e+32
SPACECRAFT_SOLAR_DISTANCE = 2.23729e+08
TARGET_NAME = MARS
/* CAMERA DATA ELEMENTS */
DETECTOR_TEMPERATURE = 19.39
FOCAL_PLANE_TEMPERATURE = 8.1755
INST_CMPRS_NAME = "DISCRETE COSINE TRANSFORMATION (DCT)"
INST_CMPRS_RATIO = 9.02017
INST_CMPRS_QUALITY = 0
INST_CMPRS_QUANTZ_TBL_ID = 0
INSTRUMENT_TEMPERATURE = 13.0691
LENS_TEMPERATURE = 8.5833
MACROPIXEL_SIZE = 8
MISSING_FRAMES = 0
PIXEL_SUBSAMPLING_FLAG = N
SIGNAL_CHAIN_ID = 2
/* RADIOMETRIC DATA ELEMENTS */
BANDWIDTH = 76.0
CENTER_FILTER_WAVELENGTH = 444.0
RADIANCE_OFFSET = 0.196348
RADIANCE_SCALING_FACTOR = 0.00316797
REFLECTANCE_SCALING_FACTOR = 0.000162922
MEX:REFLECTANCE_OFFSET = 0.0100978
/* IMAGE OBJECT DEFINITIONS */
OBJECT = IMAGE
  INTERCHANGE_FORMAT = BINARY
  LINES = 4747
  LINE_SAMPLES = 856
  SAMPLE_TYPE = UNSIGNED_INTEGER
  SAMPLE_BITS = 8
  BANDS = 1
  BAND_STORAGE_TYPE = BAND_SEQUENTIAL
  MAXIMUM = 255
  MEAN = 128.902
  MINIMUM = 1
  STANDARD_DEVIATION = 12.6595
END_OBJECT = IMAGE
/* MAP OBJECT DEFINITIONS */
OBJECT = IMAGE_MAP_PROJECTION
  ^DATA_SET_MAP_PROJECTION_CATALOG= "DSMAP.CAT"
  A_AXIS_RADIUS = 3396.0
  B_AXIS_RADIUS = 3396.0
  C_AXIS_RADIUS = 3396.0
  CENTER_LATITUDE = 0.0
  CENTER_LONGITUDE = 238.0
  COORDINATE_SYSTEM_NAME = PLANETOGRAPHIC
  COORDINATE_SYSTEM_TYPE = "BODY-FIXED ROTATING"
  EASTERNMOST_LONGITUDE = 238.483
  FIRST_STANDARD_PARALLEL = "N/A"
  LINE_FIRST_PIXEL = 1
  LINE_LAST_PIXEL = 4747
  LINE_PROJECTION_OFFSET = 23552.8125
  MAP_PROJECTION_ROTATION = 0.0
  MAP_PROJECTION_TYPE = SINUSOIDAL
  MAP_RESOLUTION = 592.713803866667
  MAP_SCALE = 0.1
  MAXIMUM_LATITUDE = 39.7115
  MINIMUM_LATITUDE = 31.7137
  POSITIVE_LONGITUDE_DIRECTION = EAST
  REFERENCE_LATITUDE = "N/A"
  REFERENCE_LONGITUDE = "N/A"
  SAMPLE_FIRST_PIXEL = 1
  SAMPLE_LAST_PIXEL = 856
  SAMPLE_PROJECTION_OFFSET = 592.1875
  SECOND_STANDARD_PARALLEL = "N/A"
  WESTERNMOST_LONGITUDE = 236.762
END_OBJECT = IMAGE_MAP_PROJECTION
/* The JPEG2000 image data file associated with this label. */
OBJECT = COMPRESSED_FILE
  FILE_NAME = "HF771_0067_BL3.JP2"
  RECORD_TYPE = UNDEFINED
  FILE_RECORDS = UNK
  ENCODING_TYPE = "JP2"
  INTERCHANGE_FORMAT = BINARY
  UNCOMPRESSED_FILE_NAME = "HF771_0067_BL3.IMG"
  REQUIRED_STORAGE_BYTES = "4081408"
  ^DESCRIPTION = "JP2INFO.TXT"
END_OBJECT = COMPRESSED_FILE
END
