PDS_VERSION_ID = PDS3
/* FILE DATA ELEMENTS */
RECORD_TYPE = STREAM
/* POINTERS TO DATA OBJECTS */
^COMPRESSED_FILE = "HF771_0067_RE3.JP2"
/* IDENTIFICATION DATA ELEMENTS */
DATA_SET_ID = "MEX-M-HRSC-5-REFDR-MAPPROJECTED-V3.0"
DATA_SET_NAME = "MARS EXPRESS HRSC MAP PROJECTED REFDR V3.0"
DETECTOR_ID = MEX_HRSC_RED
EVENT_TYPE = "MARS-REGIONAL-MAPPING-Vo"
INSTRUMENT_HOST_ID = MEX
INSTRUMENT_HOST_NAME = "MARS EXPRESS"
INSTRUMENT_ID = HRSC
INSTRUMENT_NAME = "HIGH RESOLUTION STEREO CAMERA"
MISSION_NAME = "MARS EXPRESS"
MISSION_PHASE_NAME = ME_Phase_34
PROCESSING_LEVEL_ID = 3
PRODUCT_CREATION_TIME = 2016-11-08T12:40:53.000Z
PRODUCT_ID = "HF771_0067_RE3.JP2"
RELEASE_ID = 0133
REVISION_ID = 0000
/* QUALITY DATA ELEMENTS */
DATA_QUALITY_ID = 1
DATA_QUALITY_DESC = "Data calculated based on original SPICE kernels"
/* TIME DATA ELEMENTS */
SPACECRAFT_CLOCK_START_COUNT = "1/0413732109.07301"
SPACECRAFT_CLOCK_STOP_COUNT = "1/0413732303.14606"
START_TIME = 2016-06-11T13:36:17.497Z
STOP_TIME = 2016-06-11T13:38:22.644Z
/* ORBITAL DATA ELEMENTS */
ASCENDING_NODE_LONGITUDE = 277.61
MAXIMUM_RESOLUTION = 121.8
FOOTPRINT_POINT_LATITUDE = (39.6844,39.682,39.6786,39.6741,39.671, 39.6676,39.6901,39.5399,39.3902,39.2406 ,39.0908,38.867,38.643,38.4937,38.3439, 38.1194,37.8952,37.7461,37.597,37.4476, 37.2989,37.1498,37.0005,36.8518,36.6293 ,36.405,36.1816,35.9593,35.8107,35.6624 ,35.5139,35.3657,35.1434,34.9955, 34.8228,34.646,34.4697,34.2049,34.0285, 33.7648,33.5889,33.4134,33.2381,33.0627 ,32.8875,32.7116,32.5363,32.3615,32.187 ,31.9251,31.7504,31.7242,31.7263, 31.7274,31.7282,31.7295,31.8195,32.0818 ,32.2568,32.5195,32.6949,32.8702,33.134 ,33.31,33.4856,33.7492,33.9254,34.1903, 34.455,34.6314,34.8083,35.0596,35.2823, 35.4313,35.5798,35.7282,35.8768,36.0997 ,36.2481,36.3968,36.5457,36.695,36.9187 ,37.1425,37.2919,37.4408,37.5899, 37.7393,37.9637,38.1876,38.337,38.4865, 38.636,38.7858,38.9357,39.0858,39.3104, 39.4602,39.6104,39.6844)
FOOTPRINT_POINT_LONGITUDE = (238.171,237.973,237.714,237.41,237.212 ,237.015,236.749,236.755,236.761, 236.766,236.772,236.78,236.788,236.793, 236.798,236.806,236.813,236.818,236.822 ,236.827,236.832,236.836,236.841, 236.845,236.851,236.857,236.863,236.869 ,236.873,236.876,236.88,236.884,236.889 ,236.892,236.896,236.9,236.903,236.909, 236.912,236.917,236.92,236.923,236.926, 236.929,236.931,236.934,236.937,236.939 ,236.942,236.945,236.947,237.164, 237.484,237.731,237.935,238.27,238.497, 238.494,238.492,238.489,238.488,238.486 ,238.483,238.481,238.479,238.476, 238.474,238.471,238.468,238.466,238.464 ,238.46,238.458,238.456,238.454,238.452 ,238.451,238.448,238.445,238.443, 238.441,238.44,238.437,238.434,238.432, 238.429,238.427,238.425,238.422,238.418 ,238.416,238.413,238.411,238.409, 238.406,238.404,238.4,238.398,238.396, 238.171)
ORBIT_NUMBER = 15771
ORBITAL_ECCENTRICITY = 0.575
ORBITAL_INCLINATION = 86.93
ORBITAL_SEMIMAJOR_AXIS = 8827.62
PERIAPSIS_ALTITUDE = 366.36
PERIAPSIS_ARGUMENT_ANGLE = 140.96
PERIAPSIS_TIME = 2016-06-11T13:36:01.000Z
SPACECRAFT_ORIENTATION = (0.0,-1.0,0.0)
^MEX_ORIENTATION_DESC = "MEX_ORIENTATION_DESC.TXT"
SPACECRAFT_POINTING_MODE = NADIR
^MEX_POINTING_DESC = "MEX_POINTING_DESC.TXT"
RIGHT_ASCENSION = -1e+32
DECLINATION = -1e+32
OFFSET_ANGLE = -1e+32
SPACECRAFT_SOLAR_DISTANCE = 2.23729e+08
TARGET_NAME = MARS
/* CAMERA DATA ELEMENTS */
DETECTOR_TEMPERATURE = 20.4095
FOCAL_PLANE_TEMPERATURE = 8.1755
INST_CMPRS_NAME = "DISCRETE COSINE TRANSFORMATION (DCT)"
INST_CMPRS_RATIO = 6.2169
INST_CMPRS_QUALITY = 0
INST_CMPRS_QUANTZ_TBL_ID = 0
INSTRUMENT_TEMPERATURE = 13.0691
LENS_TEMPERATURE = 8.5833
MACROPIXEL_SIZE = 8
MISSING_FRAMES = 0
PIXEL_SUBSAMPLING_FLAG = N
SIGNAL_CHAIN_ID = 2
/* RADIOMETRIC DATA ELEMENTS */
BANDWIDTH = 48.0
CENTER_FILTER_WAVELENGTH = 748.0
RADIANCE_OFFSET = 0.495631
RADIANCE_SCALING_FACTOR = 0.00885943
REFLECTANCE_SCALING_FACTOR = 0.00101199
MEX:REFLECTANCE_OFFSET = 0.0566147
/* IMAGE OBJECT DEFINITIONS */
OBJECT = IMAGE
  INTERCHANGE_FORMAT = BINARY
  LINES = 4747
  LINE_SAMPLES = 856
  SAMPLE_TYPE = UNSIGNED_INTEGER
  SAMPLE_BITS = 8
  BANDS = 1
  BAND_STORAGE_TYPE = BAND_SEQUENTIAL
  MAXIMUM = 255
  MEAN = 128.281
  MINIMUM = 1
  STANDARD_DEVIATION = 12.2551
END_OBJECT = IMAGE
/* MAP OBJECT DEFINITIONS */
OBJECT = IMAGE_MAP_PROJECTION
  ^DATA_SET_MAP_PROJECTION_CATALOG= "DSMAP.CAT"
  A_AXIS_RADIUS = 3396.0
  B_AXIS_RADIUS = 3396.0
  C_AXIS_RADIUS = 3396.0
  CENTER_LATITUDE = 0.0
  CENTER_LONGITUDE = 238.0
  COORDINATE_SYSTEM_NAME = PLANETOGRAPHIC
  COORDINATE_SYSTEM_TYPE = "BODY-FIXED ROTATING"
  EASTERNMOST_LONGITUDE = 238.497
  FIRST_STANDARD_PARALLEL = "N/A"
  LINE_FIRST_PIXEL = 1
  LINE_LAST_PIXEL = 4747
  LINE_PROJECTION_OFFSET = 23552.8125
  MAP_PROJECTION_ROTATION = 0.0
  MAP_PROJECTION_TYPE = SINUSOIDAL
  MAP_RESOLUTION = 592.713803866667
  MAP_SCALE = 0.1
  MAXIMUM_LATITUDE = 39.6901
  MINIMUM_LATITUDE = 31.7242
  POSITIVE_LONGITUDE_DIRECTION = EAST
  REFERENCE_LATITUDE = "N/A"
  REFERENCE_LONGITUDE = "N/A"
  SAMPLE_FIRST_PIXEL = 1
  SAMPLE_LAST_PIXEL = 856
  SAMPLE_PROJECTION_OFFSET = 592.1875
  SECOND_STANDARD_PARALLEL = "N/A"
  WESTERNMOST_LONGITUDE = 236.749
END_OBJECT = IMAGE_MAP_PROJECTION
/* The JPEG2000 image data file associated with this label. */
OBJECT = COMPRESSED_FILE
  FILE_NAME = "HF771_0067_RE3.JP2"
  RECORD_TYPE = UNDEFINED
  FILE_RECORDS = UNK
  ENCODING_TYPE = "JP2"
  INTERCHANGE_FORMAT = BINARY
  UNCOMPRESSED_FILE_NAME = "HF771_0067_RE3.IMG"
  REQUIRED_STORAGE_BYTES = "4081408"
  ^DESCRIPTION = "JP2INFO.TXT"
END_OBJECT = COMPRESSED_FILE
END
