PDS_VERSION_ID = PDS3
/* FILE DATA ELEMENTS */
RECORD_TYPE = STREAM
/* POINTERS TO DATA OBJECTS */
^COMPRESSED_FILE = "HF772_0006_SR3.JP2"
/* IDENTIFICATION DATA ELEMENTS */
DATA_SET_ID = "MEX-M-HRSC-5-REFDR-MAPPROJECTED-V3.0"
DATA_SET_NAME = "MARS EXPRESS HRSC MAP PROJECTED REFDR V3.0"
DETECTOR_ID = MEX_HRSC_SRC
EVENT_TYPE = "MARS-LOCAL-CARTOGRAPHY-Pf-Tc-Ts"
INSTRUMENT_HOST_ID = MEX
INSTRUMENT_HOST_NAME = "MARS EXPRESS"
INSTRUMENT_ID = HRSC
INSTRUMENT_NAME = "HIGH RESOLUTION STEREO CAMERA"
MISSION_NAME = "MARS EXPRESS"
MISSION_PHASE_NAME = ME_Phase_34
PROCESSING_LEVEL_ID = 3
PRODUCT_CREATION_TIME = 2016-11-08T12:40:53.000Z
PRODUCT_ID = "HF772_0006_SR3.JP2"
RELEASE_ID = 0133
REVISION_ID = 0000
/* QUALITY DATA ELEMENTS */
DATA_QUALITY_ID = 1
DATA_QUALITY_DESC = "Data calculated based on original SPICE kernels"
/* TIME DATA ELEMENTS */
SPACECRAFT_CLOCK_START_COUNT = "1/0413757148.08308"
SPACECRAFT_CLOCK_STOP_COUNT = "1/0413757275.58058"
IMAGE_TIME = 2016-06-11T20:33:27.223Z
START_TIME = 2016-06-11T20:33:27.221Z
STOP_TIME = 2016-06-11T20:33:27.226Z
/* ORBITAL DATA ELEMENTS */
ASCENDING_NODE_LONGITUDE = 277.59
MAXIMUM_RESOLUTION = 3.592
FOOTPRINT_POINT_LATITUDE = (48.3783,48.3815,48.3834,48.3852,48.387 ,48.3892,48.3928,48.3947,48.3976,48.401 ,48.4031,48.4053,48.408,48.4107,48.4132 ,48.4162,48.4184,48.4211,48.4229, 48.4257,48.4283,48.4312,48.4331,48.4366 ,48.4387,48.4388,48.439,48.4391,48.4392 ,48.4393,48.4394,48.4395,48.4397, 48.4398,48.4399,48.44,48.4401,48.4402, 48.4404,48.4405,48.4406,48.4407,48.4408 ,48.4409,48.4411,48.4412,48.4413, 48.4414,48.4415,48.4409,48.4382,48.4365 ,48.4349,48.4322,48.4305,48.4285, 48.4258,48.4229,48.4209,48.4193,48.4167 ,48.4151,48.4128,48.4099,48.4067, 48.4043,48.4011,48.3988,48.3968,48.3949 ,48.3926,48.3893,48.3869,48.3832, 48.3808,48.3807,48.3806,48.3805,48.3803 ,48.3802,48.3801,48.38,48.3799,48.3798, 48.3796,48.3795,48.3794,48.3793,48.3792 ,48.379,48.3789,48.3788,48.3787,48.3786 ,48.3785,48.3783,48.3782,48.3781,48.378 ,48.3783)
FOOTPRINT_POINT_LONGITUDE = (134.171,134.17,134.17,134.17,134.17, 134.17,134.17,134.17,134.169,134.169, 134.169,134.169,134.169,134.168,134.168 ,134.168,134.168,134.168,134.167, 134.167,134.167,134.167,134.167,134.166 ,134.168,134.172,134.176,134.179, 134.183,134.187,134.19,134.194,134.198, 134.201,134.205,134.209,134.212,134.216 ,134.22,134.223,134.227,134.231,134.234 ,134.238,134.242,134.245,134.249, 134.253,134.256,134.259,134.259,134.259 ,134.259,134.259,134.26,134.26,134.26, 134.26,134.26,134.26,134.261,134.261, 134.261,134.261,134.261,134.261,134.262 ,134.262,134.262,134.262,134.262, 134.263,134.263,134.263,134.261,134.258 ,134.254,134.25,134.247,134.243,134.239 ,134.236,134.232,134.228,134.225, 134.221,134.217,134.214,134.21,134.206, 134.203,134.199,134.195,134.192,134.188 ,134.184,134.18,134.177,134.173, 134.171)
ORBIT_NUMBER = 15772
ORBITAL_ECCENTRICITY = 0.574
ORBITAL_INCLINATION = 86.92
ORBITAL_SEMIMAJOR_AXIS = 8823.44
PERIAPSIS_ALTITUDE = 367.33
PERIAPSIS_ARGUMENT_ANGLE = 140.83
PERIAPSIS_TIME = 2016-06-11T20:35:52.000Z
SPACECRAFT_ORIENTATION = (0.0,-1.0,0.0)
^MEX_ORIENTATION_DESC = "MEX_ORIENTATION_DESC.TXT"
SPACECRAFT_POINTING_MODE = ACROSSTRACK
^MEX_POINTING_DESC = "MEX_POINTING_DESC.TXT"
RIGHT_ASCENSION = -1e+32
DECLINATION = -1e+32
OFFSET_ANGLE = -0.405
SPACECRAFT_SOLAR_DISTANCE = 2.23672e+08
TARGET_NAME = MARS
/* CAMERA DATA ELEMENTS */
BUFFER_MODE_ID = DIRECT
EXPOSURE_DURATION = 5.04
INST_CMPRS_NAME = "DISCRETE COSINE TRANSFORMATION (DCT)"
INST_CMPRS_RATIO = 19.2011
INST_CMPRS_QUALITY = 0
INST_CMPRS_QUANTZ_TBL_ID = 0
INSTRUMENT_TEMPERATURE = 6.94382
MISSING_FRAMES = 0
START_BIT = 0
/* RADIOMETRIC DATA ELEMENTS */
BANDWIDTH = 250.0
CENTER_FILTER_WAVELENGTH = 600.0
RADIANCE_OFFSET = -9.99e+31
RADIANCE_SCALING_FACTOR = -9.99e+31
REFLECTANCE_SCALING_FACTOR = -9.99e+31
MEX:REFLECTANCE_OFFSET = -9.99e+31
/* IMAGE OBJECT DEFINITIONS */
OBJECT = IMAGE
  INTERCHANGE_FORMAT = BINARY
  LINES = 1594
  LINE_SAMPLES = 1613
  SAMPLE_TYPE = UNSIGNED_INTEGER
  SAMPLE_BITS = 8
  BANDS = 1
  BAND_STORAGE_TYPE = BAND_SEQUENTIAL
  MAXIMUM = 244
  MEAN = 143.54
  MINIMUM = 6
  STANDARD_DEVIATION = 16.5302
END_OBJECT = IMAGE
/* MAP OBJECT DEFINITIONS */
OBJECT = IMAGE_MAP_PROJECTION
  ^DATA_SET_MAP_PROJECTION_CATALOG= "DSMAP.CAT"
  A_AXIS_RADIUS = 3396.19
  B_AXIS_RADIUS = 3396.19
  C_AXIS_RADIUS = 3396.19
  CENTER_LATITUDE = 0.0
  CENTER_LONGITUDE = 134.0
  COORDINATE_SYSTEM_NAME = PLANETOGRAPHIC
  COORDINATE_SYSTEM_TYPE = "BODY-FIXED ROTATING"
  EASTERNMOST_LONGITUDE = 134.263
  FIRST_STANDARD_PARALLEL = "N/A"
  LINE_FIRST_PIXEL = 1
  LINE_LAST_PIXEL = 1594
  LINE_PROJECTION_OFFSET = 1147177.0
  MAP_PROJECTION_ROTATION = 0.0
  MAP_PROJECTION_TYPE = SINUSOIDAL
  MAP_RESOLUTION = 23709.8786048756
  MAP_SCALE = 0.0025
  MAXIMUM_LATITUDE = 48.4415
  MINIMUM_LATITUDE = 48.378
  POSITIVE_LONGITUDE_DIRECTION = EAST
  REFERENCE_LATITUDE = "N/A"
  REFERENCE_LONGITUDE = "N/A"
  SAMPLE_FIRST_PIXEL = 1
  SAMPLE_LAST_PIXEL = 1613
  SAMPLE_PROJECTION_OFFSET = -2251.0
  SECOND_STANDARD_PARALLEL = "N/A"
  WESTERNMOST_LONGITUDE = 134.166
END_OBJECT = IMAGE_MAP_PROJECTION
/* The JPEG2000 image data file associated with this label. */
OBJECT = COMPRESSED_FILE
  FILE_NAME = "HF772_0006_SR3.JP2"
  RECORD_TYPE = UNDEFINED
  FILE_RECORDS = UNK
  ENCODING_TYPE = "JP2"
  INTERCHANGE_FORMAT = BINARY
  UNCOMPRESSED_FILE_NAME = "HF772_0006_SR3.IMG"
  REQUIRED_STORAGE_BYTES = "2590478"
  ^DESCRIPTION = "JP2INFO.TXT"
END_OBJECT = COMPRESSED_FILE
END
