PDS_VERSION_ID = PDS3
/* FILE DATA ELEMENTS */
RECORD_TYPE = STREAM
/* POINTERS TO DATA OBJECTS */
^COMPRESSED_FILE = "HF772_0015_SR3.JP2"
/* IDENTIFICATION DATA ELEMENTS */
DATA_SET_ID = "MEX-M-HRSC-5-REFDR-MAPPROJECTED-V3.0"
DATA_SET_NAME = "MARS EXPRESS HRSC MAP PROJECTED REFDR V3.0"
DETECTOR_ID = MEX_HRSC_SRC
EVENT_TYPE = "MARS-LOCAL-CARTOGRAPHY-Pf-Tc-Ts"
INSTRUMENT_HOST_ID = MEX
INSTRUMENT_HOST_NAME = "MARS EXPRESS"
INSTRUMENT_ID = HRSC
INSTRUMENT_NAME = "HIGH RESOLUTION STEREO CAMERA"
MISSION_NAME = "MARS EXPRESS"
MISSION_PHASE_NAME = ME_Phase_34
PROCESSING_LEVEL_ID = 3
PRODUCT_CREATION_TIME = 2016-11-08T12:40:53.000Z
PRODUCT_ID = "HF772_0015_SR3.JP2"
RELEASE_ID = 0133
REVISION_ID = 0000
/* QUALITY DATA ELEMENTS */
DATA_QUALITY_ID = 1
DATA_QUALITY_DESC = "Data calculated based on original SPICE kernels"
/* TIME DATA ELEMENTS */
SPACECRAFT_CLOCK_START_COUNT = "1/0413757148.08308"
SPACECRAFT_CLOCK_STOP_COUNT = "1/0413757275.58058"
IMAGE_TIME = 2016-06-11T20:33:32.129Z
START_TIME = 2016-06-11T20:33:32.126Z
STOP_TIME = 2016-06-11T20:33:32.131Z
/* ORBITAL DATA ELEMENTS */
ASCENDING_NODE_LONGITUDE = 277.59
MAXIMUM_RESOLUTION = 3.58
FOOTPRINT_POINT_LATITUDE = (48.0657,48.0692,48.0712,48.074,48.0765 ,48.0786,48.0806,48.083,48.0857,48.0874 ,48.0898,48.0914,48.0933,48.0958, 48.0985,48.101,48.1044,48.1073,48.1095, 48.1113,48.1131,48.1152,48.1185,48.1215 ,48.1242,48.1259,48.126,48.1261,48.1262 ,48.1263,48.1264,48.1265,48.1267, 48.1268,48.1269,48.127,48.1271,48.1272, 48.1273,48.1275,48.1276,48.1277,48.1278 ,48.1279,48.128,48.1281,48.1283,48.1284 ,48.1285,48.1286,48.1287,48.1261, 48.1228,48.121,48.1181,48.115,48.1123, 48.1086,48.1056,48.1034,48.1005,48.0988 ,48.0965,48.0949,48.092,48.09,48.0883, 48.086,48.0826,48.0807,48.0772,48.0743, 48.0722,48.0691,48.0681,48.068,48.0679, 48.0678,48.0677,48.0675,48.0674,48.0673 ,48.0672,48.0671,48.067,48.0668,48.0667 ,48.0666,48.0665,48.0664,48.0663, 48.0662,48.066,48.0659,48.0658,48.0657, 48.0656,48.0655,48.0653,48.0657)
FOOTPRINT_POINT_LONGITUDE = (134.193,134.193,134.193,134.193, 134.192,134.192,134.192,134.192,134.192 ,134.192,134.191,134.191,134.191, 134.191,134.191,134.191,134.19,134.19, 134.19,134.19,134.19,134.19,134.189, 134.189,134.189,134.19,134.194,134.197, 134.201,134.204,134.208,134.212,134.215 ,134.219,134.223,134.226,134.23,134.234 ,134.237,134.241,134.245,134.248, 134.252,134.255,134.259,134.263,134.266 ,134.27,134.274,134.277,134.281,134.281 ,134.281,134.281,134.281,134.282, 134.282,134.282,134.282,134.282,134.283 ,134.283,134.283,134.283,134.283, 134.283,134.283,134.284,134.284,134.284 ,134.284,134.284,134.285,134.285, 134.283,134.279,134.276,134.272,134.268 ,134.265,134.261,134.257,134.254,134.25 ,134.247,134.243,134.239,134.236, 134.232,134.228,134.225,134.221,134.217 ,134.214,134.21,134.207,134.203,134.199 ,134.196,134.193)
ORBIT_NUMBER = 15772
ORBITAL_ECCENTRICITY = 0.574
ORBITAL_INCLINATION = 86.92
ORBITAL_SEMIMAJOR_AXIS = 8823.44
PERIAPSIS_ALTITUDE = 367.33
PERIAPSIS_ARGUMENT_ANGLE = 140.83
PERIAPSIS_TIME = 2016-06-11T20:35:52.000Z
SPACECRAFT_ORIENTATION = (0.0,-1.0,0.0)
^MEX_ORIENTATION_DESC = "MEX_ORIENTATION_DESC.TXT"
SPACECRAFT_POINTING_MODE = ACROSSTRACK
^MEX_POINTING_DESC = "MEX_POINTING_DESC.TXT"
RIGHT_ASCENSION = -1e+32
DECLINATION = -1e+32
OFFSET_ANGLE = -0.405
SPACECRAFT_SOLAR_DISTANCE = 2.23672e+08
TARGET_NAME = MARS
/* CAMERA DATA ELEMENTS */
BUFFER_MODE_ID = DIRECT
EXPOSURE_DURATION = 5.04
INST_CMPRS_NAME = "DISCRETE COSINE TRANSFORMATION (DCT)"
INST_CMPRS_RATIO = 18.621
INST_CMPRS_QUALITY = 0
INST_CMPRS_QUANTZ_TBL_ID = 0
INSTRUMENT_TEMPERATURE = 7.05993
MISSING_FRAMES = 0
START_BIT = 0
/* RADIOMETRIC DATA ELEMENTS */
BANDWIDTH = 250.0
CENTER_FILTER_WAVELENGTH = 600.0
RADIANCE_OFFSET = -9.99e+31
RADIANCE_SCALING_FACTOR = -9.99e+31
REFLECTANCE_SCALING_FACTOR = -9.99e+31
MEX:REFLECTANCE_OFFSET = -9.99e+31
/* IMAGE OBJECT DEFINITIONS */
OBJECT = IMAGE
  INTERCHANGE_FORMAT = BINARY
  LINES = 1588
  LINE_SAMPLES = 1607
  SAMPLE_TYPE = UNSIGNED_INTEGER
  SAMPLE_BITS = 8
  BANDS = 1
  BAND_STORAGE_TYPE = BAND_SEQUENTIAL
  MAXIMUM = 246
  MEAN = 127.973
  MINIMUM = 12
  STANDARD_DEVIATION = 19.4037
END_OBJECT = IMAGE
/* MAP OBJECT DEFINITIONS */
OBJECT = IMAGE_MAP_PROJECTION
  ^DATA_SET_MAP_PROJECTION_CATALOG= "DSMAP.CAT"
  A_AXIS_RADIUS = 3396.19
  B_AXIS_RADIUS = 3396.19
  C_AXIS_RADIUS = 3396.19
  CENTER_LATITUDE = 0.0
  CENTER_LONGITUDE = 134.0
  COORDINATE_SYSTEM_NAME = PLANETOGRAPHIC
  COORDINATE_SYSTEM_TYPE = "BODY-FIXED ROTATING"
  EASTERNMOST_LONGITUDE = 134.285
  FIRST_STANDARD_PARALLEL = "N/A"
  LINE_FIRST_PIXEL = 1
  LINE_LAST_PIXEL = 1588
  LINE_PROJECTION_OFFSET = 1139783.0
  MAP_PROJECTION_ROTATION = 0.0
  MAP_PROJECTION_TYPE = SINUSOIDAL
  MAP_RESOLUTION = 23709.8786048756
  MAP_SCALE = 0.0025
  MAXIMUM_LATITUDE = 48.1287
  MINIMUM_LATITUDE = 48.0653
  POSITIVE_LONGITUDE_DIRECTION = EAST
  REFERENCE_LATITUDE = "N/A"
  REFERENCE_LONGITUDE = "N/A"
  SAMPLE_FIRST_PIXEL = 1
  SAMPLE_LAST_PIXEL = 1607
  SAMPLE_PROJECTION_OFFSET = -2626.0
  SECOND_STANDARD_PARALLEL = "N/A"
  WESTERNMOST_LONGITUDE = 134.189
END_OBJECT = IMAGE_MAP_PROJECTION
/* The JPEG2000 image data file associated with this label. */
OBJECT = COMPRESSED_FILE
  FILE_NAME = "HF772_0015_SR3.JP2"
  RECORD_TYPE = UNDEFINED
  FILE_RECORDS = UNK
  ENCODING_TYPE = "JP2"
  INTERCHANGE_FORMAT = BINARY
  UNCOMPRESSED_FILE_NAME = "HF772_0015_SR3.IMG"
  REQUIRED_STORAGE_BYTES = "2571200"
  ^DESCRIPTION = "JP2INFO.TXT"
END_OBJECT = COMPRESSED_FILE
END
