PDS_VERSION_ID = PDS3
/* FILE DATA ELEMENTS */
RECORD_TYPE = STREAM
/* POINTERS TO DATA OBJECTS */
^COMPRESSED_FILE = "HF772_0033_SR3.JP2"
/* IDENTIFICATION DATA ELEMENTS */
DATA_SET_ID = "MEX-M-HRSC-5-REFDR-MAPPROJECTED-V3.0"
DATA_SET_NAME = "MARS EXPRESS HRSC MAP PROJECTED REFDR V3.0"
DETECTOR_ID = MEX_HRSC_SRC
EVENT_TYPE = "MARS-LOCAL-CARTOGRAPHY-Pf-Tc-Ts"
INSTRUMENT_HOST_ID = MEX
INSTRUMENT_HOST_NAME = "MARS EXPRESS"
INSTRUMENT_ID = HRSC
INSTRUMENT_NAME = "HIGH RESOLUTION STEREO CAMERA"
MISSION_NAME = "MARS EXPRESS"
MISSION_PHASE_NAME = ME_Phase_34
PROCESSING_LEVEL_ID = 3
PRODUCT_CREATION_TIME = 2016-11-08T12:40:53.000Z
PRODUCT_ID = "HF772_0033_SR3.JP2"
RELEASE_ID = 0133
REVISION_ID = 0000
/* QUALITY DATA ELEMENTS */
DATA_QUALITY_ID = 1
DATA_QUALITY_DESC = "Data calculated based on original SPICE kernels"
/* TIME DATA ELEMENTS */
SPACECRAFT_CLOCK_START_COUNT = "1/0413757148.08308"
SPACECRAFT_CLOCK_STOP_COUNT = "1/0413757275.58058"
IMAGE_TIME = 2016-06-11T20:33:41.939Z
START_TIME = 2016-06-11T20:33:41.936Z
STOP_TIME = 2016-06-11T20:33:41.942Z
/* ORBITAL DATA ELEMENTS */
ASCENDING_NODE_LONGITUDE = 277.59
MAXIMUM_RESOLUTION = 3.557
FOOTPRINT_POINT_LATITUDE = (47.4409,47.4439,47.4457,47.4472, 47.4494,47.4513,47.4533,47.4558,47.4575 ,47.4601,47.4633,47.4661,47.4678, 47.4711,47.4744,47.4768,47.4798,47.4833 ,47.4856,47.4872,47.4897,47.4929, 47.4951,47.4968,47.4997,47.4998,47.4999 ,47.5,47.5001,47.5002,47.5003,47.5004, 47.5005,47.5007,47.5008,47.5009,47.501, 47.5011,47.5012,47.5013,47.5014,47.5015 ,47.5016,47.5018,47.5019,47.502,47.5021 ,47.5022,47.5023,47.502,47.4987,47.4959 ,47.4935,47.4918,47.4893,47.4871, 47.4855,47.4839,47.4807,47.4772,47.4748 ,47.4731,47.4704,47.4688,47.4653, 47.4631,47.4616,47.4592,47.4574,47.4557 ,47.4534,47.4501,47.4473,47.4443, 47.4422,47.4421,47.442,47.4419,47.4418, 47.4417,47.4416,47.4415,47.4413,47.4412 ,47.4411,47.441,47.4409,47.4408,47.4407 ,47.4406,47.4405,47.4403,47.4402, 47.4401,47.44,47.4399,47.4398,47.4397, 47.4396,47.4409)
FOOTPRINT_POINT_LONGITUDE = (134.237,134.236,134.236,134.236, 134.236,134.236,134.236,134.236,134.236 ,134.235,134.235,134.235,134.235, 134.235,134.234,134.234,134.234,134.234 ,134.233,134.233,134.233,134.233, 134.233,134.233,134.233,134.236,134.24, 134.243,134.247,134.25,134.254,134.258, 134.261,134.265,134.268,134.272,134.276 ,134.279,134.283,134.286,134.29,134.293 ,134.297,134.301,134.305,134.309, 134.312,134.316,134.319,134.323,134.323 ,134.323,134.323,134.323,134.323, 134.324,134.324,134.324,134.324,134.324 ,134.325,134.325,134.325,134.325, 134.325,134.325,134.325,134.326,134.326 ,134.326,134.326,134.326,134.326, 134.327,134.327,134.323,134.319,134.316 ,134.312,134.309,134.305,134.302, 134.297,134.294,134.29,134.286,134.283, 134.279,134.276,134.272,134.269,134.265 ,134.261,134.258,134.254,134.251, 134.247,134.244,134.24,134.237)
ORBIT_NUMBER = 15772
ORBITAL_ECCENTRICITY = 0.574
ORBITAL_INCLINATION = 86.92
ORBITAL_SEMIMAJOR_AXIS = 8823.44
PERIAPSIS_ALTITUDE = 367.33
PERIAPSIS_ARGUMENT_ANGLE = 140.83
PERIAPSIS_TIME = 2016-06-11T20:35:52.000Z
SPACECRAFT_ORIENTATION = (0.0,-1.0,0.0)
^MEX_ORIENTATION_DESC = "MEX_ORIENTATION_DESC.TXT"
SPACECRAFT_POINTING_MODE = ACROSSTRACK
^MEX_POINTING_DESC = "MEX_POINTING_DESC.TXT"
RIGHT_ASCENSION = -1e+32
DECLINATION = -1e+32
OFFSET_ANGLE = -0.405
SPACECRAFT_SOLAR_DISTANCE = 2.23672e+08
TARGET_NAME = MARS
/* CAMERA DATA ELEMENTS */
BUFFER_MODE_ID = DIRECT
EXPOSURE_DURATION = 5.04
INST_CMPRS_NAME = "DISCRETE COSINE TRANSFORMATION (DCT)"
INST_CMPRS_RATIO = 17.4953
INST_CMPRS_QUALITY = 0
INST_CMPRS_QUANTZ_TBL_ID = 0
INSTRUMENT_TEMPERATURE = 7.29215
MISSING_FRAMES = 0
START_BIT = 0
/* RADIOMETRIC DATA ELEMENTS */
BANDWIDTH = 250.0
CENTER_FILTER_WAVELENGTH = 600.0
RADIANCE_OFFSET = -9.99e+31
RADIANCE_SCALING_FACTOR = -9.99e+31
REFLECTANCE_SCALING_FACTOR = -9.99e+31
MEX:REFLECTANCE_OFFSET = -9.99e+31
/* IMAGE OBJECT DEFINITIONS */
OBJECT = IMAGE
  INTERCHANGE_FORMAT = BINARY
  LINES = 1575
  LINE_SAMPLES = 1595
  SAMPLE_TYPE = UNSIGNED_INTEGER
  SAMPLE_BITS = 8
  BANDS = 1
  BAND_STORAGE_TYPE = BAND_SEQUENTIAL
  MAXIMUM = 255
  MEAN = 133.951
  MINIMUM = 8
  STANDARD_DEVIATION = 17.5305
END_OBJECT = IMAGE
/* MAP OBJECT DEFINITIONS */
OBJECT = IMAGE_MAP_PROJECTION
  ^DATA_SET_MAP_PROJECTION_CATALOG= "DSMAP.CAT"
  A_AXIS_RADIUS = 3396.19
  B_AXIS_RADIUS = 3396.19
  C_AXIS_RADIUS = 3396.19
  CENTER_LATITUDE = 0.0
  CENTER_LONGITUDE = 134.0
  COORDINATE_SYSTEM_NAME = PLANETOGRAPHIC
  COORDINATE_SYSTEM_TYPE = "BODY-FIXED ROTATING"
  EASTERNMOST_LONGITUDE = 134.327
  FIRST_STANDARD_PARALLEL = "N/A"
  LINE_FIRST_PIXEL = 1
  LINE_LAST_PIXEL = 1575
  LINE_PROJECTION_OFFSET = 1124981.0
  MAP_PROJECTION_ROTATION = 0.0
  MAP_PROJECTION_TYPE = SINUSOIDAL
  MAP_RESOLUTION = 23709.8786048756
  MAP_SCALE = 0.0025
  MAXIMUM_LATITUDE = 47.5023
  MINIMUM_LATITUDE = 47.4396
  POSITIVE_LONGITUDE_DIRECTION = EAST
  REFERENCE_LATITUDE = "N/A"
  REFERENCE_LONGITUDE = "N/A"
  SAMPLE_FIRST_PIXEL = 1
  SAMPLE_LAST_PIXEL = 1595
  SAMPLE_PROJECTION_OFFSET = -3364.0
  SECOND_STANDARD_PARALLEL = "N/A"
  WESTERNMOST_LONGITUDE = 134.233
END_OBJECT = IMAGE_MAP_PROJECTION
/* The JPEG2000 image data file associated with this label. */
OBJECT = COMPRESSED_FILE
  FILE_NAME = "HF772_0033_SR3.JP2"
  RECORD_TYPE = UNDEFINED
  FILE_RECORDS = UNK
  ENCODING_TYPE = "JP2"
  INTERCHANGE_FORMAT = BINARY
  UNCOMPRESSED_FILE_NAME = "HF772_0033_SR3.IMG"
  REQUIRED_STORAGE_BYTES = "2531265"
  ^DESCRIPTION = "JP2INFO.TXT"
END_OBJECT = COMPRESSED_FILE
END
