PDS_VERSION_ID = PDS3
/* FILE DATA ELEMENTS */
RECORD_TYPE = STREAM
/* POINTERS TO DATA OBJECTS */
^COMPRESSED_FILE = "HF772_0039_SR3.JP2"
/* IDENTIFICATION DATA ELEMENTS */
DATA_SET_ID = "MEX-M-HRSC-5-REFDR-MAPPROJECTED-V3.0"
DATA_SET_NAME = "MARS EXPRESS HRSC MAP PROJECTED REFDR V3.0"
DETECTOR_ID = MEX_HRSC_SRC
EVENT_TYPE = "MARS-LOCAL-CARTOGRAPHY-Pf-Tc-Ts"
INSTRUMENT_HOST_ID = MEX
INSTRUMENT_HOST_NAME = "MARS EXPRESS"
INSTRUMENT_ID = HRSC
INSTRUMENT_NAME = "HIGH RESOLUTION STEREO CAMERA"
MISSION_NAME = "MARS EXPRESS"
MISSION_PHASE_NAME = ME_Phase_34
PROCESSING_LEVEL_ID = 3
PRODUCT_CREATION_TIME = 2016-11-08T12:40:53.000Z
PRODUCT_ID = "HF772_0039_SR3.JP2"
RELEASE_ID = 0133
REVISION_ID = 0000
/* QUALITY DATA ELEMENTS */
DATA_QUALITY_ID = 1
DATA_QUALITY_DESC = "Data calculated based on original SPICE kernels"
/* TIME DATA ELEMENTS */
SPACECRAFT_CLOCK_START_COUNT = "1/0413757148.08308"
SPACECRAFT_CLOCK_STOP_COUNT = "1/0413757275.58058"
IMAGE_TIME = 2016-06-11T20:33:45.209Z
START_TIME = 2016-06-11T20:33:45.207Z
STOP_TIME = 2016-06-11T20:33:45.212Z
/* ORBITAL DATA ELEMENTS */
ASCENDING_NODE_LONGITUDE = 277.59
MAXIMUM_RESOLUTION = 3.551
FOOTPRINT_POINT_LATITUDE = (47.2307,47.233,47.2356,47.2373,47.2393 ,47.241,47.2436,47.2468,47.2502,47.2532 ,47.2553,47.2583,47.2622,47.2654, 47.2687,47.2708,47.2725,47.2743,47.2766 ,47.2784,47.2805,47.283,47.2846,47.2868 ,47.2898,47.2909,47.291,47.2911,47.2912 ,47.2913,47.2914,47.2915,47.2916, 47.2918,47.2919,47.292,47.2921,47.2922, 47.2923,47.2924,47.2925,47.2926,47.2927 ,47.2928,47.2929,47.293,47.2932,47.2933 ,47.2934,47.2935,47.2905,47.2884, 47.2867,47.284,47.2817,47.2789,47.2763, 47.2745,47.2725,47.2709,47.2687,47.267, 47.2643,47.2622,47.2605,47.2589,47.256, 47.2522,47.2496,47.2462,47.2438,47.2419 ,47.2379,47.2351,47.2334,47.2333, 47.2332,47.2331,47.233,47.2329,47.2328, 47.2327,47.2326,47.2324,47.2323,47.2322 ,47.2321,47.232,47.2319,47.2318,47.2317 ,47.2316,47.2315,47.2314,47.2312, 47.2311,47.231,47.2309,47.2308,47.2307)
FOOTPRINT_POINT_LONGITUDE = (134.251,134.251,134.25,134.25,134.25, 134.25,134.25,134.25,134.249,134.249, 134.249,134.249,134.249,134.248,134.248 ,134.248,134.248,134.248,134.248, 134.248,134.247,134.247,134.247,134.247 ,134.247,134.251,134.255,134.258, 134.262,134.265,134.269,134.273,134.276 ,134.28,134.283,134.287,134.29,134.294, 134.297,134.301,134.305,134.308,134.312 ,134.315,134.319,134.322,134.326, 134.329,134.333,134.336,134.336,134.337 ,134.337,134.337,134.337,134.337, 134.337,134.337,134.338,134.338,134.338 ,134.338,134.338,134.338,134.338, 134.338,134.339,134.339,134.339,134.339 ,134.339,134.34,134.34,134.34,134.34, 134.337,134.333,134.329,134.326,134.322 ,134.319,134.315,134.312,134.308, 134.305,134.301,134.297,134.294,134.29, 134.287,134.283,134.28,134.276,134.273, 134.269,134.266,134.262,134.258,134.255 ,134.251)
ORBIT_NUMBER = 15772
ORBITAL_ECCENTRICITY = 0.574
ORBITAL_INCLINATION = 86.92
ORBITAL_SEMIMAJOR_AXIS = 8823.44
PERIAPSIS_ALTITUDE = 367.33
PERIAPSIS_ARGUMENT_ANGLE = 140.83
PERIAPSIS_TIME = 2016-06-11T20:35:52.000Z
SPACECRAFT_ORIENTATION = (0.0,-1.0,0.0)
^MEX_ORIENTATION_DESC = "MEX_ORIENTATION_DESC.TXT"
SPACECRAFT_POINTING_MODE = ACROSSTRACK
^MEX_POINTING_DESC = "MEX_POINTING_DESC.TXT"
RIGHT_ASCENSION = -1e+32
DECLINATION = -1e+32
OFFSET_ANGLE = -0.405
SPACECRAFT_SOLAR_DISTANCE = 2.23672e+08
TARGET_NAME = MARS
/* CAMERA DATA ELEMENTS */
BUFFER_MODE_ID = DIRECT
EXPOSURE_DURATION = 5.04
INST_CMPRS_NAME = "DISCRETE COSINE TRANSFORMATION (DCT)"
INST_CMPRS_RATIO = 17.0745
INST_CMPRS_QUALITY = 0
INST_CMPRS_QUANTZ_TBL_ID = 0
INSTRUMENT_TEMPERATURE = 7.36956
MISSING_FRAMES = 0
START_BIT = 0
/* RADIOMETRIC DATA ELEMENTS */
BANDWIDTH = 250.0
CENTER_FILTER_WAVELENGTH = 600.0
RADIANCE_OFFSET = -9.99e+31
RADIANCE_SCALING_FACTOR = -9.99e+31
REFLECTANCE_SCALING_FACTOR = -9.99e+31
MEX:REFLECTANCE_OFFSET = -9.99e+31
/* IMAGE OBJECT DEFINITIONS */
OBJECT = IMAGE
  INTERCHANGE_FORMAT = BINARY
  LINES = 1571
  LINE_SAMPLES = 1591
  SAMPLE_TYPE = UNSIGNED_INTEGER
  SAMPLE_BITS = 8
  BANDS = 1
  BAND_STORAGE_TYPE = BAND_SEQUENTIAL
  MAXIMUM = 248
  MEAN = 123.167
  MINIMUM = 9
  STANDARD_DEVIATION = 19.3767
END_OBJECT = IMAGE
/* MAP OBJECT DEFINITIONS */
OBJECT = IMAGE_MAP_PROJECTION
  ^DATA_SET_MAP_PROJECTION_CATALOG= "DSMAP.CAT"
  A_AXIS_RADIUS = 3396.19
  B_AXIS_RADIUS = 3396.19
  C_AXIS_RADIUS = 3396.19
  CENTER_LATITUDE = 0.0
  CENTER_LONGITUDE = 134.0
  COORDINATE_SYSTEM_NAME = PLANETOGRAPHIC
  COORDINATE_SYSTEM_TYPE = "BODY-FIXED ROTATING"
  EASTERNMOST_LONGITUDE = 134.34
  FIRST_STANDARD_PARALLEL = "N/A"
  LINE_FIRST_PIXEL = 1
  LINE_LAST_PIXEL = 1571
  LINE_PROJECTION_OFFSET = 1120043.0
  MAP_PROJECTION_ROTATION = 0.0
  MAP_PROJECTION_TYPE = SINUSOIDAL
  MAP_RESOLUTION = 23709.8786048756
  MAP_SCALE = 0.0025
  MAXIMUM_LATITUDE = 47.2935
  MINIMUM_LATITUDE = 47.2307
  POSITIVE_LONGITUDE_DIRECTION = EAST
  REFERENCE_LATITUDE = "N/A"
  REFERENCE_LONGITUDE = "N/A"
  SAMPLE_FIRST_PIXEL = 1
  SAMPLE_LAST_PIXEL = 1591
  SAMPLE_PROJECTION_OFFSET = -3609.0
  SECOND_STANDARD_PARALLEL = "N/A"
  WESTERNMOST_LONGITUDE = 134.247
END_OBJECT = IMAGE_MAP_PROJECTION
/* The JPEG2000 image data file associated with this label. */
OBJECT = COMPRESSED_FILE
  FILE_NAME = "HF772_0039_SR3.JP2"
  RECORD_TYPE = UNDEFINED
  FILE_RECORDS = UNK
  ENCODING_TYPE = "JP2"
  INTERCHANGE_FORMAT = BINARY
  UNCOMPRESSED_FILE_NAME = "HF772_0039_SR3.IMG"
  REQUIRED_STORAGE_BYTES = "2518553"
  ^DESCRIPTION = "JP2INFO.TXT"
END_OBJECT = COMPRESSED_FILE
END
