PDS_VERSION_ID = PDS3
/* FILE DATA ELEMENTS */
RECORD_TYPE = STREAM
/* POINTERS TO DATA OBJECTS */
^COMPRESSED_FILE = "HF772_0049_P13.JP2"
/* IDENTIFICATION DATA ELEMENTS */
DATA_SET_ID = "MEX-M-HRSC-5-REFDR-MAPPROJECTED-V3.0"
DATA_SET_NAME = "MARS EXPRESS HRSC MAP PROJECTED REFDR V3.0"
DETECTOR_ID = MEX_HRSC_P1
EVENT_TYPE = "MARS-LOCAL-CARTOGRAPHY-Tc-Ot"
INSTRUMENT_HOST_ID = MEX
INSTRUMENT_HOST_NAME = "MARS EXPRESS"
INSTRUMENT_ID = HRSC
INSTRUMENT_NAME = "HIGH RESOLUTION STEREO CAMERA"
MISSION_NAME = "MARS EXPRESS"
MISSION_PHASE_NAME = ME_Phase_34
PROCESSING_LEVEL_ID = 3
PRODUCT_CREATION_TIME = 2016-11-08T12:40:53.000Z
PRODUCT_ID = "HF772_0049_P13.JP2"
RELEASE_ID = 0133
REVISION_ID = 0000
/* QUALITY DATA ELEMENTS */
DATA_QUALITY_ID = 1
DATA_QUALITY_DESC = "Data calculated based on original SPICE kernels"
/* TIME DATA ELEMENTS */
SPACECRAFT_CLOCK_START_COUNT = "1/0413757824.08252"
SPACECRAFT_CLOCK_STOP_COUNT = "1/0413758023.39701"
START_TIME = 2016-06-11T20:44:09.804Z
STOP_TIME = 2016-06-11T20:45:08.361Z
/* ORBITAL DATA ELEMENTS */
ASCENDING_NODE_LONGITUDE = 277.59
MAXIMUM_RESOLUTION = 46.9
FOOTPRINT_POINT_LATITUDE = (6.00895,6.00961,6.01067,6.01123, 6.01175,6.01224,6.0127,6.01314,6.01355, 6.01391,6.01424,6.01454,6.0148,6.01502, 6.01519,6.01534,6.01545,6.01552,6.01555 ,6.01555,6.01551,6.01543,6.01531, 6.01516,6.01498,5.96678,5.8649,5.72767, 5.62488,5.48758,5.35044,5.21379,5.03961 ,4.93485,4.79546,4.69108,4.58667,4.4468 ,4.26999,4.16389,4.02275,3.84628, 3.70315,3.52397,3.34482,3.2019,3.09331, 2.94832,2.83959,2.76535,2.61918,2.47686 ,2.46859,2.46839,2.46762,2.46713, 2.46681,2.46645,2.46609,2.46571,2.46533 ,2.46477,2.46419,2.46352,2.46283, 2.46209,2.46121,2.46046,2.45962,2.45886 ,2.45823,2.45708,2.45613,2.45516, 2.45413,2.4531,2.5997,2.70884,2.85446, 3.00017,3.18225,3.32581,3.50552,3.68514 ,3.82887,3.9703,4.14722,4.28884,4.46607 ,4.60591,4.71045,4.81504,4.9546,5.09435 ,5.3022,5.40522,5.54273,5.71493,5.88685 ,6.00895)
FOOTPRINT_POINT_LONGITUDE = (135.833,135.756,135.622,135.545, 135.468,135.391,135.314,135.237,135.16, 135.083,135.006,134.928,134.851,134.774 ,134.696,134.619,134.541,134.464, 134.386,134.308,134.23,134.152,134.074, 133.996,133.917,133.822,133.818,133.813 ,133.81,133.804,133.799,133.794,133.788 ,133.783,133.778,133.774,133.77,133.764 ,133.757,133.753,133.747,133.74,133.734 ,133.727,133.719,133.713,133.709, 133.703,133.698,133.694,133.687,133.683 ,133.767,133.873,134.021,134.106, 134.191,134.275,134.36,134.444,134.529, 134.613,134.697,134.781,134.865,134.949 ,135.054,135.138,135.222,135.306, 135.389,135.494,135.577,135.661,135.745 ,135.828,135.856,135.855,135.854, 135.853,135.852,135.851,135.85,135.849, 135.848,135.848,135.847,135.846,135.845 ,135.844,135.843,135.843,135.842, 135.841,135.84,135.84,135.839,135.838, 135.837,135.833)
ORBIT_NUMBER = 15772
ORBITAL_ECCENTRICITY = 0.574
ORBITAL_INCLINATION = 86.92
ORBITAL_SEMIMAJOR_AXIS = 8823.44
PERIAPSIS_ALTITUDE = 367.33
PERIAPSIS_ARGUMENT_ANGLE = 140.83
PERIAPSIS_TIME = 2016-06-11T20:35:52.000Z
SPACECRAFT_ORIENTATION = (0.0,-1.0,0.0)
^MEX_ORIENTATION_DESC = "MEX_ORIENTATION_DESC.TXT"
SPACECRAFT_POINTING_MODE = ACROSSTRACK
^MEX_POINTING_DESC = "MEX_POINTING_DESC.TXT"
RIGHT_ASCENSION = -1e+32
DECLINATION = -1e+32
OFFSET_ANGLE = -0.405
SPACECRAFT_SOLAR_DISTANCE = 2.23672e+08
TARGET_NAME = MARS
/* CAMERA DATA ELEMENTS */
DETECTOR_TEMPERATURE = 20.2056
FOCAL_PLANE_TEMPERATURE = 9.8067
INST_CMPRS_NAME = "DISCRETE COSINE TRANSFORMATION (DCT)"
INST_CMPRS_RATIO = 11.3351
INST_CMPRS_QUALITY = 0
INST_CMPRS_QUANTZ_TBL_ID = 0
INSTRUMENT_TEMPERATURE = 13.8847
LENS_TEMPERATURE = 10.0106
MACROPIXEL_SIZE = 2
MISSING_FRAMES = 0
PIXEL_SUBSAMPLING_FLAG = N
SIGNAL_CHAIN_ID = 3
/* RADIOMETRIC DATA ELEMENTS */
BANDWIDTH = 174.0
CENTER_FILTER_WAVELENGTH = 675.0
RADIANCE_OFFSET = 3.59161
RADIANCE_SCALING_FACTOR = 0.0144241
REFLECTANCE_SCALING_FACTOR = 0.000388143
MEX:REFLECTANCE_OFFSET = 0.0966477
/* IMAGE OBJECT DEFINITIONS */
OBJECT = IMAGE
  INTERCHANGE_FORMAT = BINARY
  LINES = 4246
  LINE_SAMPLES = 2804
  SAMPLE_TYPE = UNSIGNED_INTEGER
  SAMPLE_BITS = 8
  BANDS = 1
  BAND_STORAGE_TYPE = BAND_SEQUENTIAL
  MAXIMUM = 255
  MEAN = 96.3154
  MINIMUM = 1
  STANDARD_DEVIATION = 15.6952
END_OBJECT = IMAGE
/* MAP OBJECT DEFINITIONS */
OBJECT = IMAGE_MAP_PROJECTION
  ^DATA_SET_MAP_PROJECTION_CATALOG= "DSMAP.CAT"
  A_AXIS_RADIUS = 3396.0
  B_AXIS_RADIUS = 3396.0
  C_AXIS_RADIUS = 3396.0
  CENTER_LATITUDE = 0.0
  CENTER_LONGITUDE = 135.0
  COORDINATE_SYSTEM_NAME = PLANETOGRAPHIC
  COORDINATE_SYSTEM_TYPE = "BODY-FIXED ROTATING"
  EASTERNMOST_LONGITUDE = 135.856
  FIRST_STANDARD_PARALLEL = "N/A"
  LINE_FIRST_PIXEL = 1
  LINE_LAST_PIXEL = 4246
  LINE_PROJECTION_OFFSET = 7162.25
  MAP_PROJECTION_ROTATION = 0.0
  MAP_PROJECTION_TYPE = SINUSOIDAL
  MAP_RESOLUTION = 1185.42760773333
  MAP_SCALE = 0.05
  MAXIMUM_LATITUDE = 6.01555
  MINIMUM_LATITUDE = 2.4531
  POSITIVE_LONGITUDE_DIRECTION = EAST
  REFERENCE_LATITUDE = "N/A"
  REFERENCE_LONGITUDE = "N/A"
  SAMPLE_FIRST_PIXEL = 1
  SAMPLE_LAST_PIXEL = 2804
  SAMPLE_PROJECTION_OFFSET = 1686.75
  SECOND_STANDARD_PARALLEL = "N/A"
  WESTERNMOST_LONGITUDE = 133.683
END_OBJECT = IMAGE_MAP_PROJECTION
/* The JPEG2000 image data file associated with this label. */
OBJECT = COMPRESSED_FILE
  FILE_NAME = "HF772_0049_P13.JP2"
  RECORD_TYPE = UNDEFINED
  FILE_RECORDS = UNK
  ENCODING_TYPE = "JP2"
  INTERCHANGE_FORMAT = BINARY
  UNCOMPRESSED_FILE_NAME = "HF772_0049_P13.IMG"
  REQUIRED_STORAGE_BYTES = "11928216"
  ^DESCRIPTION = "JP2INFO.TXT"
END_OBJECT = COMPRESSED_FILE
END
