PDS_VERSION_ID = PDS3
/* FILE DATA ELEMENTS */
RECORD_TYPE = STREAM
/* POINTERS TO DATA OBJECTS */
^COMPRESSED_FILE = "HF775_0000_P13.JP2"
/* IDENTIFICATION DATA ELEMENTS */
DATA_SET_ID = "MEX-M-HRSC-5-REFDR-MAPPROJECTED-V3.0"
DATA_SET_NAME = "MARS EXPRESS HRSC MAP PROJECTED REFDR V3.0"
DETECTOR_ID = MEX_HRSC_P1
EVENT_TYPE = "MARS-REGIONAL-MAPPING-Im-Pf"
INSTRUMENT_HOST_ID = MEX
INSTRUMENT_HOST_NAME = "MARS EXPRESS"
INSTRUMENT_ID = HRSC
INSTRUMENT_NAME = "HIGH RESOLUTION STEREO CAMERA"
MISSION_NAME = "MARS EXPRESS"
MISSION_PHASE_NAME = ME_Phase_34
PROCESSING_LEVEL_ID = 3
PRODUCT_CREATION_TIME = 2016-11-08T12:40:53.000Z
PRODUCT_ID = "HF775_0000_P13.JP2"
RELEASE_ID = 0133
REVISION_ID = 0000
/* QUALITY DATA ELEMENTS */
DATA_QUALITY_ID = 1
DATA_QUALITY_DESC = "Data calculated based on original SPICE kernels"
/* TIME DATA ELEMENTS */
SPACECRAFT_CLOCK_START_COUNT = "1/0413832638.09046"
SPACECRAFT_CLOCK_STOP_COUNT = "1/0413832853.25602"
START_TIME = 2016-06-12T17:31:00.035Z
STOP_TIME = 2016-06-12T17:33:22.271Z
/* ORBITAL DATA ELEMENTS */
ASCENDING_NODE_LONGITUDE = 277.53
MAXIMUM_RESOLUTION = 31.6
FOOTPRINT_POINT_LATITUDE = (54.1513,54.1388,54.1222,54.1067, 54.0896,54.0675,53.8075,53.6278,53.448, 53.268,53.0013,52.8255,52.6495,52.3854, 52.2088,51.9436,51.7668,51.505,51.1597, 50.8136,50.4671,50.2071,50.0334,49.8594 ,49.6851,49.5109,49.3365,49.1621, 48.9874,48.8127,48.6377,48.375,48.1122, 47.937,47.7612,47.5855,47.4096,47.1455, 46.9694,46.7931,46.6168,46.3519,46.1752 ,45.9984,45.8214,45.6443,45.4672, 45.2899,45.1927,45.2081,45.2177,45.2278 ,45.237,45.4182,45.596,45.7738,45.9515, 46.1291,46.3066,46.4839,46.661,46.8382, 47.0152,47.192,47.3687,47.5454,47.7219, 47.8983,48.0746,48.2506,48.4266,48.6905 ,48.8662,49.0418,49.2172,49.3925, 49.5676,49.7427,49.9176,50.0924,50.267, 50.4415,50.6159,50.9641,51.3119,51.6589 ,51.9237,52.1015,52.2792,52.4567,52.634 ,52.8112,52.9882,53.1651,53.3445, 53.5257,53.7068,53.8875,54.0682, 54.1513)
FOOTPRINT_POINT_LONGITUDE = (188.116,187.735,187.281,186.899, 186.516,186.06,185.875,185.902,185.929, 185.955,185.993,186.018,186.042,186.079 ,186.102,186.137,186.16,186.193,186.236 ,186.278,186.318,186.349,186.368, 186.388,186.406,186.425,186.444,186.462 ,186.48,186.498,186.516,186.542,186.567 ,186.584,186.601,186.617,186.633, 186.656,186.672,186.687,186.703,186.725 ,186.739,186.754,186.768,186.782, 186.796,186.809,187.171,187.598,187.894 ,188.245,188.614,188.726,188.722, 188.717,188.712,188.708,188.703,188.698 ,188.693,188.688,188.683,188.678, 188.673,188.668,188.663,188.657,188.652 ,188.646,188.641,188.633,188.627, 188.621,188.615,188.61,188.604,188.598, 188.592,188.586,188.579,188.573,188.567 ,188.554,188.541,188.527,188.517,188.51 ,188.502,188.495,188.488,188.48,188.472 ,188.465,188.457,188.449,188.441, 188.432,188.424,188.116)
ORBIT_NUMBER = 15775
ORBITAL_ECCENTRICITY = 0.574
ORBITAL_INCLINATION = 86.94
ORBITAL_SEMIMAJOR_AXIS = 8815.53
PERIAPSIS_ALTITUDE = 367.5
PERIAPSIS_ARGUMENT_ANGLE = 140.3
PERIAPSIS_TIME = 2016-06-12T17:35:12.000Z
SPACECRAFT_ORIENTATION = (0.0,-1.0,0.0)
^MEX_ORIENTATION_DESC = "MEX_ORIENTATION_DESC.TXT"
SPACECRAFT_POINTING_MODE = ACROSSTRACK
^MEX_POINTING_DESC = "MEX_POINTING_DESC.TXT"
RIGHT_ASCENSION = -1e+32
DECLINATION = -1e+32
OFFSET_ANGLE = -0.2
SPACECRAFT_SOLAR_DISTANCE = 2.23502e+08
TARGET_NAME = MARS
/* CAMERA DATA ELEMENTS */
DETECTOR_TEMPERATURE = 17.7588
FOCAL_PLANE_TEMPERATURE = 10.2145
INST_CMPRS_NAME = "DISCRETE COSINE TRANSFORMATION (DCT)"
INST_CMPRS_RATIO = 8.28727
INST_CMPRS_QUALITY = 0
INST_CMPRS_QUANTZ_TBL_ID = 0
INSTRUMENT_TEMPERATURE = 11.6418
LENS_TEMPERATURE = 9.195
MACROPIXEL_SIZE = 2
MISSING_FRAMES = 0
PIXEL_SUBSAMPLING_FLAG = N
SIGNAL_CHAIN_ID = 3
/* RADIOMETRIC DATA ELEMENTS */
BANDWIDTH = 174.0
CENTER_FILTER_WAVELENGTH = 675.0
RADIANCE_OFFSET = 2.56267
RADIANCE_SCALING_FACTOR = 0.0131027
REFLECTANCE_SCALING_FACTOR = 0.000352056
MEX:REFLECTANCE_OFFSET = 0.0688559
/* IMAGE OBJECT DEFINITIONS */
OBJECT = IMAGE
  INTERCHANGE_FORMAT = BINARY
  LINES = 21113
  LINE_SAMPLES = 4192
  SAMPLE_TYPE = UNSIGNED_INTEGER
  SAMPLE_BITS = 8
  BANDS = 1
  BAND_STORAGE_TYPE = BAND_SEQUENTIAL
  MAXIMUM = 255
  MEAN = 129.1
  MINIMUM = 1
  STANDARD_DEVIATION = 40.3327
END_OBJECT = IMAGE
/* MAP OBJECT DEFINITIONS */
OBJECT = IMAGE_MAP_PROJECTION
  ^DATA_SET_MAP_PROJECTION_CATALOG= "DSMAP.CAT"
  A_AXIS_RADIUS = 3396.0
  B_AXIS_RADIUS = 3396.0
  C_AXIS_RADIUS = 3396.0
  CENTER_LATITUDE = 0.0
  CENTER_LONGITUDE = 188.0
  COORDINATE_SYSTEM_NAME = PLANETOGRAPHIC
  COORDINATE_SYSTEM_TYPE = "BODY-FIXED ROTATING"
  EASTERNMOST_LONGITUDE = 188.726
  FIRST_STANDARD_PARALLEL = "N/A"
  LINE_FIRST_PIXEL = 1
  LINE_LAST_PIXEL = 21113
  LINE_PROJECTION_OFFSET = 128277.75
  MAP_PROJECTION_ROTATION = 0.0
  MAP_PROJECTION_TYPE = SINUSOIDAL
  MAP_RESOLUTION = 2370.85521546667
  MAP_SCALE = 0.025
  MAXIMUM_LATITUDE = 54.1513
  MINIMUM_LATITUDE = 45.1927
  POSITIVE_LONGITUDE_DIRECTION = EAST
  REFERENCE_LATITUDE = "N/A"
  REFERENCE_LONGITUDE = "N/A"
  SAMPLE_FIRST_PIXEL = 1
  SAMPLE_LAST_PIXEL = 4192
  SAMPLE_PROJECTION_OFFSET = 2987.75
  SECOND_STANDARD_PARALLEL = "N/A"
  WESTERNMOST_LONGITUDE = 185.875
END_OBJECT = IMAGE_MAP_PROJECTION
/* The JPEG2000 image data file associated with this label. */
OBJECT = COMPRESSED_FILE
  FILE_NAME = "HF775_0000_P13.JP2"
  RECORD_TYPE = UNDEFINED
  FILE_RECORDS = UNK
  ENCODING_TYPE = "JP2"
  INTERCHANGE_FORMAT = BINARY
  UNCOMPRESSED_FILE_NAME = "HF775_0000_P13.IMG"
  REQUIRED_STORAGE_BYTES = "88530848"
  ^DESCRIPTION = "JP2INFO.TXT"
END_OBJECT = COMPRESSED_FILE
END
