PDS_VERSION_ID = PDS3
/* FILE DATA ELEMENTS */
RECORD_TYPE = STREAM
/* POINTERS TO DATA OBJECTS */
^COMPRESSED_FILE = "HF775_0000_RE3.JP2"
/* IDENTIFICATION DATA ELEMENTS */
DATA_SET_ID = "MEX-M-HRSC-5-REFDR-MAPPROJECTED-V3.0"
DATA_SET_NAME = "MARS EXPRESS HRSC MAP PROJECTED REFDR V3.0"
DETECTOR_ID = MEX_HRSC_RED
EVENT_TYPE = "MARS-REGIONAL-MAPPING-Im-Pf"
INSTRUMENT_HOST_ID = MEX
INSTRUMENT_HOST_NAME = "MARS EXPRESS"
INSTRUMENT_ID = HRSC
INSTRUMENT_NAME = "HIGH RESOLUTION STEREO CAMERA"
MISSION_NAME = "MARS EXPRESS"
MISSION_PHASE_NAME = ME_Phase_34
PROCESSING_LEVEL_ID = 3
PRODUCT_CREATION_TIME = 2016-11-08T12:40:53.000Z
PRODUCT_ID = "HF775_0000_RE3.JP2"
RELEASE_ID = 0133
REVISION_ID = 0000
/* QUALITY DATA ELEMENTS */
DATA_QUALITY_ID = 1
DATA_QUALITY_DESC = "Data calculated based on original SPICE kernels"
/* TIME DATA ELEMENTS */
SPACECRAFT_CLOCK_START_COUNT = "1/0413832638.09046"
SPACECRAFT_CLOCK_STOP_COUNT = "1/0413832853.25602"
START_TIME = 2016-06-12T17:31:57.213Z
STOP_TIME = 2016-06-12T17:34:13.347Z
/* ORBITAL DATA ELEMENTS */
ASCENDING_NODE_LONGITUDE = 277.53
MAXIMUM_RESOLUTION = 63
FOOTPRINT_POINT_LATITUDE = (54.016,54.008,53.9998,53.9891,53.9787, 53.9675,53.6978,53.5219,53.3459,53.1698 ,52.9057,52.6414,52.4652,52.2009, 52.0248,51.7605,51.5843,51.4079,51.2317 ,50.9672,50.7909,50.6145,50.4382, 50.2616,50.0848,49.9086,49.6442,49.4678 ,49.2915,49.1151,48.9388,48.7624, 48.5862,48.3216,48.1452,47.9687,47.7043 ,47.5279,47.3517,47.1756,46.9992, 46.8229,46.6466,46.3824,46.2064,46.0301 ,45.7659,45.5897,45.2378,45.2216, 45.2266,45.2313,45.237,45.2406,45.2452, 45.5101,45.6867,45.8633,46.04,46.2166, 46.3933,46.5701,46.7469,46.9237,47.1007 ,47.2776,47.5429,47.7199,47.9853, 48.1623,48.3393,48.6049,48.7819,48.959, 49.2246,49.4019,49.5789,49.756,49.933, 50.1986,50.4642,50.6413,50.8185,50.9956 ,51.1727,51.3499,51.527,51.7926,51.9697 ,52.1469,52.3238,52.5008,52.6779, 52.9434,53.2089,53.3858,53.5626,53.7395 ,53.9164,54.016)
FOOTPRINT_POINT_LONGITUDE = (187.888,187.541,187.214,186.822, 186.473,186.122,185.953,185.978,186.003 ,186.027,186.063,186.098,186.121, 186.155,186.177,186.209,186.231,186.252 ,186.273,186.304,186.324,186.344, 186.363,186.382,186.402,186.42,186.448, 186.466,186.484,186.501,186.519,186.536 ,186.553,186.577,186.594,186.61,186.634 ,186.649,186.664,186.679,186.694, 186.709,186.723,186.744,186.758,186.772 ,186.792,186.805,186.831,187.149,187.43 ,187.711,188.096,188.375,188.712, 188.704,188.699,188.693,188.688,188.682 ,188.677,188.671,188.666,188.66,188.654 ,188.648,188.639,188.633,188.624, 188.618,188.611,188.602,188.595,188.589 ,188.579,188.572,188.565,188.558, 188.551,188.54,188.529,188.522,188.514, 188.506,188.499,188.491,188.483,188.471 ,188.463,188.455,188.446,188.438, 188.429,188.416,188.403,188.394,188.384 ,188.375,188.366,187.888)
ORBIT_NUMBER = 15775
ORBITAL_ECCENTRICITY = 0.574
ORBITAL_INCLINATION = 86.94
ORBITAL_SEMIMAJOR_AXIS = 8815.53
PERIAPSIS_ALTITUDE = 367.5
PERIAPSIS_ARGUMENT_ANGLE = 140.3
PERIAPSIS_TIME = 2016-06-12T17:35:12.000Z
SPACECRAFT_ORIENTATION = (0.0,-1.0,0.0)
^MEX_ORIENTATION_DESC = "MEX_ORIENTATION_DESC.TXT"
SPACECRAFT_POINTING_MODE = ACROSSTRACK
^MEX_POINTING_DESC = "MEX_POINTING_DESC.TXT"
RIGHT_ASCENSION = -1e+32
DECLINATION = -1e+32
OFFSET_ANGLE = -0.2
SPACECRAFT_SOLAR_DISTANCE = 2.23502e+08
TARGET_NAME = MARS
/* CAMERA DATA ELEMENTS */
DETECTOR_TEMPERATURE = 19.1861
FOCAL_PLANE_TEMPERATURE = 10.2145
INST_CMPRS_NAME = "DISCRETE COSINE TRANSFORMATION (DCT)"
INST_CMPRS_RATIO = 12.9315
INST_CMPRS_QUALITY = 0
INST_CMPRS_QUANTZ_TBL_ID = 0
INSTRUMENT_TEMPERATURE = 11.6418
LENS_TEMPERATURE = 9.195
MACROPIXEL_SIZE = 4
MISSING_FRAMES = 0
PIXEL_SUBSAMPLING_FLAG = N
SIGNAL_CHAIN_ID = 2
/* RADIOMETRIC DATA ELEMENTS */
BANDWIDTH = 48.0
CENTER_FILTER_WAVELENGTH = 748.0
RADIANCE_OFFSET = 0.693686
RADIANCE_SCALING_FACTOR = 0.00379063
REFLECTANCE_SCALING_FACTOR = 0.00043212
MEX:REFLECTANCE_OFFSET = 0.079078
/* IMAGE OBJECT DEFINITIONS */
OBJECT = IMAGE
  INTERCHANGE_FORMAT = BINARY
  LINES = 10557
  LINE_SAMPLES = 2096
  SAMPLE_TYPE = UNSIGNED_INTEGER
  SAMPLE_BITS = 8
  BANDS = 1
  BAND_STORAGE_TYPE = BAND_SEQUENTIAL
  MAXIMUM = 255
  MEAN = 132.318
  MINIMUM = 1
  STANDARD_DEVIATION = 43.4229
END_OBJECT = IMAGE
/* MAP OBJECT DEFINITIONS */
OBJECT = IMAGE_MAP_PROJECTION
  ^DATA_SET_MAP_PROJECTION_CATALOG= "DSMAP.CAT"
  A_AXIS_RADIUS = 3396.0
  B_AXIS_RADIUS = 3396.0
  C_AXIS_RADIUS = 3396.0
  CENTER_LATITUDE = 0.0
  CENTER_LONGITUDE = 188.0
  COORDINATE_SYSTEM_NAME = PLANETOGRAPHIC
  COORDINATE_SYSTEM_TYPE = "BODY-FIXED ROTATING"
  EASTERNMOST_LONGITUDE = 188.712
  FIRST_STANDARD_PARALLEL = "N/A"
  LINE_FIRST_PIXEL = 1
  LINE_LAST_PIXEL = 10557
  LINE_PROJECTION_OFFSET = 64138.625
  MAP_PROJECTION_ROTATION = 0.0
  MAP_PROJECTION_TYPE = SINUSOIDAL
  MAP_RESOLUTION = 1185.42760773333
  MAP_SCALE = 0.05
  MAXIMUM_LATITUDE = 54.016
  MINIMUM_LATITUDE = 45.2216
  POSITIVE_LONGITUDE_DIRECTION = EAST
  REFERENCE_LATITUDE = "N/A"
  REFERENCE_LONGITUDE = "N/A"
  SAMPLE_FIRST_PIXEL = 1
  SAMPLE_LAST_PIXEL = 2096
  SAMPLE_PROJECTION_OFFSET = 1493.625
  SECOND_STANDARD_PARALLEL = "N/A"
  WESTERNMOST_LONGITUDE = 185.953
END_OBJECT = IMAGE_MAP_PROJECTION
/* The JPEG2000 image data file associated with this label. */
OBJECT = COMPRESSED_FILE
  FILE_NAME = "HF775_0000_RE3.JP2"
  RECORD_TYPE = UNDEFINED
  FILE_RECORDS = UNK
  ENCODING_TYPE = "JP2"
  INTERCHANGE_FORMAT = BINARY
  UNCOMPRESSED_FILE_NAME = "HF775_0000_RE3.IMG"
  REQUIRED_STORAGE_BYTES = "22148432"
  ^DESCRIPTION = "JP2INFO.TXT"
END_OBJECT = COMPRESSED_FILE
END
