PDS_VERSION_ID = PDS3
/* FILE DATA ELEMENTS */
RECORD_TYPE = STREAM
/* POINTERS TO DATA OBJECTS */
^COMPRESSED_FILE = "HF777_0000_IR3.JP2"
/* IDENTIFICATION DATA ELEMENTS */
DATA_SET_ID = "MEX-M-HRSC-5-REFDR-MAPPROJECTED-V3.0"
DATA_SET_NAME = "MARS EXPRESS HRSC MAP PROJECTED REFDR V3.0"
DETECTOR_ID = MEX_HRSC_IR
EVENT_TYPE = "MARS-REGIONAL-MAPPING-Im-Gl-Pf"
INSTRUMENT_HOST_ID = MEX
INSTRUMENT_HOST_NAME = "MARS EXPRESS"
INSTRUMENT_ID = HRSC
INSTRUMENT_NAME = "HIGH RESOLUTION STEREO CAMERA"
MISSION_NAME = "MARS EXPRESS"
MISSION_PHASE_NAME = ME_Phase_34
PROCESSING_LEVEL_ID = 3
PRODUCT_CREATION_TIME = 2016-11-08T12:40:53.000Z
PRODUCT_ID = "HF777_0000_IR3.JP2"
RELEASE_ID = 0133
REVISION_ID = 0000
/* QUALITY DATA ELEMENTS */
DATA_QUALITY_ID = 1
DATA_QUALITY_DESC = "Data calculated based on original SPICE kernels"
/* TIME DATA ELEMENTS */
SPACECRAFT_CLOCK_START_COUNT = "1/0413883234.09032"
SPACECRAFT_CLOCK_STOP_COUNT = "1/0413883432.17426"
START_TIME = 2016-06-13T07:34:07.364Z
STOP_TIME = 2016-06-13T07:36:14.065Z
/* ORBITAL DATA ELEMENTS */
ASCENDING_NODE_LONGITUDE = 277.5
MAXIMUM_RESOLUTION = 62
FOOTPRINT_POINT_LATITUDE = (40.4872,40.4764,40.4648,40.4524, 40.4391,40.425,40.2642,40.1104,39.9567, 39.8028,39.6488,39.4951,39.341,39.1099, 38.9557,38.8014,38.57,38.4154,38.2609, 38.029,37.7973,37.5649,37.41,37.2552, 37.0231,36.8682,36.6361,36.4808,36.3256 ,36.093,35.9379,35.7825,35.5495,35.3941 ,35.2389,35.0834,34.928,34.7722,34.6166 ,34.3832,34.1139,33.9282,33.7423, 33.5563,33.3704,33.185,32.9986,32.7197, 32.4405,32.187,32.202,32.2115,32.2234, 32.2301,32.2394,32.2502,32.5338,32.7204 ,32.9067,33.0931,33.3728,33.559,33.8387 ,34.1177,34.304,34.4765,34.6324,34.7886 ,34.944,35.0999,35.2557,35.4895,35.6454 ,35.801,35.9567,36.19,36.3458,36.5011, 36.7339,36.8893,37.1223,37.3551,37.5879 ,37.743,37.9756,38.1307,38.2857,38.5182 ,38.6729,38.8278,38.9825,39.2147, 39.3695,39.5236,39.678,39.8324,39.9868, 40.1411,40.3725,40.4872)
FOOTPRINT_POINT_LONGITUDE = (343.421,343.175,342.927,342.677, 342.426,342.173,341.94,341.948,341.957, 341.966,341.974,341.983,341.991,342.004 ,342.012,342.02,342.032,342.039,342.047 ,342.058,342.069,342.079,342.086, 342.093,342.103,342.11,342.12,342.126, 342.133,342.142,342.148,342.154,342.163 ,342.168,342.174,342.18,342.185,342.19, 342.195,342.203,342.212,342.217,342.223 ,342.229,342.234,342.24,342.245,342.252 ,342.26,342.266,342.565,342.773,343.053 ,343.214,343.433,343.737,343.838, 343.835,343.832,343.828,343.824,343.82, 343.815,343.81,343.807,343.803,343.801, 343.798,343.795,343.792,343.789,343.784 ,343.781,343.778,343.774,343.77,343.766 ,343.763,343.758,343.755,343.75,343.745 ,343.739,343.736,343.73,343.727,343.723 ,343.718,343.714,343.71,343.706,343.701 ,343.697,343.693,343.689,343.685, 343.681,343.677,343.671,343.421)
ORBIT_NUMBER = 15777
ORBITAL_ECCENTRICITY = 0.574
ORBITAL_INCLINATION = 86.94
ORBITAL_SEMIMAJOR_AXIS = 8816.63
PERIAPSIS_ALTITUDE = 367.66
PERIAPSIS_ARGUMENT_ANGLE = 139.93
PERIAPSIS_TIME = 2016-06-13T07:34:42.000Z
SPACECRAFT_ORIENTATION = (0.0,-1.0,0.0)
^MEX_ORIENTATION_DESC = "MEX_ORIENTATION_DESC.TXT"
SPACECRAFT_POINTING_MODE = ACROSSTRACK
^MEX_POINTING_DESC = "MEX_POINTING_DESC.TXT"
RIGHT_ASCENSION = -1e+32
DECLINATION = -1e+32
OFFSET_ANGLE = -0.6
SPACECRAFT_SOLAR_DISTANCE = 2.23389e+08
TARGET_NAME = MARS
/* CAMERA DATA ELEMENTS */
DETECTOR_TEMPERATURE = 18.7783
FOCAL_PLANE_TEMPERATURE = 8.7872
INST_CMPRS_NAME = "DISCRETE COSINE TRANSFORMATION (DCT)"
INST_CMPRS_RATIO = 10.4731
INST_CMPRS_QUALITY = 0
INST_CMPRS_QUANTZ_TBL_ID = 0
INSTRUMENT_TEMPERATURE = 12.0496
LENS_TEMPERATURE = 8.7872
MACROPIXEL_SIZE = 4
MISSING_FRAMES = 0
PIXEL_SUBSAMPLING_FLAG = N
SIGNAL_CHAIN_ID = 2
/* RADIOMETRIC DATA ELEMENTS */
BANDWIDTH = 81.0
CENTER_FILTER_WAVELENGTH = 955.5
RADIANCE_OFFSET = 0.470196
RADIANCE_SCALING_FACTOR = 0.00356489
REFLECTANCE_SCALING_FACTOR = 0.000383789
MEX:REFLECTANCE_OFFSET = 0.0506205
/* IMAGE OBJECT DEFINITIONS */
OBJECT = IMAGE
  INTERCHANGE_FORMAT = BINARY
  LINES = 9712
  LINE_SAMPLES = 1839
  SAMPLE_TYPE = UNSIGNED_INTEGER
  SAMPLE_BITS = 8
  BANDS = 1
  BAND_STORAGE_TYPE = BAND_SEQUENTIAL
  MAXIMUM = 255
  MEAN = 89.9073
  MINIMUM = 1
  STANDARD_DEVIATION = 19.0109
END_OBJECT = IMAGE
/* MAP OBJECT DEFINITIONS */
OBJECT = IMAGE_MAP_PROJECTION
  ^DATA_SET_MAP_PROJECTION_CATALOG= "DSMAP.CAT"
  A_AXIS_RADIUS = 3396.0
  B_AXIS_RADIUS = 3396.0
  C_AXIS_RADIUS = 3396.0
  CENTER_LATITUDE = 0.0
  CENTER_LONGITUDE = 343.0
  COORDINATE_SYSTEM_NAME = PLANETOGRAPHIC
  COORDINATE_SYSTEM_TYPE = "BODY-FIXED ROTATING"
  EASTERNMOST_LONGITUDE = 343.838
  FIRST_STANDARD_PARALLEL = "N/A"
  LINE_FIRST_PIXEL = 1
  LINE_LAST_PIXEL = 9712
  LINE_PROJECTION_OFFSET = 47925.375
  MAP_PROJECTION_ROTATION = 0.0
  MAP_PROJECTION_TYPE = SINUSOIDAL
  MAP_RESOLUTION = 1185.42760773333
  MAP_SCALE = 0.05
  MAXIMUM_LATITUDE = 40.4872
  MINIMUM_LATITUDE = 32.187
  POSITIVE_LONGITUDE_DIRECTION = EAST
  REFERENCE_LATITUDE = "N/A"
  REFERENCE_LONGITUDE = "N/A"
  SAMPLE_FIRST_PIXEL = 1
  SAMPLE_LAST_PIXEL = 1839
  SAMPLE_PROJECTION_OFFSET = 985.375
  SECOND_STANDARD_PARALLEL = "N/A"
  WESTERNMOST_LONGITUDE = 341.94
END_OBJECT = IMAGE_MAP_PROJECTION
/* The JPEG2000 image data file associated with this label. */
OBJECT = COMPRESSED_FILE
  FILE_NAME = "HF777_0000_IR3.JP2"
  RECORD_TYPE = UNDEFINED
  FILE_RECORDS = UNK
  ENCODING_TYPE = "JP2"
  INTERCHANGE_FORMAT = BINARY
  UNCOMPRESSED_FILE_NAME = "HF777_0000_IR3.IMG"
  REQUIRED_STORAGE_BYTES = "17878758"
  ^DESCRIPTION = "JP2INFO.TXT"
END_OBJECT = COMPRESSED_FILE
END
