PDS_VERSION_ID = PDS3
/* FILE DATA ELEMENTS */
RECORD_TYPE = STREAM
/* POINTERS TO DATA OBJECTS */
^COMPRESSED_FILE = "HF777_0000_P23.JP2"
/* IDENTIFICATION DATA ELEMENTS */
DATA_SET_ID = "MEX-M-HRSC-5-REFDR-MAPPROJECTED-V3.0"
DATA_SET_NAME = "MARS EXPRESS HRSC MAP PROJECTED REFDR V3.0"
DETECTOR_ID = MEX_HRSC_P2
EVENT_TYPE = "MARS-REGIONAL-MAPPING-Im-Gl-Pf"
INSTRUMENT_HOST_ID = MEX
INSTRUMENT_HOST_NAME = "MARS EXPRESS"
INSTRUMENT_ID = HRSC
INSTRUMENT_NAME = "HIGH RESOLUTION STEREO CAMERA"
MISSION_NAME = "MARS EXPRESS"
MISSION_PHASE_NAME = ME_Phase_34
PROCESSING_LEVEL_ID = 3
PRODUCT_CREATION_TIME = 2016-11-08T12:40:53.000Z
PRODUCT_ID = "HF777_0000_P23.JP2"
RELEASE_ID = 0133
REVISION_ID = 0000
/* QUALITY DATA ELEMENTS */
DATA_QUALITY_ID = 1
DATA_QUALITY_DESC = "Data calculated based on original SPICE kernels"
/* TIME DATA ELEMENTS */
SPACECRAFT_CLOCK_START_COUNT = "1/0413883234.09032"
SPACECRAFT_CLOCK_STOP_COUNT = "1/0413883432.17426"
START_TIME = 2016-06-13T07:34:57.271Z
STOP_TIME = 2016-06-13T07:37:05.543Z
/* ORBITAL DATA ELEMENTS */
ASCENDING_NODE_LONGITUDE = 277.5
MAXIMUM_RESOLUTION = 30.7
FOOTPRINT_POINT_LATITUDE = (40.382,40.3817,40.3811,40.3801,40.3778 ,40.4293,40.2087,39.9881,39.8411, 39.6942,39.5472,39.4001,39.2534,39.1064 ,38.8864,38.7396,38.593,38.3733,38.2268 ,37.934,37.7144,37.5554,37.3809,37.1193 ,36.9448,36.7704,36.5961,36.4223, 36.2482,36.0742,35.9003,35.7266,35.4662 ,35.2926,35.1192,34.8592,34.6862, 34.5131,34.3402,34.1671,33.9942,33.8215 ,33.6489,33.4764,33.3039,33.131,32.8733 ,32.7011,32.5291,32.3573,32.2609, 32.2595,32.2583,32.2568,32.2528,32.2513 ,32.2495,32.4211,32.5936,32.8525, 33.1114,33.284,33.457,33.7164,33.8891, 34.0626,34.2358,34.4092,34.5826,34.8427 ,35.0167,35.1905,35.3643,35.5382, 35.7121,35.8863,36.1474,36.3223,36.5841 ,36.7589,36.9333,37.1081,37.2832, 37.5456,37.7796,37.9265,38.0731,38.2199 ,38.3668,38.5871,38.7342,38.9547, 39.1753,39.3963,39.5436,39.7645,39.9119 ,40.0593,40.2804,40.382)
FOOTPRINT_POINT_LONGITUDE = (343.348,343.091,342.833,342.572, 342.178,341.924,341.936,341.948,341.956 ,341.964,341.972,341.979,341.987, 341.994,342.005,342.012,342.019,342.029 ,342.036,342.049,342.059,342.065, 342.073,342.084,342.091,342.098,342.105 ,342.111,342.118,342.124,342.131, 342.137,342.146,342.152,342.157,342.166 ,342.171,342.176,342.181,342.186, 342.191,342.196,342.201,342.206,342.21, 342.215,342.221,342.225,342.229,342.233 ,342.477,342.732,342.906,343.111, 343.441,343.627,343.865,343.861,343.858 ,343.853,343.848,343.844,343.84,343.835 ,343.832,343.828,343.824,343.82,343.817 ,343.811,343.807,343.803,343.799, 343.795,343.791,343.787,343.781,343.777 ,343.771,343.766,343.762,343.758, 343.753,343.747,343.741,343.737,343.733 ,343.729,343.725,343.719,343.715, 343.709,343.703,343.697,343.693,343.686 ,343.682,343.678,343.671,343.348)
ORBIT_NUMBER = 15777
ORBITAL_ECCENTRICITY = 0.574
ORBITAL_INCLINATION = 86.94
ORBITAL_SEMIMAJOR_AXIS = 8816.63
PERIAPSIS_ALTITUDE = 367.66
PERIAPSIS_ARGUMENT_ANGLE = 139.93
PERIAPSIS_TIME = 2016-06-13T07:34:42.000Z
SPACECRAFT_ORIENTATION = (0.0,-1.0,0.0)
^MEX_ORIENTATION_DESC = "MEX_ORIENTATION_DESC.TXT"
SPACECRAFT_POINTING_MODE = ACROSSTRACK
^MEX_POINTING_DESC = "MEX_POINTING_DESC.TXT"
RIGHT_ASCENSION = -1e+32
DECLINATION = -1e+32
OFFSET_ANGLE = -0.6
SPACECRAFT_SOLAR_DISTANCE = 2.23389e+08
TARGET_NAME = MARS
/* CAMERA DATA ELEMENTS */
DETECTOR_TEMPERATURE = 18.9822
FOCAL_PLANE_TEMPERATURE = 8.7872
INST_CMPRS_NAME = "DISCRETE COSINE TRANSFORMATION (DCT)"
INST_CMPRS_RATIO = 7.53923
INST_CMPRS_QUALITY = 0
INST_CMPRS_QUANTZ_TBL_ID = 0
INSTRUMENT_TEMPERATURE = 12.0496
LENS_TEMPERATURE = 8.7872
MACROPIXEL_SIZE = 2
MISSING_FRAMES = 0
PIXEL_SUBSAMPLING_FLAG = N
SIGNAL_CHAIN_ID = 3
/* RADIOMETRIC DATA ELEMENTS */
BANDWIDTH = 177.0
CENTER_FILTER_WAVELENGTH = 676.5
RADIANCE_OFFSET = 2.24747
RADIANCE_SCALING_FACTOR = 0.0130231
REFLECTANCE_SCALING_FACTOR = 0.000344582
MEX:REFLECTANCE_OFFSET = 0.0594666
/* IMAGE OBJECT DEFINITIONS */
OBJECT = IMAGE
  INTERCHANGE_FORMAT = BINARY
  LINES = 19424
  LINE_SAMPLES = 3677
  SAMPLE_TYPE = UNSIGNED_INTEGER
  SAMPLE_BITS = 8
  BANDS = 1
  BAND_STORAGE_TYPE = BAND_SEQUENTIAL
  MAXIMUM = 255
  MEAN = 91.1968
  MINIMUM = 1
  STANDARD_DEVIATION = 17.2236
END_OBJECT = IMAGE
/* MAP OBJECT DEFINITIONS */
OBJECT = IMAGE_MAP_PROJECTION
  ^DATA_SET_MAP_PROJECTION_CATALOG= "DSMAP.CAT"
  A_AXIS_RADIUS = 3396.0
  B_AXIS_RADIUS = 3396.0
  C_AXIS_RADIUS = 3396.0
  CENTER_LATITUDE = 0.0
  CENTER_LONGITUDE = 343.0
  COORDINATE_SYSTEM_NAME = PLANETOGRAPHIC
  COORDINATE_SYSTEM_TYPE = "BODY-FIXED ROTATING"
  EASTERNMOST_LONGITUDE = 343.865
  FIRST_STANDARD_PARALLEL = "N/A"
  LINE_FIRST_PIXEL = 1
  LINE_LAST_PIXEL = 19424
  LINE_PROJECTION_OFFSET = 95851.25
  MAP_PROJECTION_ROTATION = 0.0
  MAP_PROJECTION_TYPE = SINUSOIDAL
  MAP_RESOLUTION = 2370.85521546667
  MAP_SCALE = 0.025
  MAXIMUM_LATITUDE = 40.4293
  MINIMUM_LATITUDE = 32.2495
  POSITIVE_LONGITUDE_DIRECTION = EAST
  REFERENCE_LATITUDE = "N/A"
  REFERENCE_LONGITUDE = "N/A"
  SAMPLE_FIRST_PIXEL = 1
  SAMPLE_LAST_PIXEL = 3677
  SAMPLE_PROJECTION_OFFSET = 1971.25
  SECOND_STANDARD_PARALLEL = "N/A"
  WESTERNMOST_LONGITUDE = 341.924
END_OBJECT = IMAGE_MAP_PROJECTION
/* The JPEG2000 image data file associated with this label. */
OBJECT = COMPRESSED_FILE
  FILE_NAME = "HF777_0000_P23.JP2"
  RECORD_TYPE = UNDEFINED
  FILE_RECORDS = UNK
  ENCODING_TYPE = "JP2"
  INTERCHANGE_FORMAT = BINARY
  UNCOMPRESSED_FILE_NAME = "HF777_0000_P23.IMG"
  REQUIRED_STORAGE_BYTES = "71444110"
  ^DESCRIPTION = "JP2INFO.TXT"
END_OBJECT = COMPRESSED_FILE
END
