PDS_VERSION_ID = PDS3
/* FILE DATA ELEMENTS */
RECORD_TYPE = STREAM
/* POINTERS TO DATA OBJECTS */
^COMPRESSED_FILE = "HF779_0000_P13.JP2"
/* IDENTIFICATION DATA ELEMENTS */
DATA_SET_ID = "MEX-M-HRSC-5-REFDR-MAPPROJECTED-V3.0"
DATA_SET_NAME = "MARS EXPRESS HRSC MAP PROJECTED REFDR V3.0"
DETECTOR_ID = MEX_HRSC_P1
EVENT_TYPE = "MARS-LOCAL-STEREO-Vo-Fl"
INSTRUMENT_HOST_ID = MEX
INSTRUMENT_HOST_NAME = "MARS EXPRESS"
INSTRUMENT_ID = HRSC
INSTRUMENT_NAME = "HIGH RESOLUTION STEREO CAMERA"
MISSION_NAME = "MARS EXPRESS"
MISSION_PHASE_NAME = ME_Phase_34
PROCESSING_LEVEL_ID = 3
PRODUCT_CREATION_TIME = 2016-11-08T12:40:53.000Z
PRODUCT_ID = "HF779_0000_P13.JP2"
RELEASE_ID = 0133
REVISION_ID = 0000
/* QUALITY DATA ELEMENTS */
DATA_QUALITY_ID = 1
DATA_QUALITY_DESC = "Data calculated based on original SPICE kernels"
/* TIME DATA ELEMENTS */
SPACECRAFT_CLOCK_START_COUNT = "1/0413933781.07303"
SPACECRAFT_CLOCK_STOP_COUNT = "1/0413933954.64468"
START_TIME = 2016-06-13T21:36:40.735Z
STOP_TIME = 2016-06-13T21:38:12.626Z
/* ORBITAL DATA ELEMENTS */
ASCENDING_NODE_LONGITUDE = 277.45
MAXIMUM_RESOLUTION = 31.8
FOOTPRINT_POINT_LATITUDE = (29.7635,29.7505,29.7368,29.7222, 29.7068,29.6905,29.5775,29.4604,29.2848 ,29.1679,29.0506,28.8749,28.7576, 28.6404,28.5235,28.4064,28.2892,28.1721 ,28.0549,27.8793,27.7621,27.5862, 27.4695,27.3537,27.1785,27.0619,26.8867 ,26.7698,26.5946,26.4778,26.3026, 26.1864,26.069,25.8948,25.7788,25.6623, 25.4871,25.3706,25.2545,25.1377,24.9628 ,24.8471,24.731,24.6125,24.4329,24.313, 24.1333,24.014,23.8948,23.7288,23.7401, 23.7561,23.7645,23.7786,23.7892,23.7995 ,23.8073,23.8149,23.9403,24.1183, 24.2383,24.3597,24.4798,24.5995,24.778, 24.8963,25.0135,25.1302,25.2473,25.3642 ,25.5397,25.7148,25.8319,25.9487, 26.1235,26.2989,26.4736,26.5901,26.7051 ,26.8816,26.999,27.1751,27.2919,27.4674 ,27.5847,27.7016,27.8765,28.0525, 28.1698,28.4009,28.5192,28.6967,28.814, 28.9896,29.1068,29.2823,29.458,29.575, 29.6924,29.7635)
FOOTPRINT_POINT_LONGITUDE = (138.362,138.124,137.882,137.637, 137.388,137.136,136.837,136.84,136.845, 136.848,136.851,136.855,136.857,136.86, 136.862,136.865,136.867,136.87,136.872, 136.875,136.877,136.88,136.883,136.887, 136.89,136.893,136.896,136.898,136.901, 136.903,136.906,136.909,136.909,136.913 ,136.916,136.918,136.92,136.922,136.924 ,136.925,136.927,136.93,136.932,136.933 ,136.935,136.936,136.937,136.939,136.94 ,136.942,137.124,137.387,137.532, 137.788,137.978,138.166,138.32,138.473, 138.583,138.579,138.577,138.576,138.574 ,138.572,138.568,138.566,138.564, 138.562,138.56,138.558,138.555,138.552, 138.55,138.547,138.544,138.54,138.537, 138.534,138.531,138.528,138.526,138.522 ,138.52,138.516,138.514,138.511,138.507 ,138.504,138.501,138.495,138.493, 138.489,138.487,138.483,138.48,138.476, 138.472,138.469,138.466,138.362)
ORBIT_NUMBER = 15779
ORBITAL_ECCENTRICITY = 0.574
ORBITAL_INCLINATION = 86.92
ORBITAL_SEMIMAJOR_AXIS = 8820.73
PERIAPSIS_ALTITUDE = 368.16
PERIAPSIS_ARGUMENT_ANGLE = 139.62
PERIAPSIS_TIME = 2016-06-13T21:34:19.000Z
SPACECRAFT_ORIENTATION = (0.0,-1.0,0.0)
^MEX_ORIENTATION_DESC = "MEX_ORIENTATION_DESC.TXT"
SPACECRAFT_POINTING_MODE = ACROSSTRACK
^MEX_POINTING_DESC = "MEX_POINTING_DESC.TXT"
RIGHT_ASCENSION = -1e+32
DECLINATION = -1e+32
OFFSET_ANGLE = -1.25
SPACECRAFT_SOLAR_DISTANCE = 2.23275e+08
TARGET_NAME = MARS
/* CAMERA DATA ELEMENTS */
DETECTOR_TEMPERATURE = 17.5549
FOCAL_PLANE_TEMPERATURE = 8.1755
INST_CMPRS_NAME = "DISCRETE COSINE TRANSFORMATION (DCT)"
INST_CMPRS_RATIO = 6.21355
INST_CMPRS_QUALITY = 0
INST_CMPRS_QUANTZ_TBL_ID = 0
INSTRUMENT_TEMPERATURE = 12.0496
LENS_TEMPERATURE = 9.195
MACROPIXEL_SIZE = 2
MISSING_FRAMES = 0
PIXEL_SUBSAMPLING_FLAG = N
SIGNAL_CHAIN_ID = 3
/* RADIOMETRIC DATA ELEMENTS */
BANDWIDTH = 174.0
CENTER_FILTER_WAVELENGTH = 675.0
RADIANCE_OFFSET = 2.83351
RADIANCE_SCALING_FACTOR = 0.0298166
REFLECTANCE_SCALING_FACTOR = 0.000799513
MEX:REFLECTANCE_OFFSET = 0.0759786
/* IMAGE OBJECT DEFINITIONS */
OBJECT = IMAGE
  INTERCHANGE_FORMAT = BINARY
  LINES = 14097
  LINE_SAMPLES = 3914
  SAMPLE_TYPE = UNSIGNED_INTEGER
  SAMPLE_BITS = 8
  BANDS = 1
  BAND_STORAGE_TYPE = BAND_SEQUENTIAL
  MAXIMUM = 255
  MEAN = 122.918
  MINIMUM = 1
  STANDARD_DEVIATION = 29.2349
END_OBJECT = IMAGE
/* MAP OBJECT DEFINITIONS */
OBJECT = IMAGE_MAP_PROJECTION
  ^DATA_SET_MAP_PROJECTION_CATALOG= "DSMAP.CAT"
  A_AXIS_RADIUS = 3396.0
  B_AXIS_RADIUS = 3396.0
  C_AXIS_RADIUS = 3396.0
  CENTER_LATITUDE = 0.0
  CENTER_LONGITUDE = 138.0
  COORDINATE_SYSTEM_NAME = PLANETOGRAPHIC
  COORDINATE_SYSTEM_TYPE = "BODY-FIXED ROTATING"
  EASTERNMOST_LONGITUDE = 138.583
  FIRST_STANDARD_PARALLEL = "N/A"
  LINE_FIRST_PIXEL = 1
  LINE_LAST_PIXEL = 14097
  LINE_PROJECTION_OFFSET = 70468.75
  MAP_PROJECTION_ROTATION = 0.0
  MAP_PROJECTION_TYPE = SINUSOIDAL
  MAP_RESOLUTION = 2370.85521546667
  MAP_SCALE = 0.025
  MAXIMUM_LATITUDE = 29.7635
  MINIMUM_LATITUDE = 23.7288
  POSITIVE_LONGITUDE_DIRECTION = EAST
  REFERENCE_LATITUDE = "N/A"
  REFERENCE_LONGITUDE = "N/A"
  SAMPLE_FIRST_PIXEL = 1
  SAMPLE_LAST_PIXEL = 3914
  SAMPLE_PROJECTION_OFFSET = 2589.25
  SECOND_STANDARD_PARALLEL = "N/A"
  WESTERNMOST_LONGITUDE = 136.837
END_OBJECT = IMAGE_MAP_PROJECTION
/* The JPEG2000 image data file associated with this label. */
OBJECT = COMPRESSED_FILE
  FILE_NAME = "HF779_0000_P13.JP2"
  RECORD_TYPE = UNDEFINED
  FILE_RECORDS = UNK
  ENCODING_TYPE = "JP2"
  INTERCHANGE_FORMAT = BINARY
  UNCOMPRESSED_FILE_NAME = "HF779_0000_P13.IMG"
  REQUIRED_STORAGE_BYTES = "55199142"
  ^DESCRIPTION = "JP2INFO.TXT"
END_OBJECT = COMPRESSED_FILE
END
