PDS_VERSION_ID = PDS3
/* FILE DATA ELEMENTS */
RECORD_TYPE = STREAM
/* POINTERS TO DATA OBJECTS */
^COMPRESSED_FILE = "HF779_0000_S23.JP2"
/* IDENTIFICATION DATA ELEMENTS */
DATA_SET_ID = "MEX-M-HRSC-5-REFDR-MAPPROJECTED-V3.0"
DATA_SET_NAME = "MARS EXPRESS HRSC MAP PROJECTED REFDR V3.0"
DETECTOR_ID = MEX_HRSC_S2
EVENT_TYPE = "MARS-LOCAL-STEREO-Vo-Fl"
INSTRUMENT_HOST_ID = MEX
INSTRUMENT_HOST_NAME = "MARS EXPRESS"
INSTRUMENT_ID = HRSC
INSTRUMENT_NAME = "HIGH RESOLUTION STEREO CAMERA"
MISSION_NAME = "MARS EXPRESS"
MISSION_PHASE_NAME = ME_Phase_34
PROCESSING_LEVEL_ID = 3
PRODUCT_CREATION_TIME = 2016-11-08T12:40:53.000Z
PRODUCT_ID = "HF779_0000_S23.JP2"
RELEASE_ID = 0133
REVISION_ID = 0000
/* QUALITY DATA ELEMENTS */
DATA_QUALITY_ID = 1
DATA_QUALITY_DESC = "Data calculated based on original SPICE kernels"
/* TIME DATA ELEMENTS */
SPACECRAFT_CLOCK_START_COUNT = "1/0413933781.07303"
SPACECRAFT_CLOCK_STOP_COUNT = "1/0413933954.64468"
START_TIME = 2016-06-13T21:37:41.866Z
STOP_TIME = 2016-06-13T21:39:20.492Z
/* ORBITAL DATA ELEMENTS */
ASCENDING_NODE_LONGITUDE = 277.45
MAXIMUM_RESOLUTION = 17.3
FOOTPRINT_POINT_LATITUDE = (29.645,29.6581,29.6714,29.6847,29.6913 ,29.698,29.7047,29.7114,29.6612,29.489, 29.2019,28.9733,28.7427,28.6257,28.5082 ,28.3913,28.2743,28.1572,28.0404, 27.9239,27.8073,27.6329,27.5165,27.3983 ,27.2815,27.1639,27.0444,26.9249, 26.8058,26.6869,26.5676,26.4488,26.2705 ,26.1512,25.9734,25.8542,25.7349,25.553 ,25.3707,25.2493,25.129,25.0065,24.8858 ,24.7638,24.6433,24.4628,24.3406, 24.1563,24.0333,23.9096,23.8313,23.8198 ,23.81,23.7928,23.7783,23.7606,23.7475, 23.7389,23.7898,23.9773,24.1009,24.2218 ,24.3444,24.4649,24.5863,24.7091, 24.8277,25.0091,25.1301,25.2514,25.3724 ,25.4938,25.676,25.8538,25.9727,26.0929 ,26.2717,26.3914,26.5714,26.6918, 26.8709,26.9909,27.1101,27.2268,27.3444 ,27.4612,27.6368,27.8134,27.9312, 28.0485,28.1658,28.2866,28.4057,28.5226 ,28.6965,28.9846,29.2157,29.4464, 29.6776,29.645)
FOOTPRINT_POINT_LONGITUDE = (138.326,138.069,137.808,137.543, 137.409,137.274,137.138,137.001,136.783 ,136.787,136.793,136.798,136.802, 136.804,136.806,136.808,136.81,136.812, 136.814,136.816,136.818,136.82,136.822, 136.825,136.827,136.829,136.831,136.833 ,136.834,136.836,136.838,136.839, 136.841,136.843,136.845,136.847,136.849 ,136.851,136.853,136.855,136.855, 136.858,136.859,136.861,136.862,136.863 ,136.863,136.864,136.864,136.866, 137.012,137.194,137.356,137.623,137.867 ,138.127,138.332,138.467,138.642, 138.637,138.635,138.633,138.63,138.628, 138.625,138.622,138.62,138.616,138.614, 138.611,138.608,138.606,138.602,138.598 ,138.595,138.592,138.588,138.585, 138.581,138.578,138.574,138.571,138.568 ,138.565,138.562,138.559,138.555, 138.551,138.548,138.545,138.542,138.538 ,138.535,138.532,138.528,138.521, 138.515,138.508,138.502,138.326)
ORBIT_NUMBER = 15779
ORBITAL_ECCENTRICITY = 0.574
ORBITAL_INCLINATION = 86.92
ORBITAL_SEMIMAJOR_AXIS = 8820.73
PERIAPSIS_ALTITUDE = 368.16
PERIAPSIS_ARGUMENT_ANGLE = 139.62
PERIAPSIS_TIME = 2016-06-13T21:34:19.000Z
SPACECRAFT_ORIENTATION = (0.0,-1.0,0.0)
^MEX_ORIENTATION_DESC = "MEX_ORIENTATION_DESC.TXT"
SPACECRAFT_POINTING_MODE = ACROSSTRACK
^MEX_POINTING_DESC = "MEX_POINTING_DESC.TXT"
RIGHT_ASCENSION = -1e+32
DECLINATION = -1e+32
OFFSET_ANGLE = -1.25
SPACECRAFT_SOLAR_DISTANCE = 2.23275e+08
TARGET_NAME = MARS
/* CAMERA DATA ELEMENTS */
DETECTOR_TEMPERATURE = 18.7783
FOCAL_PLANE_TEMPERATURE = 8.1755
INST_CMPRS_NAME = "DISCRETE COSINE TRANSFORMATION (DCT)"
INST_CMPRS_RATIO = 6.65609
INST_CMPRS_QUALITY = 0
INST_CMPRS_QUANTZ_TBL_ID = 0
INSTRUMENT_TEMPERATURE = 12.0496
LENS_TEMPERATURE = 9.195
MACROPIXEL_SIZE = 1
MISSING_FRAMES = 0
PIXEL_SUBSAMPLING_FLAG = N
SIGNAL_CHAIN_ID = 1
/* RADIOMETRIC DATA ELEMENTS */
BANDWIDTH = 178.0
CENTER_FILTER_WAVELENGTH = 679.0
RADIANCE_OFFSET = 2.99604
RADIANCE_SCALING_FACTOR = 0.0303858
REFLECTANCE_SCALING_FACTOR = 0.000802194
MEX:REFLECTANCE_OFFSET = 0.0790963
/* IMAGE OBJECT DEFINITIONS */
OBJECT = IMAGE
  INTERCHANGE_FORMAT = BINARY
  LINES = 28194
  LINE_SAMPLES = 7827
  SAMPLE_TYPE = UNSIGNED_INTEGER
  SAMPLE_BITS = 8
  BANDS = 1
  BAND_STORAGE_TYPE = BAND_SEQUENTIAL
  MAXIMUM = 255
  MEAN = 127.054
  MINIMUM = 1
  STANDARD_DEVIATION = 30.3899
END_OBJECT = IMAGE
/* MAP OBJECT DEFINITIONS */
OBJECT = IMAGE_MAP_PROJECTION
  ^DATA_SET_MAP_PROJECTION_CATALOG= "DSMAP.CAT"
  A_AXIS_RADIUS = 3396.0
  B_AXIS_RADIUS = 3396.0
  C_AXIS_RADIUS = 3396.0
  CENTER_LATITUDE = 0.0
  CENTER_LONGITUDE = 138.0
  COORDINATE_SYSTEM_NAME = PLANETOGRAPHIC
  COORDINATE_SYSTEM_TYPE = "BODY-FIXED ROTATING"
  EASTERNMOST_LONGITUDE = 138.642
  FIRST_STANDARD_PARALLEL = "N/A"
  LINE_FIRST_PIXEL = 1
  LINE_LAST_PIXEL = 28194
  LINE_PROJECTION_OFFSET = 140938.0
  MAP_PROJECTION_ROTATION = 0.0
  MAP_PROJECTION_TYPE = SINUSOIDAL
  MAP_RESOLUTION = 4741.71043093333
  MAP_SCALE = 0.0125
  MAXIMUM_LATITUDE = 29.7114
  MINIMUM_LATITUDE = 23.7389
  POSITIVE_LONGITUDE_DIRECTION = EAST
  REFERENCE_LATITUDE = "N/A"
  REFERENCE_LONGITUDE = "N/A"
  SAMPLE_FIRST_PIXEL = 1
  SAMPLE_LAST_PIXEL = 7827
  SAMPLE_PROJECTION_OFFSET = 5179.0
  SECOND_STANDARD_PARALLEL = "N/A"
  WESTERNMOST_LONGITUDE = 136.783
END_OBJECT = IMAGE_MAP_PROJECTION
/* The JPEG2000 image data file associated with this label. */
OBJECT = COMPRESSED_FILE
  FILE_NAME = "HF779_0000_S23.JP2"
  RECORD_TYPE = UNDEFINED
  FILE_RECORDS = UNK
  ENCODING_TYPE = "JP2"
  INTERCHANGE_FORMAT = BINARY
  UNCOMPRESSED_FILE_NAME = "HF779_0000_S23.IMG"
  REQUIRED_STORAGE_BYTES = "220705746"
  ^DESCRIPTION = "JP2INFO.TXT"
END_OBJECT = COMPRESSED_FILE
END
