PDS_VERSION_ID = PDS3
/* FILE DATA ELEMENTS */
RECORD_TYPE = STREAM
/* POINTERS TO DATA OBJECTS */
^COMPRESSED_FILE = "HF784_0000_P23.JP2"
/* IDENTIFICATION DATA ELEMENTS */
DATA_SET_ID = "MEX-M-HRSC-5-REFDR-MAPPROJECTED-V3.0"
DATA_SET_NAME = "MARS EXPRESS HRSC MAP PROJECTED REFDR V3.0"
DETECTOR_ID = MEX_HRSC_P2
EVENT_TYPE = "MARS-LOCAL-STEREO-Tc-Ot-Ts"
INSTRUMENT_HOST_ID = MEX
INSTRUMENT_HOST_NAME = "MARS EXPRESS"
INSTRUMENT_ID = HRSC
INSTRUMENT_NAME = "HIGH RESOLUTION STEREO CAMERA"
MISSION_NAME = "MARS EXPRESS"
MISSION_PHASE_NAME = ME_Phase_34
PROCESSING_LEVEL_ID = 3
PRODUCT_CREATION_TIME = 2016-11-08T12:40:53.000Z
PRODUCT_ID = "HF784_0000_P23.JP2"
RELEASE_ID = 0133
REVISION_ID = 0000
/* QUALITY DATA ELEMENTS */
DATA_QUALITY_ID = 1
DATA_QUALITY_DESC = "Data calculated based on original SPICE kernels"
/* TIME DATA ELEMENTS */
SPACECRAFT_CLOCK_START_COUNT = "1/0414059984.08248"
SPACECRAFT_CLOCK_STOP_COUNT = "1/0414060251.24263"
START_TIME = 2016-06-15T08:41:18.119Z
STOP_TIME = 2016-06-15T08:43:47.706Z
/* ORBITAL DATA ELEMENTS */
ASCENDING_NODE_LONGITUDE = 277.37
MAXIMUM_RESOLUTION = 46.5
FOOTPRINT_POINT_LATITUDE = (13.0246,13.0205,13.0165,13.0125, 13.0086,13.0047,13.0008,12.997,12.9933, 12.9896,12.9823,12.9194,12.697,12.4004, 12.0272,11.7276,11.5018,11.1972,10.9697 ,10.7397,10.4329,10.278,10.1215,9.96634 ,9.81164,9.57689,9.42003,9.26379, 9.10616,8.94763,8.70999,8.47001,8.30964 ,8.14936,7.90651,7.74384,7.58225, 7.41859,7.25446,7.09066,6.92547,6.75977 ,6.59495,6.34507,6.17824,6.01162, 5.84533,5.67954,5.514,5.34864,5.06873, 5.07055,5.07269,5.07477,5.07848,5.08089 ,5.08983,5.09244,5.09482,5.09765, 5.10265,5.35795,5.52142,5.76648,5.93009 ,6.09674,6.26408,6.51477,6.68015, 6.84884,7.09513,7.2602,7.42474,7.58895, 7.75066,7.99446,8.15686,8.31656,8.4774, 8.71866,8.87695,9.03581,9.19535,9.35306 ,9.51016,9.66806,9.82528,10.0585, 10.2139,10.3696,10.5232,10.8308,10.9857 ,11.2938,11.6688,11.8941,12.195,12.418, 12.7874,13.0246)
FOOTPRINT_POINT_LONGITUDE = (350.053,349.886,349.719,349.554, 349.391,349.228,349.066,348.906,348.746 ,348.588,348.273,348.054,348.045, 348.033,348.018,348.006,347.996,347.983 ,347.974,347.964,347.951,347.944, 347.937,347.93,347.923,347.913,347.906, 347.899,347.892,347.884,347.873,347.862 ,347.855,347.847,347.836,347.828,347.82 ,347.812,347.804,347.796,347.788,347.78 ,347.772,347.759,347.751,347.742, 347.734,347.725,347.717,347.708,347.787 ,348.07,348.26,348.427,348.715,348.908, 349.179,349.399,349.62,349.916,350.094, 350.206,350.202,350.196,350.192,350.19, 350.189,350.186,350.184,350.186,350.182 ,350.182,350.181,350.18,350.178,350.177 ,350.176,350.174,350.173,350.172, 350.171,350.17,350.169,350.168,350.168, 350.167,350.167,350.166,350.165,350.164 ,350.163,350.162,350.162,350.166, 350.159,350.159,350.158,350.157,350.155 ,350.053)
ORBIT_NUMBER = 15784
ORBITAL_ECCENTRICITY = 0.574
ORBITAL_INCLINATION = 86.94
ORBITAL_SEMIMAJOR_AXIS = 8815.08
PERIAPSIS_ALTITUDE = 368.4
PERIAPSIS_ARGUMENT_ANGLE = 138.72
PERIAPSIS_TIME = 2016-06-15T08:33:10.000Z
SPACECRAFT_ORIENTATION = (0.0,-1.0,0.0)
^MEX_ORIENTATION_DESC = "MEX_ORIENTATION_DESC.TXT"
SPACECRAFT_POINTING_MODE = ACROSSTRACK
^MEX_POINTING_DESC = "MEX_POINTING_DESC.TXT"
RIGHT_ASCENSION = -1e+32
DECLINATION = -1e+32
OFFSET_ANGLE = 1.5
SPACECRAFT_SOLAR_DISTANCE = 2.22993e+08
TARGET_NAME = MARS
/* CAMERA DATA ELEMENTS */
DETECTOR_TEMPERATURE = 19.1861
FOCAL_PLANE_TEMPERATURE = 8.7872
INST_CMPRS_NAME = "DISCRETE COSINE TRANSFORMATION (DCT)"
INST_CMPRS_RATIO = 8.20139
INST_CMPRS_QUALITY = 0
INST_CMPRS_QUANTZ_TBL_ID = 0
INSTRUMENT_TEMPERATURE = 12.0496
LENS_TEMPERATURE = 9.3989
MACROPIXEL_SIZE = 2
MISSING_FRAMES = 0
PIXEL_SUBSAMPLING_FLAG = N
SIGNAL_CHAIN_ID = 3
/* RADIOMETRIC DATA ELEMENTS */
BANDWIDTH = 177.0
CENTER_FILTER_WAVELENGTH = 676.5
RADIANCE_OFFSET = 2.63888
RADIANCE_SCALING_FACTOR = 0.0182415
REFLECTANCE_SCALING_FACTOR = 0.000480945
MEX:REFLECTANCE_OFFSET = 0.0695752
/* IMAGE OBJECT DEFINITIONS */
OBJECT = IMAGE
  INTERCHANGE_FORMAT = BINARY
  LINES = 9444
  LINE_SAMPLES = 2865
  SAMPLE_TYPE = UNSIGNED_INTEGER
  SAMPLE_BITS = 8
  BANDS = 1
  BAND_STORAGE_TYPE = BAND_SEQUENTIAL
  MAXIMUM = 255
  MEAN = 108.757
  MINIMUM = 1
  STANDARD_DEVIATION = 18.746
END_OBJECT = IMAGE
/* MAP OBJECT DEFINITIONS */
OBJECT = IMAGE_MAP_PROJECTION
  ^DATA_SET_MAP_PROJECTION_CATALOG= "DSMAP.CAT"
  A_AXIS_RADIUS = 3396.0
  B_AXIS_RADIUS = 3396.0
  C_AXIS_RADIUS = 3396.0
  CENTER_LATITUDE = 0.0
  CENTER_LONGITUDE = 349.0
  COORDINATE_SYSTEM_NAME = PLANETOGRAPHIC
  COORDINATE_SYSTEM_TYPE = "BODY-FIXED ROTATING"
  EASTERNMOST_LONGITUDE = 350.206
  FIRST_STANDARD_PARALLEL = "N/A"
  LINE_FIRST_PIXEL = 1
  LINE_LAST_PIXEL = 9444
  LINE_PROJECTION_OFFSET = 15418.25
  MAP_PROJECTION_ROTATION = 0.0
  MAP_PROJECTION_TYPE = SINUSOIDAL
  MAP_RESOLUTION = 1185.42760773333
  MAP_SCALE = 0.05
  MAXIMUM_LATITUDE = 13.0246
  MINIMUM_LATITUDE = 5.06873
  POSITIVE_LONGITUDE_DIRECTION = EAST
  REFERENCE_LATITUDE = "N/A"
  REFERENCE_LONGITUDE = "N/A"
  SAMPLE_FIRST_PIXEL = 1
  SAMPLE_LAST_PIXEL = 2865
  SAMPLE_PROJECTION_OFFSET = 1452.25
  SECOND_STANDARD_PARALLEL = "N/A"
  WESTERNMOST_LONGITUDE = 347.708
END_OBJECT = IMAGE_MAP_PROJECTION
/* The JPEG2000 image data file associated with this label. */
OBJECT = COMPRESSED_FILE
  FILE_NAME = "HF784_0000_P23.JP2"
  RECORD_TYPE = UNDEFINED
  FILE_RECORDS = UNK
  ENCODING_TYPE = "JP2"
  INTERCHANGE_FORMAT = BINARY
  UNCOMPRESSED_FILE_NAME = "HF784_0000_P23.IMG"
  REQUIRED_STORAGE_BYTES = "27079980"
  ^DESCRIPTION = "JP2INFO.TXT"
END_OBJECT = COMPRESSED_FILE
END
