PDS_VERSION_ID = PDS3
/* FILE DATA ELEMENTS */
RECORD_TYPE = STREAM
/* POINTERS TO DATA OBJECTS */
^COMPRESSED_FILE = "HF785_0000_ND3.JP2"
/* IDENTIFICATION DATA ELEMENTS */
DATA_SET_ID = "MEX-M-HRSC-5-REFDR-MAPPROJECTED-V3.0"
DATA_SET_NAME = "MARS EXPRESS HRSC MAP PROJECTED REFDR V3.0"
DETECTOR_ID = MEX_HRSC_NADIR
EVENT_TYPE = "MARS-REGIONAL-STEREO-Vo-Te"
INSTRUMENT_HOST_ID = MEX
INSTRUMENT_HOST_NAME = "MARS EXPRESS"
INSTRUMENT_ID = HRSC
INSTRUMENT_NAME = "HIGH RESOLUTION STEREO CAMERA"
MISSION_NAME = "MARS EXPRESS"
MISSION_PHASE_NAME = ME_Phase_34
PROCESSING_LEVEL_ID = 3
PRODUCT_CREATION_TIME = 2016-11-08T12:40:53.000Z
PRODUCT_ID = "HF785_0000_ND3.JP2"
RELEASE_ID = 0133
REVISION_ID = 0000
/* QUALITY DATA ELEMENTS */
DATA_QUALITY_ID = 1
DATA_QUALITY_DESC = "Data calculated based on original SPICE kernels"
/* TIME DATA ELEMENTS */
SPACECRAFT_CLOCK_START_COUNT = "1/0414084658.09071"
SPACECRAFT_CLOCK_STOP_COUNT = "1/0414084916.60152"
START_TIME = 2016-06-15T15:31:40.405Z
STOP_TIME = 2016-06-15T15:34:47.385Z
/* ORBITAL DATA ELEMENTS */
ASCENDING_NODE_LONGITUDE = 277.35
MAXIMUM_RESOLUTION = 14.4
FOOTPRINT_POINT_LATITUDE = (46.408,46.3971,46.3792,46.1003,45.8291 ,45.5578,45.2864,45.0149,44.6133, 44.2719,43.9304,43.5887,43.361,43.1332, 42.9053,42.6775,42.4496,42.2217,41.9937 ,41.7658,41.5379,41.3099,41.082,40.74, 40.3981,40.1702,39.9422,39.7143,39.4864 ,39.2585,39.0306,38.8027,38.5749, 38.3471,38.1193,37.8916,37.6639,37.4362 ,37.2086,36.9811,36.7535,36.5261, 36.2633,35.9919,35.7207,35.4495,35.1784 ,34.9074,34.6365,34.3469,34.3521, 34.3556,34.3578,34.7656,35.037,35.3085, 35.5801,35.8518,36.1236,36.5264,36.7543 ,36.9823,37.2103,37.4383,37.6664, 37.8945,38.1227,38.3509,38.5791,38.8074 ,39.0357,39.2641,39.4925,39.7208, 39.9493,40.1777,40.4061,40.7488,41.0915 ,41.32,41.5485,41.777,42.0054,42.2339, 42.5765,42.805,43.0334,43.2618,43.6043, 43.9469,44.1752,44.4035,44.6318,45.0309 ,45.3033,45.5755,45.8476,46.1197, 46.3917,46.408)
FOOTPRINT_POINT_LONGITUDE = (245.567,245.02,244.312,244.049,244.068 ,244.087,244.105,244.123,244.149, 244.171,244.192,244.212,244.225,244.238 ,244.25,244.262,244.274,244.285,244.297 ,244.307,244.318,244.328,244.338, 244.353,244.367,244.376,244.385,244.393 ,244.402,244.41,244.418,244.426,244.433 ,244.44,244.447,244.454,244.46,244.466, 244.472,244.478,244.484,244.489,244.495 ,244.501,244.507,244.513,244.519, 244.524,244.529,244.797,245.214,245.602 ,245.959,246.102,246.098,246.095, 246.091,246.088,246.084,246.079,246.076 ,246.072,246.069,246.066,246.063, 246.059,246.055,246.052,246.049,246.046 ,246.042,246.039,246.036,246.033,246.03 ,246.027,246.023,246.018,246.013, 246.009,246.005,246.002,245.998,245.994 ,245.988,245.984,245.981,245.976,245.97 ,245.964,245.961,245.958,245.955, 245.948,245.945,245.94,245.935,245.93, 245.925,245.567)
ORBIT_NUMBER = 15785
ORBITAL_ECCENTRICITY = 0.574
ORBITAL_INCLINATION = 86.93
ORBITAL_SEMIMAJOR_AXIS = 8824.51
PERIAPSIS_ALTITUDE = 367.8
PERIAPSIS_ARGUMENT_ANGLE = 138.54
PERIAPSIS_TIME = 2016-06-15T15:32:58.000Z
SPACECRAFT_ORIENTATION = (0.0,-1.0,0.0)
^MEX_ORIENTATION_DESC = "MEX_ORIENTATION_DESC.TXT"
SPACECRAFT_POINTING_MODE = ACROSSTRACK
^MEX_POINTING_DESC = "MEX_POINTING_DESC.TXT"
RIGHT_ASCENSION = -1e+32
DECLINATION = -1e+32
OFFSET_ANGLE = 0.1
SPACECRAFT_SOLAR_DISTANCE = 2.22936e+08
TARGET_NAME = MARS
/* CAMERA DATA ELEMENTS */
DETECTOR_TEMPERATURE = 18.7783
FOCAL_PLANE_TEMPERATURE = 8.7872
INST_CMPRS_NAME = "DISCRETE COSINE TRANSFORMATION (DCT)"
INST_CMPRS_RATIO = 3.50416
INST_CMPRS_QUALITY = 0
INST_CMPRS_QUANTZ_TBL_ID = 0
INSTRUMENT_TEMPERATURE = 11.6418
LENS_TEMPERATURE = 9.195
MACROPIXEL_SIZE = 1
MISSING_FRAMES = 0
PIXEL_SUBSAMPLING_FLAG = N
SIGNAL_CHAIN_ID = 0
/* RADIOMETRIC DATA ELEMENTS */
BANDWIDTH = 177.0
CENTER_FILTER_WAVELENGTH = 677.5
RADIANCE_OFFSET = 1.05329
RADIANCE_SCALING_FACTOR = 0.0389226
REFLECTANCE_SCALING_FACTOR = 0.00102766
MEX:REFLECTANCE_OFFSET = 0.0278099
/* IMAGE OBJECT DEFINITIONS */
OBJECT = IMAGE
  INTERCHANGE_FORMAT = BINARY
  LINES = 57235
  LINE_SAMPLES = 7750
  SAMPLE_TYPE = UNSIGNED_INTEGER
  SAMPLE_BITS = 8
  BANDS = 1
  BAND_STORAGE_TYPE = BAND_SEQUENTIAL
  MAXIMUM = 255
  MEAN = 109.263
  MINIMUM = 1
  STANDARD_DEVIATION = 15.7183
END_OBJECT = IMAGE
/* MAP OBJECT DEFINITIONS */
OBJECT = IMAGE_MAP_PROJECTION
  ^DATA_SET_MAP_PROJECTION_CATALOG= "DSMAP.CAT"
  A_AXIS_RADIUS = 3396.0
  B_AXIS_RADIUS = 3396.0
  C_AXIS_RADIUS = 3396.0
  CENTER_LATITUDE = 0.0
  CENTER_LONGITUDE = 245.0
  COORDINATE_SYSTEM_NAME = PLANETOGRAPHIC
  COORDINATE_SYSTEM_TYPE = "BODY-FIXED ROTATING"
  EASTERNMOST_LONGITUDE = 246.102
  FIRST_STANDARD_PARALLEL = "N/A"
  LINE_FIRST_PIXEL = 1
  LINE_LAST_PIXEL = 57235
  LINE_PROJECTION_OFFSET = 220078.0
  MAP_PROJECTION_ROTATION = 0.0
  MAP_PROJECTION_TYPE = SINUSOIDAL
  MAP_RESOLUTION = 4741.71043093333
  MAP_SCALE = 0.0125
  MAXIMUM_LATITUDE = 46.408
  MINIMUM_LATITUDE = 34.3469
  POSITIVE_LONGITUDE_DIRECTION = EAST
  REFERENCE_LATITUDE = "N/A"
  REFERENCE_LONGITUDE = "N/A"
  SAMPLE_FIRST_PIXEL = 1
  SAMPLE_LAST_PIXEL = 7750
  SAMPLE_PROJECTION_OFFSET = 3207.0
  SECOND_STANDARD_PARALLEL = "N/A"
  WESTERNMOST_LONGITUDE = 244.049
END_OBJECT = IMAGE_MAP_PROJECTION
/* The JPEG2000 image data file associated with this label. */
OBJECT = COMPRESSED_FILE
  FILE_NAME = "HF785_0000_ND3.JP2"
  RECORD_TYPE = UNDEFINED
  FILE_RECORDS = UNK
  ENCODING_TYPE = "JP2"
  INTERCHANGE_FORMAT = BINARY
  UNCOMPRESSED_FILE_NAME = "HF785_0000_ND3.IMG"
  REQUIRED_STORAGE_BYTES = "443602250"
  ^DESCRIPTION = "JP2INFO.TXT"
END_OBJECT = COMPRESSED_FILE
END
