PDS_VERSION_ID = PDS3
/* FILE DATA ELEMENTS */
RECORD_TYPE = STREAM
/* POINTERS TO DATA OBJECTS */
^COMPRESSED_FILE = "HF789_0000_P23.JP2"
/* IDENTIFICATION DATA ELEMENTS */
DATA_SET_ID = "MEX-M-HRSC-5-REFDR-MAPPROJECTED-V3.0"
DATA_SET_NAME = "MARS EXPRESS HRSC MAP PROJECTED REFDR V3.0"
DETECTOR_ID = MEX_HRSC_P2
EVENT_TYPE = "MARS-REGIONAL-MAPPING-Im-Pf-Eo"
INSTRUMENT_HOST_ID = MEX
INSTRUMENT_HOST_NAME = "MARS EXPRESS"
INSTRUMENT_ID = HRSC
INSTRUMENT_NAME = "HIGH RESOLUTION STEREO CAMERA"
MISSION_NAME = "MARS EXPRESS"
MISSION_PHASE_NAME = ME_Phase_34
PROCESSING_LEVEL_ID = 3
PRODUCT_CREATION_TIME = 2016-11-08T12:40:53.000Z
PRODUCT_ID = "HF789_0000_P23.JP2"
RELEASE_ID = 0133
REVISION_ID = 0000
/* QUALITY DATA ELEMENTS */
DATA_QUALITY_ID = 1
DATA_QUALITY_DESC = "Data calculated based on original SPICE kernels"
/* TIME DATA ELEMENTS */
SPACECRAFT_CLOCK_START_COUNT = "1/0414185254.09059"
SPACECRAFT_CLOCK_STOP_COUNT = "1/0414185477.55307"
START_TIME = 2016-06-16T19:28:47.547Z
STOP_TIME = 2016-06-16T19:31:11.645Z
/* ORBITAL DATA ELEMENTS */
ASCENDING_NODE_LONGITUDE = 277.27
MAXIMUM_RESOLUTION = 31.1
FOOTPRINT_POINT_LATITUDE = (56.4608,56.4456,56.4341,56.4166, 56.4021,56.4595,56.2746,56.0895,55.8119 ,55.5341,55.349,55.0712,54.8858,54.6078 ,54.4223,54.2371,54.0517,53.866,53.6804 ,53.4949,53.3094,53.1237,52.938,52.7521 ,52.5661,52.3804,52.1946,52.0087, 51.8228,51.544,51.3581,51.1722,50.9862, 50.7074,50.5215,50.2426,50.0567,49.8707 ,49.5917,49.4057,49.1267,48.9407, 48.6617,48.4758,48.1969,48.0109,47.7319 ,47.546,47.2672,47.1515,47.1632,47.1702 ,47.1762,47.1868,47.2857,47.4721, 47.6586,47.9385,48.2183,48.4048,48.6848 ,48.8715,49.0581,49.338,49.5246,49.7113 ,49.9913,50.178,50.3646,50.6447,50.8315 ,51.1115,51.2982,51.4844,51.6713, 51.8581,52.0448,52.2317,52.4184,52.605, 52.7916,52.9782,53.2581,53.4446,53.7244 ,53.9108,54.0971,54.2836,54.5632, 54.7496,54.9359,55.1223,55.3084,55.4946 ,55.681,55.9599,56.1461,56.332,56.5177, 56.4608)
FOOTPRINT_POINT_LONGITUDE = (195.658,195.125,194.762,194.254, 193.867,193.45,193.48,193.51,193.554, 193.597,193.625,193.666,193.693,193.733 ,193.759,193.785,193.81,193.835,193.86, 193.884,193.907,193.931,193.954,193.977 ,193.999,194.021,194.043,194.065, 194.086,194.117,194.137,194.157,194.177 ,194.206,194.225,194.253,194.271, 194.289,194.315,194.333,194.358,194.375 ,194.399,194.415,194.439,194.454, 194.477,194.492,194.513,194.692,195.126 ,195.409,195.674,196.184,196.472, 196.466,196.46,196.452,196.443,196.437, 196.428,196.421,196.415,196.405,196.399 ,196.392,196.382,196.375,196.368, 196.358,196.351,196.34,196.333,196.325, 196.317,196.31,196.302,196.294,196.286, 196.278,196.27,196.261,196.249,196.24, 196.227,196.218,196.209,196.2,196.186, 196.176,196.166,196.157,196.147,196.136 ,196.126,196.111,196.1,196.089,196.078, 195.658)
ORBIT_NUMBER = 15789
ORBITAL_ECCENTRICITY = 0.574
ORBITAL_INCLINATION = 86.94
ORBITAL_SEMIMAJOR_AXIS = 8812.4
PERIAPSIS_ALTITUDE = 368.84
PERIAPSIS_ARGUMENT_ANGLE = 137.87
PERIAPSIS_TIME = 2016-06-16T19:32:08.000Z
SPACECRAFT_ORIENTATION = (0.0,-1.0,0.0)
^MEX_ORIENTATION_DESC = "MEX_ORIENTATION_DESC.TXT"
SPACECRAFT_POINTING_MODE = NADIR
^MEX_POINTING_DESC = "MEX_POINTING_DESC.TXT"
RIGHT_ASCENSION = -1e+32
DECLINATION = -1e+32
OFFSET_ANGLE = -1e+32
SPACECRAFT_SOLAR_DISTANCE = 2.22711e+08
TARGET_NAME = MARS
/* CAMERA DATA ELEMENTS */
DETECTOR_TEMPERATURE = 18.3705
FOCAL_PLANE_TEMPERATURE = 8.7872
INST_CMPRS_NAME = "DISCRETE COSINE TRANSFORMATION (DCT)"
INST_CMPRS_RATIO = 6.62058
INST_CMPRS_QUALITY = 0
INST_CMPRS_QUANTZ_TBL_ID = 0
INSTRUMENT_TEMPERATURE = 11.4379
LENS_TEMPERATURE = 9.195
MACROPIXEL_SIZE = 2
MISSING_FRAMES = 0
PIXEL_SUBSAMPLING_FLAG = N
SIGNAL_CHAIN_ID = 3
/* RADIOMETRIC DATA ELEMENTS */
BANDWIDTH = 177.0
CENTER_FILTER_WAVELENGTH = 676.5
RADIANCE_OFFSET = 2.41519
RADIANCE_SCALING_FACTOR = 0.0157856
REFLECTANCE_SCALING_FACTOR = 0.000415146
MEX:REFLECTANCE_OFFSET = 0.0635174
/* IMAGE OBJECT DEFINITIONS */
OBJECT = IMAGE
  INTERCHANGE_FORMAT = BINARY
  LINES = 22320
  LINE_SAMPLES = 4406
  SAMPLE_TYPE = UNSIGNED_INTEGER
  SAMPLE_BITS = 8
  BANDS = 1
  BAND_STORAGE_TYPE = BAND_SEQUENTIAL
  MAXIMUM = 255
  MEAN = 101.82
  MINIMUM = 1
  STANDARD_DEVIATION = 36.406
END_OBJECT = IMAGE
/* MAP OBJECT DEFINITIONS */
OBJECT = IMAGE_MAP_PROJECTION
  ^DATA_SET_MAP_PROJECTION_CATALOG= "DSMAP.CAT"
  A_AXIS_RADIUS = 3396.0
  B_AXIS_RADIUS = 3396.0
  C_AXIS_RADIUS = 3396.0
  CENTER_LATITUDE = 0.0
  CENTER_LONGITUDE = 195.0
  COORDINATE_SYSTEM_NAME = PLANETOGRAPHIC
  COORDINATE_SYSTEM_TYPE = "BODY-FIXED ROTATING"
  EASTERNMOST_LONGITUDE = 196.472
  FIRST_STANDARD_PARALLEL = "N/A"
  LINE_FIRST_PIXEL = 1
  LINE_LAST_PIXEL = 22320
  LINE_PROJECTION_OFFSET = 134059.75
  MAP_PROJECTION_ROTATION = 0.0
  MAP_PROJECTION_TYPE = SINUSOIDAL
  MAP_RESOLUTION = 2370.85521546667
  MAP_SCALE = 0.025
  MAXIMUM_LATITUDE = 56.5177
  MINIMUM_LATITUDE = 47.1515
  POSITIVE_LONGITUDE_DIRECTION = EAST
  REFERENCE_LATITUDE = "N/A"
  REFERENCE_LONGITUDE = "N/A"
  SAMPLE_FIRST_PIXEL = 1
  SAMPLE_LAST_PIXEL = 4406
  SAMPLE_PROJECTION_OFFSET = 2022.25
  SECOND_STANDARD_PARALLEL = "N/A"
  WESTERNMOST_LONGITUDE = 193.45
END_OBJECT = IMAGE_MAP_PROJECTION
/* The JPEG2000 image data file associated with this label. */
OBJECT = COMPRESSED_FILE
  FILE_NAME = "HF789_0000_P23.JP2"
  RECORD_TYPE = UNDEFINED
  FILE_RECORDS = UNK
  ENCODING_TYPE = "JP2"
  INTERCHANGE_FORMAT = BINARY
  UNCOMPRESSED_FILE_NAME = "HF789_0000_P23.IMG"
  REQUIRED_STORAGE_BYTES = "98368356"
  ^DESCRIPTION = "JP2INFO.TXT"
END_OBJECT = COMPRESSED_FILE
END
