PDS_VERSION_ID = PDS3
/* FILE DATA ELEMENTS */
RECORD_TYPE = STREAM
/* POINTERS TO DATA OBJECTS */
^COMPRESSED_FILE = "HF794_0000_S13.JP2"
/* IDENTIFICATION DATA ELEMENTS */
DATA_SET_ID = "MEX-M-HRSC-5-REFDR-MAPPROJECTED-V3.0"
DATA_SET_NAME = "MARS EXPRESS HRSC MAP PROJECTED REFDR V3.0"
DETECTOR_ID = MEX_HRSC_S1
EVENT_TYPE = "MARS-REGIONAL-MAPPING-Im-Fl"
INSTRUMENT_HOST_ID = MEX
INSTRUMENT_HOST_NAME = "MARS EXPRESS"
INSTRUMENT_ID = HRSC
INSTRUMENT_NAME = "HIGH RESOLUTION STEREO CAMERA"
MISSION_NAME = "MARS EXPRESS"
MISSION_PHASE_NAME = ME_Phase_34
PROCESSING_LEVEL_ID = 3
PRODUCT_CREATION_TIME = 2016-11-08T12:40:53.000Z
PRODUCT_ID = "HF794_0000_S13.JP2"
RELEASE_ID = 0133
REVISION_ID = 0000
/* QUALITY DATA ELEMENTS */
DATA_QUALITY_ID = 1
DATA_QUALITY_DESC = "Data calculated based on original SPICE kernels"
/* TIME DATA ELEMENTS */
SPACECRAFT_CLOCK_START_COUNT = "1/0414311610.09045"
SPACECRAFT_CLOCK_STOP_COUNT = "1/0414311785.13617"
START_TIME = 2016-06-18T06:33:37.690Z
STOP_TIME = 2016-06-18T06:35:09.306Z
/* ORBITAL DATA ELEMENTS */
ASCENDING_NODE_LONGITUDE = 277.17
MAXIMUM_RESOLUTION = 32.8
FOOTPRINT_POINT_LATITUDE = (31.0633,31.0629,31.0618,31.0593, 31.0565,31.0531,30.9574,30.8392,30.6622 ,30.4847,30.3665,30.2474,30.1287,29.951 ,29.8332,29.7147,29.5368,29.3591, 29.1819,29.0635,28.8854,28.7668,28.6485 ,28.5301,28.4124,28.2905,28.056,27.9374 ,27.7597,27.5822,27.4052,27.2871, 27.1686,26.9913,26.8732,26.755,26.6332, 26.5133,26.3943,26.1643,26.0452,25.9268 ,25.8087,25.6908,25.5726,25.392,25.2706 ,25.1493,25.047,25.0487,25.0506,25.0512 ,25.0514,25.0516,25.0521,25.0525, 25.1138,25.2962,25.4184,25.5389,25.7741 ,25.8927,26.0699,26.1884,26.3069, 26.4252,26.5439,26.7219,26.8976,27.0165 ,27.135,27.2537,27.3718,27.49,27.6674, 27.7861,27.9046,28.0234,28.1429,28.2602 ,28.4362,28.5541,28.7308,28.8496, 28.9682,29.1457,29.2642,29.3834,29.5022 ,29.7355,29.8565,29.977,30.1544,30.3321 ,30.5094,30.6281,30.7473,30.8656, 30.9841,31.0633)
FOOTPRINT_POINT_LONGITUDE = (44.9847,44.804,44.5631,44.2468,44.0062 ,43.7652,43.5392,43.5404,43.5422, 43.5438,43.5448,43.5455,43.5463,43.5475 ,43.5485,43.5492,43.5503,43.5512, 43.5522,43.5528,43.5534,43.5538,43.5543 ,43.5547,43.5553,43.5545,43.5558,43.556 ,43.5562,43.5564,43.5567,43.5568, 43.5568,43.5568,43.5568,43.5567,43.5554 ,43.5547,43.5543,43.5559,43.5553,43.555 ,43.5546,43.5543,43.5539,43.553,43.5525 ,43.552,43.7222,43.8626,44.0961,44.236, 44.4694,44.6096,44.8429,45.0138,45.1588 ,45.1577,45.1568,45.1561,45.1552, 45.1545,45.1535,45.1528,45.152,45.1513, 45.1505,45.1492,45.1488,45.1478,45.147, 45.1462,45.1455,45.1448,45.1438,45.1429 ,45.1421,45.1411,45.14,45.1395,45.1389, 45.1383,45.1373,45.1364,45.1355,45.1342 ,45.1333,45.1322,45.1312,45.1307, 45.1289,45.1272,45.1259,45.1245,45.1232 ,45.1222,45.1209,45.12,45.119,44.9847)
ORBIT_NUMBER = 15794
ORBITAL_ECCENTRICITY = 0.574
ORBITAL_INCLINATION = 86.93
ORBITAL_SEMIMAJOR_AXIS = 8818.47
PERIAPSIS_ALTITUDE = 369.42
PERIAPSIS_ARGUMENT_ANGLE = 137.03
PERIAPSIS_TIME = 2016-06-18T06:31:08.000Z
SPACECRAFT_ORIENTATION = (0.0,-1.0,0.0)
^MEX_ORIENTATION_DESC = "MEX_ORIENTATION_DESC.TXT"
SPACECRAFT_POINTING_MODE = NADIR
^MEX_POINTING_DESC = "MEX_POINTING_DESC.TXT"
RIGHT_ASCENSION = -1e+32
DECLINATION = -1e+32
OFFSET_ANGLE = -1e+32
SPACECRAFT_SOLAR_DISTANCE = 2.22429e+08
TARGET_NAME = MARS
/* CAMERA DATA ELEMENTS */
DETECTOR_TEMPERATURE = 18.3705
FOCAL_PLANE_TEMPERATURE = 8.9911
INST_CMPRS_NAME = "DISCRETE COSINE TRANSFORMATION (DCT)"
INST_CMPRS_RATIO = 6.52288
INST_CMPRS_QUALITY = 0
INST_CMPRS_QUANTZ_TBL_ID = 0
INSTRUMENT_TEMPERATURE = 12.0496
LENS_TEMPERATURE = 9.6028
MACROPIXEL_SIZE = 2
MISSING_FRAMES = 0
PIXEL_SUBSAMPLING_FLAG = N
SIGNAL_CHAIN_ID = 1
/* RADIOMETRIC DATA ELEMENTS */
BANDWIDTH = 180.0
CENTER_FILTER_WAVELENGTH = 677.0
RADIANCE_OFFSET = 3.42151
RADIANCE_SCALING_FACTOR = 0.0211064
REFLECTANCE_SCALING_FACTOR = 0.000544804
MEX:REFLECTANCE_OFFSET = 0.0883167
/* IMAGE OBJECT DEFINITIONS */
OBJECT = IMAGE
  INTERCHANGE_FORMAT = BINARY
  LINES = 14177
  LINE_SAMPLES = 3719
  SAMPLE_TYPE = UNSIGNED_INTEGER
  SAMPLE_BITS = 8
  BANDS = 1
  BAND_STORAGE_TYPE = BAND_SEQUENTIAL
  MAXIMUM = 255
  MEAN = 144.029
  MINIMUM = 1
  STANDARD_DEVIATION = 21.4626
END_OBJECT = IMAGE
/* MAP OBJECT DEFINITIONS */
OBJECT = IMAGE_MAP_PROJECTION
  ^DATA_SET_MAP_PROJECTION_CATALOG= "DSMAP.CAT"
  A_AXIS_RADIUS = 3396.0
  B_AXIS_RADIUS = 3396.0
  C_AXIS_RADIUS = 3396.0
  CENTER_LATITUDE = 0.0
  CENTER_LONGITUDE = 44.0
  COORDINATE_SYSTEM_NAME = PLANETOGRAPHIC
  COORDINATE_SYSTEM_TYPE = "BODY-FIXED ROTATING"
  EASTERNMOST_LONGITUDE = 45.1588
  FIRST_STANDARD_PARALLEL = "N/A"
  LINE_FIRST_PIXEL = 1
  LINE_LAST_PIXEL = 14177
  LINE_PROJECTION_OFFSET = 73571.25
  MAP_PROJECTION_ROTATION = 0.0
  MAP_PROJECTION_TYPE = SINUSOIDAL
  MAP_RESOLUTION = 2370.85521546667
  MAP_SCALE = 0.025
  MAXIMUM_LATITUDE = 31.0633
  MINIMUM_LATITUDE = 25.047
  POSITIVE_LONGITUDE_DIRECTION = EAST
  REFERENCE_LATITUDE = "N/A"
  REFERENCE_LONGITUDE = "N/A"
  SAMPLE_FIRST_PIXEL = 1
  SAMPLE_LAST_PIXEL = 3719
  SAMPLE_PROJECTION_OFFSET = 1108.75
  SECOND_STANDARD_PARALLEL = "N/A"
  WESTERNMOST_LONGITUDE = 43.5392
END_OBJECT = IMAGE_MAP_PROJECTION
/* The JPEG2000 image data file associated with this label. */
OBJECT = COMPRESSED_FILE
  FILE_NAME = "HF794_0000_S13.JP2"
  RECORD_TYPE = UNDEFINED
  FILE_RECORDS = UNK
  ENCODING_TYPE = "JP2"
  INTERCHANGE_FORMAT = BINARY
  UNCOMPRESSED_FILE_NAME = "HF794_0000_S13.IMG"
  REQUIRED_STORAGE_BYTES = "52746577"
  ^DESCRIPTION = "JP2INFO.TXT"
END_OBJECT = COMPRESSED_FILE
END
