PDS_VERSION_ID = PDS3
/* FILE DATA ELEMENTS */
RECORD_TYPE = STREAM
/* POINTERS TO DATA OBJECTS */
^COMPRESSED_FILE = "HF797_0000_S13.JP2"
/* IDENTIFICATION DATA ELEMENTS */
DATA_SET_ID = "MEX-M-HRSC-5-REFDR-MAPPROJECTED-V3.0"
DATA_SET_NAME = "MARS EXPRESS HRSC MAP PROJECTED REFDR V3.0"
DETECTOR_ID = MEX_HRSC_S1
EVENT_TYPE = "MARS-REGIONAL-MAPPING-Im-Pf"
INSTRUMENT_HOST_ID = MEX
INSTRUMENT_HOST_NAME = "MARS EXPRESS"
INSTRUMENT_ID = HRSC
INSTRUMENT_NAME = "HIGH RESOLUTION STEREO CAMERA"
MISSION_NAME = "MARS EXPRESS"
MISSION_PHASE_NAME = ME_Phase_34
PROCESSING_LEVEL_ID = 3
PRODUCT_CREATION_TIME = 2016-11-08T12:40:53.000Z
PRODUCT_ID = "HF797_0000_S13.JP2"
RELEASE_ID = 0133
REVISION_ID = 0000
/* QUALITY DATA ELEMENTS */
DATA_QUALITY_ID = 1
DATA_QUALITY_DESC = "Data calculated based on original SPICE kernels"
/* TIME DATA ELEMENTS */
SPACECRAFT_CLOCK_START_COUNT = "1/0414386725.07297"
SPACECRAFT_CLOCK_STOP_COUNT = "1/0414386953.49113"
START_TIME = 2016-06-19T03:25:32.632Z
STOP_TIME = 2016-06-19T03:28:09.530Z
/* ORBITAL DATA ELEMENTS */
ASCENDING_NODE_LONGITUDE = 277.12
MAXIMUM_RESOLUTION = 33.3
FOOTPRINT_POINT_LATITUDE = (59.7968,59.7879,59.7779,59.7659,59.752 ,59.736,59.7181,59.4015,59.2044,59.0071 ,58.8094,58.6117,58.4152,58.2215, 58.0274,57.8332,57.6385,57.4437,57.2489 ,57.0584,56.8679,56.6768,56.4854, 56.2937,56.1019,55.8157,55.6282,55.3465 ,55.1586,54.9703,54.7819,54.593,54.3116 ,53.9427,53.6654,53.2954,52.9241, 52.7383,52.4592,52.2729,52.0863,51.8995 ,51.7129,51.5256,51.3381,51.0568, 50.8693,50.6812,50.493,50.3047,50.1135, 50.1214,50.1295,50.1343,50.1379,50.1411 ,50.4265,50.6154,50.8043,50.9928, 51.2753,51.4636,51.6516,51.8393,52.0271 ,52.2146,52.402,52.5891,52.776,52.9628, 53.1494,53.4287,53.6148,54.0793,54.4502 ,54.6403,54.8302,55.0197,55.209,55.3981 ,55.6816,55.8702,56.0613,56.2545, 56.4474,56.7365,56.9287,57.1206,57.3124 ,57.6065,57.8028,57.9985,58.2918, 58.4871,58.6848,58.8844,59.0836,59.2823 ,59.4804,59.7968)
FOOTPRINT_POINT_LONGITUDE = (97.8331,97.2992,96.8266,96.3556,95.887 ,95.4198,94.9539,94.8171,94.8567, 94.8957,94.934,94.9719,95.0087,95.0444, 95.0796,95.1142,95.1484,95.182,95.215, 95.2468,95.2782,95.309,95.3394,95.3693, 95.3988,95.4419,95.4696,95.5103,95.5371 ,95.5634,95.5893,95.6148,95.6522, 95.6998,95.7346,95.7799,95.8238,95.8453 ,95.877,95.8977,95.9181,95.9382,95.9581 ,95.9776,95.9968,96.0252,96.0438,96.062 ,96.08,96.0977,96.2596,96.5907,97.0266, 97.3602,97.6532,98.0522,98.2638,98.2592 ,98.2545,98.2499,98.2428,98.2379,98.233 ,98.228,98.2229,98.2177,98.2124,98.2072 ,98.2018,98.1963,98.1908,98.1825, 98.1769,98.1621,98.1501,98.1438,98.1373 ,98.1309,98.1244,98.1178,98.1074, 98.1006,98.0935,98.0862,98.0788,98.0673 ,98.0598,98.0522,98.0443,98.032,98.0235 ,98.0151,98.0021,97.9932,97.9841, 97.9748,97.9653,97.956,97.9468,97.8331)
ORBIT_NUMBER = 15797
ORBITAL_ECCENTRICITY = 0.574
ORBITAL_INCLINATION = 86.94
ORBITAL_SEMIMAJOR_AXIS = 8819.98
PERIAPSIS_ALTITUDE = 368.93
PERIAPSIS_ARGUMENT_ANGLE = 136.48
PERIAPSIS_TIME = 2016-06-19T03:30:29.000Z
SPACECRAFT_ORIENTATION = (0.0,-1.0,0.0)
^MEX_ORIENTATION_DESC = "MEX_ORIENTATION_DESC.TXT"
SPACECRAFT_POINTING_MODE = ACROSSTRACK
^MEX_POINTING_DESC = "MEX_POINTING_DESC.TXT"
RIGHT_ASCENSION = -1e+32
DECLINATION = -1e+32
OFFSET_ANGLE = 0.269
SPACECRAFT_SOLAR_DISTANCE = 2.22261e+08
TARGET_NAME = MARS
/* CAMERA DATA ELEMENTS */
DETECTOR_TEMPERATURE = 18.5744
FOCAL_PLANE_TEMPERATURE = 9.6028
INST_CMPRS_NAME = "DISCRETE COSINE TRANSFORMATION (DCT)"
INST_CMPRS_RATIO = 11.217
INST_CMPRS_QUALITY = 0
INST_CMPRS_QUANTZ_TBL_ID = 0
INSTRUMENT_TEMPERATURE = 12.4574
LENS_TEMPERATURE = 10.0106
MACROPIXEL_SIZE = 2
MISSING_FRAMES = 0
PIXEL_SUBSAMPLING_FLAG = N
SIGNAL_CHAIN_ID = 1
/* RADIOMETRIC DATA ELEMENTS */
BANDWIDTH = 180.0
CENTER_FILTER_WAVELENGTH = 677.0
RADIANCE_OFFSET = 3.30883
RADIANCE_SCALING_FACTOR = 0.00747092
REFLECTANCE_SCALING_FACTOR = 0.00019255
MEX:REFLECTANCE_OFFSET = 0.0852794
/* IMAGE OBJECT DEFINITIONS */
OBJECT = IMAGE
  INTERCHANGE_FORMAT = BINARY
  LINES = 22694
  LINE_SAMPLES = 4469
  SAMPLE_TYPE = UNSIGNED_INTEGER
  SAMPLE_BITS = 8
  BANDS = 1
  BAND_STORAGE_TYPE = BAND_SEQUENTIAL
  MAXIMUM = 255
  MEAN = 75.3076
  MINIMUM = 1
  STANDARD_DEVIATION = 21.2563
END_OBJECT = IMAGE
/* MAP OBJECT DEFINITIONS */
OBJECT = IMAGE_MAP_PROJECTION
  ^DATA_SET_MAP_PROJECTION_CATALOG= "DSMAP.CAT"
  A_AXIS_RADIUS = 3396.0
  B_AXIS_RADIUS = 3396.0
  C_AXIS_RADIUS = 3396.0
  CENTER_LATITUDE = 0.0
  CENTER_LONGITUDE = 97.0
  COORDINATE_SYSTEM_NAME = PLANETOGRAPHIC
  COORDINATE_SYSTEM_TYPE = "BODY-FIXED ROTATING"
  EASTERNMOST_LONGITUDE = 98.2638
  FIRST_STANDARD_PARALLEL = "N/A"
  LINE_FIRST_PIXEL = 1
  LINE_LAST_PIXEL = 22694
  LINE_PROJECTION_OFFSET = 141553.25
  MAP_PROJECTION_ROTATION = 0.0
  MAP_PROJECTION_TYPE = SINUSOIDAL
  MAP_RESOLUTION = 2370.85521546667
  MAP_SCALE = 0.025
  MAXIMUM_LATITUDE = 59.7968
  MINIMUM_LATITUDE = 50.1135
  POSITIVE_LONGITUDE_DIRECTION = EAST
  REFERENCE_LATITUDE = "N/A"
  REFERENCE_LONGITUDE = "N/A"
  SAMPLE_FIRST_PIXEL = 1
  SAMPLE_LAST_PIXEL = 4469
  SAMPLE_PROJECTION_OFFSET = 2586.75
  SECOND_STANDARD_PARALLEL = "N/A"
  WESTERNMOST_LONGITUDE = 94.8171
END_OBJECT = IMAGE_MAP_PROJECTION
/* The JPEG2000 image data file associated with this label. */
OBJECT = COMPRESSED_FILE
  FILE_NAME = "HF797_0000_S13.JP2"
  RECORD_TYPE = UNDEFINED
  FILE_RECORDS = UNK
  ENCODING_TYPE = "JP2"
  INTERCHANGE_FORMAT = BINARY
  UNCOMPRESSED_FILE_NAME = "HF797_0000_S13.IMG"
  REQUIRED_STORAGE_BYTES = "101446300"
  ^DESCRIPTION = "JP2INFO.TXT"
END_OBJECT = COMPRESSED_FILE
END
