PDS_VERSION_ID = PDS3
/* FILE DATA ELEMENTS */
RECORD_TYPE = STREAM
/* POINTERS TO DATA OBJECTS */
^COMPRESSED_FILE = "HF803_0000_IR3.JP2"
/* IDENTIFICATION DATA ELEMENTS */
DATA_SET_ID = "MEX-M-HRSC-5-REFDR-MAPPROJECTED-V3.0"
DATA_SET_NAME = "MARS EXPRESS HRSC MAP PROJECTED REFDR V3.0"
DETECTOR_ID = MEX_HRSC_IR
EVENT_TYPE = "MARS-REGIONAL-MAPPING-Pf-Eo"
INSTRUMENT_HOST_ID = MEX
INSTRUMENT_HOST_NAME = "MARS EXPRESS"
INSTRUMENT_ID = HRSC
INSTRUMENT_NAME = "HIGH RESOLUTION STEREO CAMERA"
MISSION_NAME = "MARS EXPRESS"
MISSION_PHASE_NAME = ME_Phase_34
PROCESSING_LEVEL_ID = 3
PRODUCT_CREATION_TIME = 2016-11-09T00:20:34.000Z
PRODUCT_ID = "HF803_0000_IR3.JP2"
RELEASE_ID = 0134
REVISION_ID = 0000
/* QUALITY DATA ELEMENTS */
DATA_QUALITY_ID = 1
DATA_QUALITY_DESC = "Data calculated based on original SPICE kernels"
/* TIME DATA ELEMENTS */
SPACECRAFT_CLOCK_START_COUNT = "1/0414538158.09087"
SPACECRAFT_CLOCK_STOP_COUNT = "1/0414538352.24668"
START_TIME = 2016-06-20T21:29:31.512Z
STOP_TIME = 2016-06-20T21:31:30.933Z
/* ORBITAL DATA ELEMENTS */
ASCENDING_NODE_LONGITUDE = 277.01
MAXIMUM_RESOLUTION = 62.4
FOOTPRINT_POINT_LATITUDE = (40.5985,40.5933,40.5874,40.5821, 40.5745,40.5054,40.2392,40.106,39.9727, 39.7729,39.5064,39.373,39.2398,39.1064, 38.8929,38.6539,38.4946,38.3352,38.1759 ,38.0164,37.7772,37.6178,37.3785,37.219 ,37.0594,36.8202,36.6606,36.501,36.3413 ,36.1816,36.0219,35.8622,35.7025,35.463 ,35.2234,35.0637,34.9038,34.744,34.5842 ,34.4245,34.2647,34.1049,33.9451, 33.7055,33.5456,33.3857,33.146,32.9862, 32.8264,32.7773,32.7806,32.7839,32.7861 ,32.7874,32.789,33.0292,33.1893,33.3494 ,33.5895,33.7497,33.9099,34.0699,34.23, 34.4701,34.7102,34.8703,35.1104,35.2705 ,35.5106,35.6707,35.9107,36.0707, 36.3106,36.4706,36.6305,36.7904,36.9503 ,37.1101,37.2699,37.4298,37.5897, 37.7496,37.9095,38.0693,38.3089,38.4687 ,38.6282,38.7877,39.0234,39.1572, 39.2909,39.4246,39.558,39.6917,39.8252, 40.0255,40.159,40.2925,40.4927,40.5985)
FOOTPRINT_POINT_LONGITUDE = (203.923,203.551,203.226,202.978, 202.668,202.466,202.477,202.483,202.488 ,202.495,202.505,202.51,202.515,202.52, 202.527,202.535,202.541,202.546,202.551 ,202.556,202.563,202.568,202.575, 202.579,202.584,202.59,202.594,202.598, 202.602,202.606,202.61,202.614,202.617, 202.623,202.628,202.631,202.634,202.637 ,202.641,202.644,202.646,202.649, 202.652,202.656,202.658,202.661,202.664 ,202.667,202.669,203.018,203.26,203.548 ,203.837,204.064,204.297,204.294, 204.293,204.291,204.288,204.286,204.284 ,204.283,204.281,204.278,204.275, 204.273,204.27,204.268,204.265,204.263, 204.26,204.258,204.254,204.252,204.25, 204.248,204.246,204.243,204.241,204.239 ,204.236,204.234,204.231,204.229, 204.225,204.223,204.22,204.218,204.214, 204.212,204.209,204.207,204.205,204.203 ,204.2,204.197,204.195,204.192,204.189, 203.923)
ORBIT_NUMBER = 15803
ORBITAL_ECCENTRICITY = 0.574
ORBITAL_INCLINATION = 86.94
ORBITAL_SEMIMAJOR_AXIS = 8808.31
PERIAPSIS_ALTITUDE = 370.22
PERIAPSIS_ARGUMENT_ANGLE = 135.45
PERIAPSIS_TIME = 2016-06-20T21:28:58.000Z
SPACECRAFT_ORIENTATION = (0.0,-1.0,0.0)
^MEX_ORIENTATION_DESC = "MEX_ORIENTATION_DESC.TXT"
SPACECRAFT_POINTING_MODE = NADIR
^MEX_POINTING_DESC = "MEX_POINTING_DESC.TXT"
RIGHT_ASCENSION = -1e+32
DECLINATION = -1e+32
OFFSET_ANGLE = -1e+32
SPACECRAFT_SOLAR_DISTANCE = 2.21924e+08
TARGET_NAME = MARS
/* CAMERA DATA ELEMENTS */
DETECTOR_TEMPERATURE = 16.7393
FOCAL_PLANE_TEMPERATURE = 8.5833
INST_CMPRS_NAME = "DISCRETE COSINE TRANSFORMATION (DCT)"
INST_CMPRS_RATIO = 6.39187
INST_CMPRS_QUALITY = 0
INST_CMPRS_QUANTZ_TBL_ID = 0
INSTRUMENT_TEMPERATURE = 11.6418
LENS_TEMPERATURE = 8.9911
MACROPIXEL_SIZE = 4
MISSING_FRAMES = 0
PIXEL_SUBSAMPLING_FLAG = N
SIGNAL_CHAIN_ID = 2
/* RADIOMETRIC DATA ELEMENTS */
BANDWIDTH = 81.0
CENTER_FILTER_WAVELENGTH = 955.5
RADIANCE_OFFSET = 0.658274
RADIANCE_SCALING_FACTOR = 0.00458928
REFLECTANCE_SCALING_FACTOR = 0.000487622
MEX:REFLECTANCE_OFFSET = 0.0699432
/* IMAGE OBJECT DEFINITIONS */
OBJECT = IMAGE
  INTERCHANGE_FORMAT = BINARY
  LINES = 9203
  LINE_SAMPLES = 1838
  SAMPLE_TYPE = UNSIGNED_INTEGER
  SAMPLE_BITS = 8
  BANDS = 1
  BAND_STORAGE_TYPE = BAND_SEQUENTIAL
  MAXIMUM = 254
  MEAN = 132.308
  MINIMUM = 1
  STANDARD_DEVIATION = 46.1438
END_OBJECT = IMAGE
/* MAP OBJECT DEFINITIONS */
OBJECT = IMAGE_MAP_PROJECTION
  ^DATA_SET_MAP_PROJECTION_CATALOG= "DSMAP.CAT"
  A_AXIS_RADIUS = 3396.0
  B_AXIS_RADIUS = 3396.0
  C_AXIS_RADIUS = 3396.0
  CENTER_LATITUDE = 0.0
  CENTER_LONGITUDE = 203.0
  COORDINATE_SYSTEM_NAME = PLANETOGRAPHIC
  COORDINATE_SYSTEM_TYPE = "BODY-FIXED ROTATING"
  EASTERNMOST_LONGITUDE = 204.297
  FIRST_STANDARD_PARALLEL = "N/A"
  LINE_FIRST_PIXEL = 1
  LINE_LAST_PIXEL = 9203
  LINE_PROJECTION_OFFSET = 48085.875
  MAP_PROJECTION_ROTATION = 0.0
  MAP_PROJECTION_TYPE = SINUSOIDAL
  MAP_RESOLUTION = 1185.42760773333
  MAP_SCALE = 0.05
  MAXIMUM_LATITUDE = 40.5985
  MINIMUM_LATITUDE = 32.7773
  POSITIVE_LONGITUDE_DIRECTION = EAST
  REFERENCE_LATITUDE = "N/A"
  REFERENCE_LONGITUDE = "N/A"
  SAMPLE_FIRST_PIXEL = 1
  SAMPLE_LAST_PIXEL = 1838
  SAMPLE_PROJECTION_OFFSET = 512.125
  SECOND_STANDARD_PARALLEL = "N/A"
  WESTERNMOST_LONGITUDE = 202.466
END_OBJECT = IMAGE_MAP_PROJECTION
/* The JPEG2000 image data file associated with this label. */
OBJECT = COMPRESSED_FILE
  FILE_NAME = "HF803_0000_IR3.JP2"
  RECORD_TYPE = UNDEFINED
  FILE_RECORDS = UNK
  ENCODING_TYPE = "JP2"
  INTERCHANGE_FORMAT = BINARY
  UNCOMPRESSED_FILE_NAME = "HF803_0000_IR3.IMG"
  REQUIRED_STORAGE_BYTES = "16935332"
  ^DESCRIPTION = "JP2INFO.TXT"
END_OBJECT = COMPRESSED_FILE
END
