PDS_VERSION_ID = PDS3
/* FILE DATA ELEMENTS */
RECORD_TYPE = STREAM
/* POINTERS TO DATA OBJECTS */
^COMPRESSED_FILE = "HF804_0000_BL3.JP2"
/* IDENTIFICATION DATA ELEMENTS */
DATA_SET_ID = "MEX-M-HRSC-5-REFDR-MAPPROJECTED-V3.0"
DATA_SET_NAME = "MARS EXPRESS HRSC MAP PROJECTED REFDR V3.0"
DETECTOR_ID = MEX_HRSC_BLUE
EVENT_TYPE = "MARS-REGIONAL-MAPPING-Pf"
INSTRUMENT_HOST_ID = MEX
INSTRUMENT_HOST_NAME = "MARS EXPRESS"
INSTRUMENT_ID = HRSC
INSTRUMENT_NAME = "HIGH RESOLUTION STEREO CAMERA"
MISSION_NAME = "MARS EXPRESS"
MISSION_PHASE_NAME = ME_Phase_34
PROCESSING_LEVEL_ID = 3
PRODUCT_CREATION_TIME = 2016-11-09T00:20:34.000Z
PRODUCT_ID = "HF804_0000_BL3.JP2"
RELEASE_ID = 0134
REVISION_ID = 0000
/* QUALITY DATA ELEMENTS */
DATA_QUALITY_ID = 1
DATA_QUALITY_DESC = "Data calculated based on original SPICE kernels"
/* TIME DATA ELEMENTS */
SPACECRAFT_CLOCK_START_COUNT = "1/0414563294.09047"
SPACECRAFT_CLOCK_STOP_COUNT = "1/0414563491.48292"
START_TIME = 2016-06-21T04:29:00.927Z
STOP_TIME = 2016-06-21T04:31:07.111Z
/* ORBITAL DATA ELEMENTS */
ASCENDING_NODE_LONGITUDE = 276.99
MAXIMUM_RESOLUTION = 59.8
FOOTPRINT_POINT_LATITUDE = (43.9132,43.9058,43.8995,43.8944,43.888 ,43.8231,43.6785,43.5339,43.3892, 43.1723,43.0277,42.8109,42.6663,42.3773 ,42.0883,41.6549,41.4383,41.2217, 40.9098,40.7376,40.5654,40.3933,40.2212 ,40.0492,39.8772,39.7053,39.5333, 39.3615,39.1037,38.932,38.6744,38.5028, 38.2455,38.074,37.9026,37.7312,37.5599, 37.3886,37.2174,37.0463,36.7897,36.5332 ,36.3624,36.1916,36.0208,35.8501, 35.8213,35.8266,35.8303,35.8328,35.8332 ,35.836,36.007,36.1781,36.3493,36.5205, 36.6917,36.8631,37.0344,37.2059,37.3775 ,37.5491,37.7208,37.8925,38.0643, 38.2361,38.408,38.5799,38.7519,38.924, 39.0961,39.2683,39.4405,39.6127,39.785, 39.9574,40.1298,40.3023,40.4747,40.6473 ,40.8198,40.9924,41.1518,41.2965, 41.4412,41.5859,41.7307,41.8755,42.0203 ,42.1651,42.31,42.5273,42.7446,42.8896, 43.0345,43.252,43.3969,43.6144,43.8317, 43.9132)
FOOTPRINT_POINT_LONGITUDE = (101.466,101.045,100.737,100.511, 100.252,99.9899,99.9978,100.006,100.013 ,100.025,100.032,100.043,100.05,100.064 ,100.077,100.097,100.107,100.116, 100.129,100.136,100.143,100.15,100.156, 100.163,100.169,100.175,100.181,100.187 ,100.196,100.202,100.21,100.215,100.223 ,100.228,100.233,100.238,100.243, 100.247,100.252,100.256,100.263,100.269 ,100.273,100.277,100.281,100.284, 100.611,100.999,101.295,101.482,101.684 ,101.954,101.951,101.949,101.946, 101.943,101.94,101.938,101.935,101.932, 101.929,101.926,101.923,101.92,101.917, 101.914,101.911,101.908,101.905,101.902 ,101.898,101.895,101.892,101.889, 101.885,101.882,101.878,101.875,101.871 ,101.868,101.864,101.861,101.857, 101.854,101.851,101.848,101.844,101.841 ,101.838,101.835,101.831,101.826, 101.821,101.818,101.814,101.809,101.805 ,101.8,101.794,101.466)
ORBIT_NUMBER = 15804
ORBITAL_ECCENTRICITY = 0.574
ORBITAL_INCLINATION = 86.94
ORBITAL_SEMIMAJOR_AXIS = 8817.02
PERIAPSIS_ALTITUDE = 369.8
PERIAPSIS_ARGUMENT_ANGLE = 135.27
PERIAPSIS_TIME = 2016-06-21T04:28:43.000Z
SPACECRAFT_ORIENTATION = (0.0,-1.0,0.0)
^MEX_ORIENTATION_DESC = "MEX_ORIENTATION_DESC.TXT"
SPACECRAFT_POINTING_MODE = NADIR
^MEX_POINTING_DESC = "MEX_POINTING_DESC.TXT"
RIGHT_ASCENSION = -1e+32
DECLINATION = -1e+32
OFFSET_ANGLE = -1e+32
SPACECRAFT_SOLAR_DISTANCE = 2.21869e+08
TARGET_NAME = MARS
/* CAMERA DATA ELEMENTS */
DETECTOR_TEMPERATURE = 18.5744
FOCAL_PLANE_TEMPERATURE = 9.6028
INST_CMPRS_NAME = "DISCRETE COSINE TRANSFORMATION (DCT)"
INST_CMPRS_RATIO = 5.26258
INST_CMPRS_QUALITY = 0
INST_CMPRS_QUANTZ_TBL_ID = 0
INSTRUMENT_TEMPERATURE = 12.0496
LENS_TEMPERATURE = 9.8067
MACROPIXEL_SIZE = 4
MISSING_FRAMES = 0
PIXEL_SUBSAMPLING_FLAG = N
SIGNAL_CHAIN_ID = 2
/* RADIOMETRIC DATA ELEMENTS */
BANDWIDTH = 76.0
CENTER_FILTER_WAVELENGTH = 444.0
RADIANCE_OFFSET = 0.411461
RADIANCE_SCALING_FACTOR = 0.0017226
REFLECTANCE_SCALING_FACTOR = 8.71227e-05
MEX:REFLECTANCE_OFFSET = 0.0208102
/* IMAGE OBJECT DEFINITIONS */
OBJECT = IMAGE
  INTERCHANGE_FORMAT = BINARY
  LINES = 9630
  LINE_SAMPLES = 1818
  SAMPLE_TYPE = UNSIGNED_INTEGER
  SAMPLE_BITS = 8
  BANDS = 1
  BAND_STORAGE_TYPE = BAND_SEQUENTIAL
  MAXIMUM = 255
  MEAN = 111.54
  MINIMUM = 1
  STANDARD_DEVIATION = 17.6932
END_OBJECT = IMAGE
/* MAP OBJECT DEFINITIONS */
OBJECT = IMAGE_MAP_PROJECTION
  ^DATA_SET_MAP_PROJECTION_CATALOG= "DSMAP.CAT"
  A_AXIS_RADIUS = 3396.0
  B_AXIS_RADIUS = 3396.0
  C_AXIS_RADIUS = 3396.0
  CENTER_LATITUDE = 0.0
  CENTER_LONGITUDE = 101.0
  COORDINATE_SYSTEM_NAME = PLANETOGRAPHIC
  COORDINATE_SYSTEM_TYPE = "BODY-FIXED ROTATING"
  EASTERNMOST_LONGITUDE = 101.954
  FIRST_STANDARD_PARALLEL = "N/A"
  LINE_FIRST_PIXEL = 1
  LINE_LAST_PIXEL = 9630
  LINE_PROJECTION_OFFSET = 52080.125
  MAP_PROJECTION_ROTATION = 0.0
  MAP_PROJECTION_TYPE = SINUSOIDAL
  MAP_RESOLUTION = 1185.42760773333
  MAP_SCALE = 0.05
  MAXIMUM_LATITUDE = 43.9132
  MINIMUM_LATITUDE = 35.8213
  POSITIVE_LONGITUDE_DIRECTION = EAST
  REFERENCE_LATITUDE = "N/A"
  REFERENCE_LONGITUDE = "N/A"
  SAMPLE_FIRST_PIXEL = 1
  SAMPLE_LAST_PIXEL = 1818
  SAMPLE_PROJECTION_OFFSET = 881.875
  SECOND_STANDARD_PARALLEL = "N/A"
  WESTERNMOST_LONGITUDE = 99.98990000000001
END_OBJECT = IMAGE_MAP_PROJECTION
/* The JPEG2000 image data file associated with this label. */
OBJECT = COMPRESSED_FILE
  FILE_NAME = "HF804_0000_BL3.JP2"
  RECORD_TYPE = UNDEFINED
  FILE_RECORDS = UNK
  ENCODING_TYPE = "JP2"
  INTERCHANGE_FORMAT = BINARY
  UNCOMPRESSED_FILE_NAME = "HF804_0000_BL3.IMG"
  REQUIRED_STORAGE_BYTES = "17527338"
  ^DESCRIPTION = "JP2INFO.TXT"
END_OBJECT = COMPRESSED_FILE
END
