PDS_VERSION_ID = PDS3
/* FILE DATA ELEMENTS */
RECORD_TYPE = STREAM
/* POINTERS TO DATA OBJECTS */
^COMPRESSED_FILE = "HF808_0000_P13.JP2"
/* IDENTIFICATION DATA ELEMENTS */
DATA_SET_ID = "MEX-M-HRSC-5-REFDR-MAPPROJECTED-V3.0"
DATA_SET_NAME = "MARS EXPRESS HRSC MAP PROJECTED REFDR V3.0"
DETECTOR_ID = MEX_HRSC_P1
EVENT_TYPE = "MARS-REGIONAL-MAPPING-Im-Fl"
INSTRUMENT_HOST_ID = MEX
INSTRUMENT_HOST_NAME = "MARS EXPRESS"
INSTRUMENT_ID = HRSC
INSTRUMENT_NAME = "HIGH RESOLUTION STEREO CAMERA"
MISSION_NAME = "MARS EXPRESS"
MISSION_PHASE_NAME = ME_Phase_34
PROCESSING_LEVEL_ID = 3
PRODUCT_CREATION_TIME = 2016-11-09T00:20:34.000Z
PRODUCT_ID = "HF808_0000_P13.JP2"
RELEASE_ID = 0134
REVISION_ID = 0000
/* QUALITY DATA ELEMENTS */
DATA_QUALITY_ID = 1
DATA_QUALITY_DESC = "Data calculated based on original SPICE kernels"
/* TIME DATA ELEMENTS */
SPACECRAFT_CLOCK_START_COUNT = "1/0414664184.08261"
SPACECRAFT_CLOCK_STOP_COUNT = "1/0414664542.38628"
START_TIME = 2016-06-22T08:30:03.551Z
STOP_TIME = 2016-06-22T08:34:18.772Z
/* ORBITAL DATA ELEMENTS */
ASCENDING_NODE_LONGITUDE = 276.91
MAXIMUM_RESOLUTION = 31.7
FOOTPRINT_POINT_LATITUDE = (34.4675,34.44,34.4249,34.4089,34.3918, 34.0542,33.5988,33.2947,32.8389,32.3831 ,32.0799,31.7772,31.4727,31.1719, 30.8681,30.562,30.2592,29.9624,29.5006, 29.1906,28.8793,28.4152,28.1058,27.7907 ,27.476,27.1601,26.8426,26.5259,26.2046 ,25.8812,25.5558,25.0703,24.5731, 24.0696,23.7446,23.4074,23.0667,22.5554 ,22.2071,21.862,21.5229,21.1709,20.8181 ,20.286,19.9281,19.3905,19.0253,18.66, 18.2933,18.1177,18.1313,18.1428,18.1569 ,18.1638,18.1676,18.5395,18.9075, 19.4557,19.8141,20.1739,20.5322,20.8856 ,21.2412,21.5948,21.9402,22.2861, 22.8017,23.1397,23.4787,23.9849,24.3171 ,24.8151,25.1473,25.4714,25.7955, 26.1201,26.6073,26.9236,27.2408,27.5592 ,27.8746,28.1919,28.5022,28.9674, 29.2777,29.5888,29.8989,30.2023,30.5048 ,30.8083,31.1122,31.5686,32.1763, 32.4815,32.937,33.3934,33.6977,34.001, 34.3065,34.4675)
FOOTPRINT_POINT_LONGITUDE = (51.1388,50.6316,50.3732,50.1116, 49.8462,49.6985,49.7131,49.7216,49.7339 ,49.7454,49.7533,49.7616,49.7669, 49.7767,49.7821,49.784,49.7898,49.8029, 49.8098,49.8152,49.8186,49.8263,49.8307 ,49.8354,49.8425,49.8474,49.8498, 49.8527,49.8586,49.8621,49.8626,49.866, 49.8679,49.8607,49.8694,49.871,49.8677, 49.8624,49.8579,49.8564,49.8612,49.8579 ,49.8545,49.8471,49.845,49.8393,49.835, 49.8304,49.826,50.066,50.4186,50.7657, 51.2166,51.4482,51.7013,51.6968,51.6926 ,51.6854,51.6806,51.6758,51.671,51.6662 ,51.6617,51.657,51.6519,51.6467,51.6386 ,51.6331,51.6276,51.6193,51.6138, 51.6051,51.5992,51.5931,51.587,51.5808, 51.5714,51.5649,51.5584,51.552,51.5448, 51.5384,51.5317,51.5213,51.5142,51.5072 ,51.5,51.4929,51.4855,51.4782,51.4708, 51.4596,51.4439,51.4362,51.4236,51.4109 ,51.4023,51.3931,51.3846,51.1388)
ORBIT_NUMBER = 15808
ORBITAL_ECCENTRICITY = 0.574
ORBITAL_INCLINATION = 86.94
ORBITAL_SEMIMAJOR_AXIS = 8813.48
PERIAPSIS_ALTITUDE = 370.78
PERIAPSIS_ARGUMENT_ANGLE = 134.61
PERIAPSIS_TIME = 2016-06-22T08:27:37.000Z
SPACECRAFT_ORIENTATION = (0.0,-1.0,0.0)
^MEX_ORIENTATION_DESC = "MEX_ORIENTATION_DESC.TXT"
SPACECRAFT_POINTING_MODE = ACROSSTRACK
^MEX_POINTING_DESC = "MEX_POINTING_DESC.TXT"
RIGHT_ASCENSION = -1e+32
DECLINATION = -1e+32
OFFSET_ANGLE = -1.1
SPACECRAFT_SOLAR_DISTANCE = 2.21645e+08
TARGET_NAME = MARS
/* CAMERA DATA ELEMENTS */
DETECTOR_TEMPERATURE = 17.7588
FOCAL_PLANE_TEMPERATURE = 8.5833
INST_CMPRS_NAME = "DISCRETE COSINE TRANSFORMATION (DCT)"
INST_CMPRS_RATIO = 6.63087
INST_CMPRS_QUALITY = 0
INST_CMPRS_QUANTZ_TBL_ID = 0
INSTRUMENT_TEMPERATURE = 11.6418
LENS_TEMPERATURE = 8.9911
MACROPIXEL_SIZE = 2
MISSING_FRAMES = 0
PIXEL_SUBSAMPLING_FLAG = N
SIGNAL_CHAIN_ID = 3
/* RADIOMETRIC DATA ELEMENTS */
BANDWIDTH = 174.0
CENTER_FILTER_WAVELENGTH = 675.0
RADIANCE_OFFSET = 3.14051
RADIANCE_SCALING_FACTOR = 0.0255911
REFLECTANCE_SCALING_FACTOR = 0.000676223
MEX:REFLECTANCE_OFFSET = 0.0829852
/* IMAGE OBJECT DEFINITIONS */
OBJECT = IMAGE
  INTERCHANGE_FORMAT = BINARY
  LINES = 38615
  LINE_SAMPLES = 4606
  SAMPLE_TYPE = UNSIGNED_INTEGER
  SAMPLE_BITS = 8
  BANDS = 1
  BAND_STORAGE_TYPE = BAND_SEQUENTIAL
  MAXIMUM = 255
  MEAN = 126.965
  MINIMUM = 1
  STANDARD_DEVIATION = 25.4999
END_OBJECT = IMAGE
/* MAP OBJECT DEFINITIONS */
OBJECT = IMAGE_MAP_PROJECTION
  ^DATA_SET_MAP_PROJECTION_CATALOG= "DSMAP.CAT"
  A_AXIS_RADIUS = 3396.0
  B_AXIS_RADIUS = 3396.0
  C_AXIS_RADIUS = 3396.0
  CENTER_LATITUDE = 0.0
  CENTER_LONGITUDE = 51.0
  COORDINATE_SYSTEM_NAME = PLANETOGRAPHIC
  COORDINATE_SYSTEM_TYPE = "BODY-FIXED ROTATING"
  EASTERNMOST_LONGITUDE = 51.7013
  FIRST_STANDARD_PARALLEL = "N/A"
  LINE_FIRST_PIXEL = 1
  LINE_LAST_PIXEL = 38615
  LINE_PROJECTION_OFFSET = 81593.75
  MAP_PROJECTION_ROTATION = 0.0
  MAP_PROJECTION_TYPE = SINUSOIDAL
  MAP_RESOLUTION = 2370.85521546667
  MAP_SCALE = 0.025
  MAXIMUM_LATITUDE = 34.4675
  MINIMUM_LATITUDE = 18.1177
  POSITIVE_LONGITUDE_DIRECTION = EAST
  REFERENCE_LATITUDE = "N/A"
  REFERENCE_LONGITUDE = "N/A"
  SAMPLE_FIRST_PIXEL = 1
  SAMPLE_LAST_PIXEL = 4606
  SAMPLE_PROJECTION_OFFSET = 2935.25
  SECOND_STANDARD_PARALLEL = "N/A"
  WESTERNMOST_LONGITUDE = 49.6985
END_OBJECT = IMAGE_MAP_PROJECTION
/* The JPEG2000 image data file associated with this label. */
OBJECT = COMPRESSED_FILE
  FILE_NAME = "HF808_0000_P13.JP2"
  RECORD_TYPE = UNDEFINED
  FILE_RECORDS = UNK
  ENCODING_TYPE = "JP2"
  INTERCHANGE_FORMAT = BINARY
  UNCOMPRESSED_FILE_NAME = "HF808_0000_P13.IMG"
  REQUIRED_STORAGE_BYTES = "177883720"
  ^DESCRIPTION = "JP2INFO.TXT"
END_OBJECT = COMPRESSED_FILE
END
