PDS_VERSION_ID = PDS3
/* FILE DATA ELEMENTS */
RECORD_TYPE = STREAM
/* POINTERS TO DATA OBJECTS */
^COMPRESSED_FILE = "HF815_0009_RE3.JP2"
/* IDENTIFICATION DATA ELEMENTS */
DATA_SET_ID = "MEX-M-HRSC-5-REFDR-MAPPROJECTED-V3.0"
DATA_SET_NAME = "MARS EXPRESS HRSC MAP PROJECTED REFDR V3.0"
DETECTOR_ID = MEX_HRSC_RED
EVENT_TYPE = "MARS-REGIONAL-MAPPING-Im-Fl"
INSTRUMENT_HOST_ID = MEX
INSTRUMENT_HOST_NAME = "MARS EXPRESS"
INSTRUMENT_ID = HRSC
INSTRUMENT_NAME = "HIGH RESOLUTION STEREO CAMERA"
MISSION_NAME = "MARS EXPRESS"
MISSION_PHASE_NAME = ME_Phase_34
PROCESSING_LEVEL_ID = 3
PRODUCT_CREATION_TIME = 2016-11-09T00:20:34.000Z
PRODUCT_ID = "HF815_0009_RE3.JP2"
RELEASE_ID = 0134
REVISION_ID = 0000
/* QUALITY DATA ELEMENTS */
DATA_QUALITY_ID = 1
DATA_QUALITY_DESC = "Data calculated based on original SPICE kernels"
/* TIME DATA ELEMENTS */
SPACECRAFT_CLOCK_START_COUNT = "1/0414840645.07317"
SPACECRAFT_CLOCK_STOP_COUNT = "1/0414840968.26831"
START_TIME = 2016-06-24T09:32:15.670Z
STOP_TIME = 2016-06-24T09:36:00.142Z
/* ORBITAL DATA ELEMENTS */
ASCENDING_NODE_LONGITUDE = 276.78
MAXIMUM_RESOLUTION = 83.6
FOOTPRINT_POINT_LATITUDE = (23.7927,23.7947,23.7961,23.7982, 23.8005,23.7051,23.3782,23.0522,22.7243 ,22.5043,22.1742,21.9519,21.7289, 21.5035,21.2803,20.9399,20.7126,20.4844 ,20.2535,20.0227,19.7988,19.5659, 19.2191,18.9755,18.7382,18.3836,18.1444 ,17.9073,17.6653,17.3055,17.0588, 16.6941,16.4484,16.2029,15.9546,15.7046 ,15.457,15.2029,14.9518,14.5779,14.1936 ,13.936,13.6737,13.4107,13.149,12.8868, 12.6211,12.3541,12.0857,11.8181,11.7937 ,11.7893,11.7806,11.7761,11.7713,11.763 ,11.758,12.026,12.2947,12.6948,13.0911, 13.3549,13.6154,13.876,14.1341,14.3923, 14.7749,15.03,15.2819,15.6592,16.0326, 16.4028,16.6504,17.0185,17.2636,17.5042 ,17.7461,18.1066,18.3466,18.5843, 18.9375,19.1727,19.405,19.6374,19.9847, 20.3293,20.56,20.7861,21.013,21.2423, 21.4668,21.6915,22.0286,22.2492,22.4706 ,22.6917,22.9124,23.2402,23.4587, 23.7927)
FOOTPRINT_POINT_LONGITUDE = (56.7373,56.3998,56.1514,55.7433, 55.2644,54.8979,54.8924,54.8861,54.8798 ,54.8749,54.8678,54.8632,54.8579, 54.8535,54.8484,54.8402,54.835,54.8296, 54.8241,54.8185,54.8101,54.8038,54.7936 ,54.7899,54.7837,54.7733,54.7663, 54.7586,54.7514,54.7392,54.7322,54.7196 ,54.7108,54.7018,54.6931,54.6843, 54.6744,54.6656,54.6559,54.6382,54.6228 ,54.6127,54.6029,54.5933,54.5819, 54.5707,54.5592,54.5481,54.5364,54.5245 ,54.8174,55.0672,55.4981,55.8157, 56.0427,56.5423,56.9596,56.9559,56.9523 ,56.9471,56.9418,56.9383,56.9349, 56.9314,56.9282,56.9247,56.9197,56.9167 ,56.9133,56.9086,56.9032,56.8984, 56.8954,56.8916,56.8887,56.8856,56.8826 ,56.8788,56.8763,56.8735,56.869,56.8658 ,56.8629,56.8598,56.8555,56.8511, 56.8485,56.8456,56.8428,56.8407,56.8383 ,56.8358,56.8319,56.8293,56.8267, 56.8239,56.8216,56.818,56.8155,56.7373)
ORBIT_NUMBER = 15815
ORBITAL_ECCENTRICITY = 0.574
ORBITAL_INCLINATION = 86.94
ORBITAL_SEMIMAJOR_AXIS = 8811.39
PERIAPSIS_ALTITUDE = 371.4
PERIAPSIS_ARGUMENT_ANGLE = 133.4
PERIAPSIS_TIME = 2016-06-24T09:25:36.000Z
SPACECRAFT_ORIENTATION = (0.0,-1.0,0.0)
^MEX_ORIENTATION_DESC = "MEX_ORIENTATION_DESC.TXT"
SPACECRAFT_POINTING_MODE = NADIR
^MEX_POINTING_DESC = "MEX_POINTING_DESC.TXT"
RIGHT_ASCENSION = -1e+32
DECLINATION = -1e+32
OFFSET_ANGLE = -1e+32
SPACECRAFT_SOLAR_DISTANCE = 2.21255e+08
TARGET_NAME = MARS
/* CAMERA DATA ELEMENTS */
DETECTOR_TEMPERATURE = 18.9822
FOCAL_PLANE_TEMPERATURE = 9.195
INST_CMPRS_NAME = "DISCRETE COSINE TRANSFORMATION (DCT)"
INST_CMPRS_RATIO = 6.30164
INST_CMPRS_QUALITY = 0
INST_CMPRS_QUANTZ_TBL_ID = 0
INSTRUMENT_TEMPERATURE = 12.0496
LENS_TEMPERATURE = 10.0106
MACROPIXEL_SIZE = 4
MISSING_FRAMES = 0
PIXEL_SUBSAMPLING_FLAG = N
SIGNAL_CHAIN_ID = 2
/* RADIOMETRIC DATA ELEMENTS */
BANDWIDTH = 48.0
CENTER_FILTER_WAVELENGTH = 748.0
RADIANCE_OFFSET = 1.0773
RADIANCE_SCALING_FACTOR = 0.00619301
REFLECTANCE_SCALING_FACTOR = 0.000691855
MEX:REFLECTANCE_OFFSET = 0.120351
/* IMAGE OBJECT DEFINITIONS */
OBJECT = IMAGE
  INTERCHANGE_FORMAT = BINARY
  LINES = 7139
  LINE_SAMPLES = 1337
  SAMPLE_TYPE = UNSIGNED_INTEGER
  SAMPLE_BITS = 8
  BANDS = 1
  BAND_STORAGE_TYPE = BAND_SEQUENTIAL
  MAXIMUM = 255
  MEAN = 137.295
  MINIMUM = 1
  STANDARD_DEVIATION = 20.3307
END_OBJECT = IMAGE
/* MAP OBJECT DEFINITIONS */
OBJECT = IMAGE_MAP_PROJECTION
  ^DATA_SET_MAP_PROJECTION_CATALOG= "DSMAP.CAT"
  A_AXIS_RADIUS = 3396.0
  B_AXIS_RADIUS = 3396.0
  C_AXIS_RADIUS = 3396.0
  CENTER_LATITUDE = 0.0
  CENTER_LONGITUDE = 56.0
  COORDINATE_SYSTEM_NAME = PLANETOGRAPHIC
  COORDINATE_SYSTEM_TYPE = "BODY-FIXED ROTATING"
  EASTERNMOST_LONGITUDE = 56.9596
  FIRST_STANDARD_PARALLEL = "N/A"
  LINE_FIRST_PIXEL = 1
  LINE_LAST_PIXEL = 7139
  LINE_PROJECTION_OFFSET = 14116.875
  MAP_PROJECTION_ROTATION = 0.0
  MAP_PROJECTION_TYPE = SINUSOIDAL
  MAP_RESOLUTION = 592.713803866667
  MAP_SCALE = 0.1
  MAXIMUM_LATITUDE = 23.8005
  MINIMUM_LATITUDE = 11.758
  POSITIVE_LONGITUDE_DIRECTION = EAST
  REFERENCE_LATITUDE = "N/A"
  REFERENCE_LONGITUDE = "N/A"
  SAMPLE_FIRST_PIXEL = 1
  SAMPLE_LAST_PIXEL = 1337
  SAMPLE_PROJECTION_OFFSET = 819.875
  SECOND_STANDARD_PARALLEL = "N/A"
  WESTERNMOST_LONGITUDE = 54.5245
END_OBJECT = IMAGE_MAP_PROJECTION
/* The JPEG2000 image data file associated with this label. */
OBJECT = COMPRESSED_FILE
  FILE_NAME = "HF815_0009_RE3.JP2"
  RECORD_TYPE = UNDEFINED
  FILE_RECORDS = UNK
  ENCODING_TYPE = "JP2"
  INTERCHANGE_FORMAT = BINARY
  UNCOMPRESSED_FILE_NAME = "HF815_0009_RE3.IMG"
  REQUIRED_STORAGE_BYTES = "9563561"
  ^DESCRIPTION = "JP2INFO.TXT"
END_OBJECT = COMPRESSED_FILE
END
