PDS_VERSION_ID = PDS3
/* FILE DATA ELEMENTS */
RECORD_TYPE = STREAM
/* POINTERS TO DATA OBJECTS */
^COMPRESSED_FILE = "HF817_0000_BL3.JP2"
/* IDENTIFICATION DATA ELEMENTS */
DATA_SET_ID = "MEX-M-HRSC-5-REFDR-MAPPROJECTED-V3.0"
DATA_SET_NAME = "MARS EXPRESS HRSC MAP PROJECTED REFDR V3.0"
DETECTOR_ID = MEX_HRSC_BLUE
EVENT_TYPE = "MARS-REGIONAL-MAPPING-Te-Pf"
INSTRUMENT_HOST_ID = MEX
INSTRUMENT_HOST_NAME = "MARS EXPRESS"
INSTRUMENT_ID = HRSC
INSTRUMENT_NAME = "HIGH RESOLUTION STEREO CAMERA"
MISSION_NAME = "MARS EXPRESS"
MISSION_PHASE_NAME = ME_Phase_34
PROCESSING_LEVEL_ID = 3
PRODUCT_CREATION_TIME = 2016-11-09T00:20:34.000Z
PRODUCT_ID = "HF817_0000_BL3.JP2"
RELEASE_ID = 0134
REVISION_ID = 0000
/* QUALITY DATA ELEMENTS */
DATA_QUALITY_ID = 1
DATA_QUALITY_DESC = "Data calculated based on original SPICE kernels"
/* TIME DATA ELEMENTS */
SPACECRAFT_CLOCK_START_COUNT = "1/0414890732.08277"
SPACECRAFT_CLOCK_STOP_COUNT = "1/0414890880.40044"
START_TIME = 2016-06-24T23:26:19.035Z
STOP_TIME = 2016-06-24T23:27:35.430Z
/* ORBITAL DATA ELEMENTS */
ASCENDING_NODE_LONGITUDE = 276.74
MAXIMUM_RESOLUTION = 60.8
FOOTPRINT_POINT_LATITUDE = (41.8931,41.8896,41.8857,41.8812, 41.8762,41.8725,41.8322,41.7351,41.5896 ,41.4925,41.3956,41.2986,41.2016, 41.0562,40.9593,40.8624,40.717,40.6202, 40.4748,40.378,40.2812,40.1845,40.0877, 39.9909,39.8942,39.7975,39.7007,39.6041 ,39.5074,39.4108,39.3142,39.2176, 39.0727,38.9762,38.8797,38.7832,38.542, 38.3491,38.2045,37.9637,37.7712,37.6268 ,37.4344,37.2422,37.098,37.0142,37.0169 ,37.0189,37.0207,37.0225,37.0241, 37.0256,37.0274,37.0287,37.0297,37.0308 ,37.0318,37.1292,37.3218,37.4663, 37.6591,37.8038,37.9967,38.0932,38.1898 ,38.2863,38.3829,38.4795,38.5761, 38.6727,38.8177,38.9144,39.0111,39.1562 ,39.253,39.3498,39.495,39.5919,39.6887, 39.8341,39.931,40.028,40.1249,40.2219, 40.3188,40.4159,40.5129,40.6099,40.707, 40.8526,40.9497,41.0954,41.1926,41.2897 ,41.4355,41.5327,41.6299,41.7271, 41.8244,41.8931)
FOOTPRINT_POINT_LONGITUDE = (212.029,211.771,211.514,211.258, 211.004,210.829,210.588,210.591,210.596 ,210.599,210.603,210.606,210.609, 210.614,210.617,210.62,210.624,210.627, 210.632,210.635,210.637,210.64,210.643, 210.646,210.648,210.651,210.654,210.656 ,210.659,210.661,210.664,210.666,210.67 ,210.672,210.674,210.677,210.682, 210.687,210.69,210.695,210.699,210.701, 210.705,210.708,210.711,210.838,210.998 ,211.126,211.254,211.382,211.51,211.638 ,211.816,211.945,212.074,212.22,212.398 ,212.435,212.433,212.431,212.428, 212.427,212.424,212.423,212.422,212.42, 212.419,212.418,212.417,212.415,212.413 ,212.412,212.411,212.409,212.407, 212.406,212.404,212.402,212.401,212.399 ,212.398,212.396,212.395,212.393, 212.392,212.39,212.389,212.387,212.386, 212.384,212.382,212.38,212.378,212.377, 212.374,212.373,212.371,212.369,212.368 ,212.029)
ORBIT_NUMBER = 15817
ORBITAL_ECCENTRICITY = 0.573
ORBITAL_INCLINATION = 86.95
ORBITAL_SEMIMAJOR_AXIS = 8805.09
PERIAPSIS_ALTITUDE = 371.45
PERIAPSIS_ARGUMENT_ANGLE = 133.03
PERIAPSIS_TIME = 2016-06-24T23:24:55.000Z
SPACECRAFT_ORIENTATION = (0.0,-1.0,0.0)
^MEX_ORIENTATION_DESC = "MEX_ORIENTATION_DESC.TXT"
SPACECRAFT_POINTING_MODE = ACROSSTRACK
^MEX_POINTING_DESC = "MEX_POINTING_DESC.TXT"
RIGHT_ASCENSION = -1e+32
DECLINATION = -1e+32
OFFSET_ANGLE = 0.3
SPACECRAFT_SOLAR_DISTANCE = 2.21144e+08
TARGET_NAME = MARS
/* CAMERA DATA ELEMENTS */
DETECTOR_TEMPERATURE = 18.3705
FOCAL_PLANE_TEMPERATURE = 8.5833
INST_CMPRS_NAME = "DISCRETE COSINE TRANSFORMATION (DCT)"
INST_CMPRS_RATIO = 6.0011
INST_CMPRS_QUALITY = 0
INST_CMPRS_QUANTZ_TBL_ID = 0
INSTRUMENT_TEMPERATURE = 11.8457
LENS_TEMPERATURE = 9.195
MACROPIXEL_SIZE = 4
MISSING_FRAMES = 0
PIXEL_SUBSAMPLING_FLAG = N
SIGNAL_CHAIN_ID = 2
/* RADIOMETRIC DATA ELEMENTS */
BANDWIDTH = 76.0
CENTER_FILTER_WAVELENGTH = 444.0
RADIANCE_OFFSET = 0.457571
RADIANCE_SCALING_FACTOR = 0.00102095
REFLECTANCE_SCALING_FACTOR = 5.12993e-05
MEX:REFLECTANCE_OFFSET = 0.0229914
/* IMAGE OBJECT DEFINITIONS */
OBJECT = IMAGE
  INTERCHANGE_FORMAT = BINARY
  LINES = 5792
  LINE_SAMPLES = 1700
  SAMPLE_TYPE = UNSIGNED_INTEGER
  SAMPLE_BITS = 8
  BANDS = 1
  BAND_STORAGE_TYPE = BAND_SEQUENTIAL
  MAXIMUM = 255
  MEAN = 122.626
  MINIMUM = 1
  STANDARD_DEVIATION = 25.6375
END_OBJECT = IMAGE
/* MAP OBJECT DEFINITIONS */
OBJECT = IMAGE_MAP_PROJECTION
  ^DATA_SET_MAP_PROJECTION_CATALOG= "DSMAP.CAT"
  A_AXIS_RADIUS = 3396.0
  B_AXIS_RADIUS = 3396.0
  C_AXIS_RADIUS = 3396.0
  CENTER_LATITUDE = 0.0
  CENTER_LONGITUDE = 212.0
  COORDINATE_SYSTEM_NAME = PLANETOGRAPHIC
  COORDINATE_SYSTEM_TYPE = "BODY-FIXED ROTATING"
  EASTERNMOST_LONGITUDE = 212.435
  FIRST_STANDARD_PARALLEL = "N/A"
  LINE_FIRST_PIXEL = 1
  LINE_LAST_PIXEL = 5792
  LINE_PROJECTION_OFFSET = 49670.375
  MAP_PROJECTION_ROTATION = 0.0
  MAP_PROJECTION_TYPE = SINUSOIDAL
  MAP_RESOLUTION = 1185.42760773333
  MAP_SCALE = 0.05
  MAXIMUM_LATITUDE = 41.8931
  MINIMUM_LATITUDE = 37.0142
  POSITIVE_LONGITUDE_DIRECTION = EAST
  REFERENCE_LATITUDE = "N/A"
  REFERENCE_LONGITUDE = "N/A"
  SAMPLE_FIRST_PIXEL = 1
  SAMPLE_LAST_PIXEL = 1700
  SAMPLE_PROJECTION_OFFSET = 1262.875
  SECOND_STANDARD_PARALLEL = "N/A"
  WESTERNMOST_LONGITUDE = 210.588
END_OBJECT = IMAGE_MAP_PROJECTION
/* The JPEG2000 image data file associated with this label. */
OBJECT = COMPRESSED_FILE
  FILE_NAME = "HF817_0000_BL3.JP2"
  RECORD_TYPE = UNDEFINED
  FILE_RECORDS = UNK
  ENCODING_TYPE = "JP2"
  INTERCHANGE_FORMAT = BINARY
  UNCOMPRESSED_FILE_NAME = "HF817_0000_BL3.IMG"
  REQUIRED_STORAGE_BYTES = "9866800"
  ^DESCRIPTION = "JP2INFO.TXT"
END_OBJECT = COMPRESSED_FILE
END
