PDS_VERSION_ID = PDS3
/* FILE DATA ELEMENTS */
RECORD_TYPE = STREAM
/* POINTERS TO DATA OBJECTS */
^COMPRESSED_FILE = "HF817_0000_S13.JP2"
/* IDENTIFICATION DATA ELEMENTS */
DATA_SET_ID = "MEX-M-HRSC-5-REFDR-MAPPROJECTED-V3.0"
DATA_SET_NAME = "MARS EXPRESS HRSC MAP PROJECTED REFDR V3.0"
DETECTOR_ID = MEX_HRSC_S1
EVENT_TYPE = "MARS-REGIONAL-MAPPING-Te-Pf"
INSTRUMENT_HOST_ID = MEX
INSTRUMENT_HOST_NAME = "MARS EXPRESS"
INSTRUMENT_ID = HRSC
INSTRUMENT_NAME = "HIGH RESOLUTION STEREO CAMERA"
MISSION_NAME = "MARS EXPRESS"
MISSION_PHASE_NAME = ME_Phase_34
PROCESSING_LEVEL_ID = 3
PRODUCT_CREATION_TIME = 2016-11-09T00:20:34.000Z
PRODUCT_ID = "HF817_0000_S13.JP2"
RELEASE_ID = 0134
REVISION_ID = 0000
/* QUALITY DATA ELEMENTS */
DATA_QUALITY_ID = 1
DATA_QUALITY_DESC = "Data calculated based on original SPICE kernels"
/* TIME DATA ELEMENTS */
SPACECRAFT_CLOCK_START_COUNT = "1/0414890732.08277"
SPACECRAFT_CLOCK_STOP_COUNT = "1/0414890880.40044"
START_TIME = 2016-06-24T23:25:39.698Z
STOP_TIME = 2016-06-24T23:26:54.584Z
/* ORBITAL DATA ELEMENTS */
ASCENDING_NODE_LONGITUDE = 276.74
MAXIMUM_RESOLUTION = 31.9
FOOTPRINT_POINT_LATITUDE = (41.9402,41.9415,41.942,41.9423,41.9423 ,41.9421,41.9417,41.9411,41.9403, 41.9393,41.9381,41.9367,41.935,41.7612, 41.6173,41.4253,41.1852,40.9931,40.7529 ,40.6087,40.4166,40.2723,40.176,39.9836 ,39.8393,39.6469,39.5025,39.4062, 39.3098,39.1653,39.0689,38.9725,38.8279 ,38.7315,38.6352,38.4906,38.3942, 38.2496,38.1532,38.0567,37.9119,37.8156 ,37.719,37.5743,37.4777,37.3328,37.2362 ,37.1396,36.9988,37.0,37.0005,37.0009, 37.0011,37.001,37.0008,37.0004,36.9996, 36.9984,36.9972,36.9956,37.043,37.1882, 37.285,37.3817,37.5267,37.6234,37.7199, 37.865,37.9616,38.0583,38.2033,38.2999, 38.4449,38.5415,38.6382,38.7348,38.8314 ,38.9763,39.1212,39.2177,39.3142,39.459 ,39.5555,39.652,39.7966,39.9892,40.1339 ,40.3266,40.4712,40.5675,40.6638, 40.8084,40.9047,41.001,41.1454,41.3379, 41.4823,41.6748,41.8191,41.9402)
FOOTPRINT_POINT_LONGITUDE = (212.319,212.067,211.934,211.8,211.667, 211.534,211.401,211.269,211.136,211.004 ,210.873,210.741,210.61,210.595,210.6, 210.607,210.616,210.622,210.631,210.635 ,210.642,210.646,210.649,210.655, 210.659,210.665,210.669,210.672,210.675 ,210.678,210.681,210.684,210.687,210.69 ,210.692,210.696,210.698,210.702, 210.704,210.706,210.71,210.712,210.714, 210.717,210.719,210.722,210.724,210.726 ,210.729,210.907,211.037,211.168, 211.298,211.429,211.56,211.692,211.84, 211.989,212.121,212.286,212.425,212.423 ,212.422,212.421,212.42,212.419,212.418 ,212.416,212.415,212.414,212.413, 212.412,212.41,212.409,212.408,212.407, 212.406,212.404,212.402,212.401,212.4, 212.399,212.397,212.396,212.394,212.392 ,212.391,212.388,212.386,212.385, 212.384,212.382,212.381,212.379,212.377 ,212.375,212.373,212.37,212.368, 212.319)
ORBIT_NUMBER = 15817
ORBITAL_ECCENTRICITY = 0.573
ORBITAL_INCLINATION = 86.95
ORBITAL_SEMIMAJOR_AXIS = 8805.09
PERIAPSIS_ALTITUDE = 371.45
PERIAPSIS_ARGUMENT_ANGLE = 133.03
PERIAPSIS_TIME = 2016-06-24T23:24:55.000Z
SPACECRAFT_ORIENTATION = (0.0,-1.0,0.0)
^MEX_ORIENTATION_DESC = "MEX_ORIENTATION_DESC.TXT"
SPACECRAFT_POINTING_MODE = ACROSSTRACK
^MEX_POINTING_DESC = "MEX_POINTING_DESC.TXT"
RIGHT_ASCENSION = -1e+32
DECLINATION = -1e+32
OFFSET_ANGLE = 0.3
SPACECRAFT_SOLAR_DISTANCE = 2.21144e+08
TARGET_NAME = MARS
/* CAMERA DATA ELEMENTS */
DETECTOR_TEMPERATURE = 17.7588
FOCAL_PLANE_TEMPERATURE = 8.5833
INST_CMPRS_NAME = "DISCRETE COSINE TRANSFORMATION (DCT)"
INST_CMPRS_RATIO = 3.12041
INST_CMPRS_QUALITY = 0
INST_CMPRS_QUANTZ_TBL_ID = 0
INSTRUMENT_TEMPERATURE = 11.8457
LENS_TEMPERATURE = 9.195
MACROPIXEL_SIZE = 2
MISSING_FRAMES = 0
PIXEL_SUBSAMPLING_FLAG = N
SIGNAL_CHAIN_ID = 1
/* RADIOMETRIC DATA ELEMENTS */
BANDWIDTH = 180.0
CENTER_FILTER_WAVELENGTH = 677.0
RADIANCE_OFFSET = 3.57727
RADIANCE_SCALING_FACTOR = 0.0149053
REFLECTANCE_SCALING_FACTOR = 0.000380307
MEX:REFLECTANCE_OFFSET = 0.0912736
/* IMAGE OBJECT DEFINITIONS */
OBJECT = IMAGE
  INTERCHANGE_FORMAT = BINARY
  LINES = 11583
  LINE_SAMPLES = 3399
  SAMPLE_TYPE = UNSIGNED_INTEGER
  SAMPLE_BITS = 8
  BANDS = 1
  BAND_STORAGE_TYPE = BAND_SEQUENTIAL
  MAXIMUM = 255
  MEAN = 130.862
  MINIMUM = 1
  STANDARD_DEVIATION = 26.5419
END_OBJECT = IMAGE
/* MAP OBJECT DEFINITIONS */
OBJECT = IMAGE_MAP_PROJECTION
  ^DATA_SET_MAP_PROJECTION_CATALOG= "DSMAP.CAT"
  A_AXIS_RADIUS = 3396.0
  B_AXIS_RADIUS = 3396.0
  C_AXIS_RADIUS = 3396.0
  CENTER_LATITUDE = 0.0
  CENTER_LONGITUDE = 212.0
  COORDINATE_SYSTEM_NAME = PLANETOGRAPHIC
  COORDINATE_SYSTEM_TYPE = "BODY-FIXED ROTATING"
  EASTERNMOST_LONGITUDE = 212.425
  FIRST_STANDARD_PARALLEL = "N/A"
  LINE_FIRST_PIXEL = 1
  LINE_LAST_PIXEL = 11583
  LINE_PROJECTION_OFFSET = 99341.25
  MAP_PROJECTION_ROTATION = 0.0
  MAP_PROJECTION_TYPE = SINUSOIDAL
  MAP_RESOLUTION = 2370.85521546667
  MAP_SCALE = 0.025
  MAXIMUM_LATITUDE = 41.9423
  MINIMUM_LATITUDE = 36.9956
  POSITIVE_LONGITUDE_DIRECTION = EAST
  REFERENCE_LATITUDE = "N/A"
  REFERENCE_LONGITUDE = "N/A"
  SAMPLE_FIRST_PIXEL = 1
  SAMPLE_LAST_PIXEL = 3399
  SAMPLE_PROJECTION_OFFSET = 2526.25
  SECOND_STANDARD_PARALLEL = "N/A"
  WESTERNMOST_LONGITUDE = 210.595
END_OBJECT = IMAGE_MAP_PROJECTION
/* The JPEG2000 image data file associated with this label. */
OBJECT = COMPRESSED_FILE
  FILE_NAME = "HF817_0000_S13.JP2"
  RECORD_TYPE = UNDEFINED
  FILE_RECORDS = UNK
  ENCODING_TYPE = "JP2"
  INTERCHANGE_FORMAT = BINARY
  UNCOMPRESSED_FILE_NAME = "HF817_0000_S13.IMG"
  REQUIRED_STORAGE_BYTES = "39394410"
  ^DESCRIPTION = "JP2INFO.TXT"
END_OBJECT = COMPRESSED_FILE
END
