PDS_VERSION_ID = PDS3
/* FILE DATA ELEMENTS */
RECORD_TYPE = STREAM
/* POINTERS TO DATA OBJECTS */
^COMPRESSED_FILE = "HF823_0000_RE3.JP2"
/* IDENTIFICATION DATA ELEMENTS */
DATA_SET_ID = "MEX-M-HRSC-5-REFDR-MAPPROJECTED-V3.0"
DATA_SET_NAME = "MARS EXPRESS HRSC MAP PROJECTED REFDR V3.0"
DETECTOR_ID = MEX_HRSC_RED
EVENT_TYPE = "MARS-REGIONAL-STEREO-Im-Pf"
INSTRUMENT_HOST_ID = MEX
INSTRUMENT_HOST_NAME = "MARS EXPRESS"
INSTRUMENT_ID = HRSC
INSTRUMENT_NAME = "HIGH RESOLUTION STEREO CAMERA"
MISSION_NAME = "MARS EXPRESS"
MISSION_PHASE_NAME = ME_Phase_34
PROCESSING_LEVEL_ID = 3
PRODUCT_CREATION_TIME = 2016-11-09T00:20:34.000Z
PRODUCT_ID = "HF823_0000_RE3.JP2"
RELEASE_ID = 0134
REVISION_ID = 0000
/* QUALITY DATA ELEMENTS */
DATA_QUALITY_ID = 1
DATA_QUALITY_DESC = "Data calculated based on original SPICE kernels"
/* TIME DATA ELEMENTS */
SPACECRAFT_CLOCK_START_COUNT = "1/0415041502.09039"
SPACECRAFT_CLOCK_STOP_COUNT = "1/0415041737.63888"
START_TIME = 2016-06-26T17:19:43.184Z
STOP_TIME = 2016-06-26T17:22:17.873Z
/* ORBITAL DATA ELEMENTS */
ASCENDING_NODE_LONGITUDE = 276.63
MAXIMUM_RESOLUTION = 63.9
FOOTPRINT_POINT_LATITUDE = (63.3328,63.3175,63.2966,63.2773, 63.2411,63.2237,63.0217,62.8245,62.6271 ,62.4297,62.2322,61.9358,61.738,61.5405 ,61.3427,61.046,60.7489,60.4519,60.2539 ,60.0561,59.8581,59.66,59.3628,59.1647, 58.9665,58.7683,58.57,58.2726,58.0744, 57.876,57.6777,57.4793,57.1819,56.8843, 56.5866,56.3884,56.19,55.8926,55.5953, 55.2975,55.0993,54.9011,54.7027,54.4055 ,54.2072,53.9099,53.7116,53.5136, 53.3316,53.3496,53.3597,53.3696,53.3787 ,53.3892,53.588,53.8865,54.1851,54.4837 ,54.6828,54.882,55.0814,55.2807,55.5797 ,55.8786,56.0779,56.3769,56.5761, 56.7756,57.0747,57.2742,57.4735,57.6732 ,57.8726,58.0717,58.2715,58.4705, 58.6705,58.8701,59.0698,59.3689,59.5684 ,59.7677,59.9672,60.1667,60.4657, 60.6654,60.8646,61.0638,61.2633,61.4626 ,61.7615,61.9607,62.1599,62.3591, 62.5582,62.7573,62.9564,63.1554,63.3594 ,63.3328)
FOOTPRINT_POINT_LONGITUDE = (316.472,316.007,315.427,314.935, 314.097,313.602,313.658,313.711,313.764 ,313.816,313.868,313.943,313.992, 314.039,314.087,314.156,314.224,314.29, 314.333,314.375,314.416,314.457,314.517 ,314.556,314.594,314.632,314.669, 314.723,314.759,314.794,314.828,314.862 ,314.912,314.96,315.007,315.038,315.069 ,315.113,315.156,315.199,315.226, 315.254,315.28,315.32,315.345,315.383, 315.408,315.432,315.704,316.247,316.582 ,316.938,317.293,317.699,317.687, 317.671,317.653,317.636,317.624,317.611 ,317.599,317.587,317.568,317.548, 317.535,317.514,317.501,317.487,317.465 ,317.451,317.436,317.421,317.406,317.39 ,317.374,317.358,317.342,317.326, 317.309,317.284,317.266,317.248,317.23, 317.212,317.184,317.165,317.146,317.126 ,317.106,317.086,317.055,317.034, 317.012,316.99,316.968,316.945,316.922, 316.899,316.874,316.472)
ORBIT_NUMBER = 15823
ORBITAL_ECCENTRICITY = 0.573
ORBITAL_INCLINATION = 86.95
ORBITAL_SEMIMAJOR_AXIS = 8802.0
PERIAPSIS_ALTITUDE = 372.5
PERIAPSIS_ARGUMENT_ANGLE = 132.01
PERIAPSIS_TIME = 2016-06-26T17:23:13.000Z
SPACECRAFT_ORIENTATION = (0.0,-1.0,0.0)
^MEX_ORIENTATION_DESC = "MEX_ORIENTATION_DESC.TXT"
SPACECRAFT_POINTING_MODE = NADIR
^MEX_POINTING_DESC = "MEX_POINTING_DESC.TXT"
RIGHT_ASCENSION = -1e+32
DECLINATION = -1e+32
OFFSET_ANGLE = -1e+32
SPACECRAFT_SOLAR_DISTANCE = 2.20812e+08
TARGET_NAME = MARS
/* CAMERA DATA ELEMENTS */
DETECTOR_TEMPERATURE = 19.1861
FOCAL_PLANE_TEMPERATURE = 8.7872
INST_CMPRS_NAME = "DISCRETE COSINE TRANSFORMATION (DCT)"
INST_CMPRS_RATIO = 35.1044
INST_CMPRS_QUALITY = 0
INST_CMPRS_QUANTZ_TBL_ID = 0
INSTRUMENT_TEMPERATURE = 12.0496
LENS_TEMPERATURE = 9.3989
MACROPIXEL_SIZE = 4
MISSING_FRAMES = 0
PIXEL_SUBSAMPLING_FLAG = N
SIGNAL_CHAIN_ID = 2
/* RADIOMETRIC DATA ELEMENTS */
BANDWIDTH = 48.0
CENTER_FILTER_WAVELENGTH = 748.0
RADIANCE_OFFSET = 0.586853
RADIANCE_SCALING_FACTOR = 0.00199743
REFLECTANCE_SCALING_FACTOR = 0.000222252
MEX:REFLECTANCE_OFFSET = 0.0652987
/* IMAGE OBJECT DEFINITIONS */
OBJECT = IMAGE
  INTERCHANGE_FORMAT = BINARY
  LINES = 11986
  LINE_SAMPLES = 2497
  SAMPLE_TYPE = UNSIGNED_INTEGER
  SAMPLE_BITS = 8
  BANDS = 1
  BAND_STORAGE_TYPE = BAND_SEQUENTIAL
  MAXIMUM = 255
  MEAN = 88.2151
  MINIMUM = 1
  STANDARD_DEVIATION = 28.1522
END_OBJECT = IMAGE
/* MAP OBJECT DEFINITIONS */
OBJECT = IMAGE_MAP_PROJECTION
  ^DATA_SET_MAP_PROJECTION_CATALOG= "DSMAP.CAT"
  A_AXIS_RADIUS = 3396.0
  B_AXIS_RADIUS = 3396.0
  C_AXIS_RADIUS = 3396.0
  CENTER_LATITUDE = 0.0
  CENTER_LONGITUDE = 316.0
  COORDINATE_SYSTEM_NAME = PLANETOGRAPHIC
  COORDINATE_SYSTEM_TYPE = "BODY-FIXED ROTATING"
  EASTERNMOST_LONGITUDE = 317.699
  FIRST_STANDARD_PARALLEL = "N/A"
  LINE_FIRST_PIXEL = 1
  LINE_LAST_PIXEL = 11986
  LINE_PROJECTION_OFFSET = 75171.375
  MAP_PROJECTION_ROTATION = 0.0
  MAP_PROJECTION_TYPE = SINUSOIDAL
  MAP_RESOLUTION = 1185.42760773333
  MAP_SCALE = 0.05
  MAXIMUM_LATITUDE = 63.3594
  MINIMUM_LATITUDE = 53.3316
  POSITIVE_LONGITUDE_DIRECTION = EAST
  REFERENCE_LATITUDE = "N/A"
  REFERENCE_LONGITUDE = "N/A"
  SAMPLE_FIRST_PIXEL = 1
  SAMPLE_LAST_PIXEL = 2497
  SAMPLE_PROJECTION_OFFSET = 1287.125
  SECOND_STANDARD_PARALLEL = "N/A"
  WESTERNMOST_LONGITUDE = 313.602
END_OBJECT = IMAGE_MAP_PROJECTION
/* The JPEG2000 image data file associated with this label. */
OBJECT = COMPRESSED_FILE
  FILE_NAME = "HF823_0000_RE3.JP2"
  RECORD_TYPE = UNDEFINED
  FILE_RECORDS = UNK
  ENCODING_TYPE = "JP2"
  INTERCHANGE_FORMAT = BINARY
  UNCOMPRESSED_FILE_NAME = "HF823_0000_RE3.IMG"
  REQUIRED_STORAGE_BYTES = "29949018"
  ^DESCRIPTION = "JP2INFO.TXT"
END_OBJECT = COMPRESSED_FILE
END
