PDS_VERSION_ID = PDS3
/* FILE DATA ELEMENTS */
RECORD_TYPE = STREAM
/* POINTERS TO DATA OBJECTS */
^COMPRESSED_FILE = "HF823_0000_S13.JP2"
/* IDENTIFICATION DATA ELEMENTS */
DATA_SET_ID = "MEX-M-HRSC-5-REFDR-MAPPROJECTED-V3.0"
DATA_SET_NAME = "MARS EXPRESS HRSC MAP PROJECTED REFDR V3.0"
DETECTOR_ID = MEX_HRSC_S1
EVENT_TYPE = "MARS-REGIONAL-STEREO-Im-Pf"
INSTRUMENT_HOST_ID = MEX
INSTRUMENT_HOST_NAME = "MARS EXPRESS"
INSTRUMENT_ID = HRSC
INSTRUMENT_NAME = "HIGH RESOLUTION STEREO CAMERA"
MISSION_NAME = "MARS EXPRESS"
MISSION_PHASE_NAME = ME_Phase_34
PROCESSING_LEVEL_ID = 3
PRODUCT_CREATION_TIME = 2016-11-09T00:20:34.000Z
PRODUCT_ID = "HF823_0000_S13.JP2"
RELEASE_ID = 0134
REVISION_ID = 0000
/* QUALITY DATA ELEMENTS */
DATA_QUALITY_ID = 1
DATA_QUALITY_DESC = "Data calculated based on original SPICE kernels"
/* TIME DATA ELEMENTS */
SPACECRAFT_CLOCK_START_COUNT = "1/0415041502.09039"
SPACECRAFT_CLOCK_STOP_COUNT = "1/0415041737.63888"
START_TIME = 2016-06-26T17:18:29.698Z
STOP_TIME = 2016-06-26T17:21:14.231Z
/* ORBITAL DATA ELEMENTS */
ASCENDING_NODE_LONGITUDE = 276.63
MAXIMUM_RESOLUTION = 33.2
FOOTPRINT_POINT_LATITUDE = (63.5082,63.4876,63.4687,63.4404, 63.4164,63.39,63.2342,63.0259,62.7151, 62.4092,62.2051,62.0004,61.7956,61.5903 ,61.3885,61.188,60.8863,60.685,60.4833, 60.2812,60.0802,59.8826,59.6849,59.4869 ,59.2886,59.0901,58.7917,58.3986, 58.1066,57.717,57.3261,57.1306,56.9347, 56.7348,56.5384,56.3416,56.0463,55.8492 ,55.6516,55.4543,55.2564,55.0583, 54.8602,54.6618,54.4632,54.1648,53.9658 ,53.7666,53.567,53.2674,53.2815,53.2988 ,53.3112,53.3259,53.3425,53.5432, 53.7438,53.9443,54.2445,54.4446,54.6442 ,54.8438,55.0431,55.2422,55.4412,55.64, 55.8387,56.0371,56.3344,56.6314,56.8289 ,57.129,57.326,57.5229,57.7196,57.9161, 58.3085,58.6998,58.9003,59.1006,59.4008 ,59.6007,59.8003,59.9996,60.1987, 60.5032,60.7067,60.9102,61.1136,61.3163 ,61.5188,61.8263,62.0333,62.2403, 62.4467,62.6531,62.859,63.068,63.2783, 63.5082)
FOOTPRINT_POINT_LONGITUDE = (316.896,316.242,315.72,315.035,314.515 ,313.995,313.479,313.54,313.629,313.713 ,313.769,313.823,313.877,313.93,313.98, 314.03,314.103,314.151,314.198,314.244, 314.289,314.332,314.375,314.417,314.459 ,314.499,314.559,314.636,314.691, 314.763,314.833,314.867,314.9,314.934, 314.966,314.998,315.045,315.076,315.106 ,315.136,315.165,315.194,315.223, 315.251,315.278,315.319,315.345,315.371 ,315.397,315.435,315.789,316.234, 316.589,317.079,317.733,317.723,317.713 ,317.703,317.688,317.677,317.667, 317.656,317.645,317.634,317.623,317.612 ,317.6,317.589,317.571,317.552,317.54, 317.521,317.508,317.495,317.482,317.469 ,317.442,317.414,317.399,317.385, 317.362,317.346,317.331,317.315,317.299 ,317.274,317.257,317.239,317.222, 317.204,317.186,317.157,317.138,317.118 ,317.098,317.078,317.057,317.036, 317.014,316.896)
ORBIT_NUMBER = 15823
ORBITAL_ECCENTRICITY = 0.573
ORBITAL_INCLINATION = 86.95
ORBITAL_SEMIMAJOR_AXIS = 8802.0
PERIAPSIS_ALTITUDE = 372.5
PERIAPSIS_ARGUMENT_ANGLE = 132.01
PERIAPSIS_TIME = 2016-06-26T17:23:13.000Z
SPACECRAFT_ORIENTATION = (0.0,-1.0,0.0)
^MEX_ORIENTATION_DESC = "MEX_ORIENTATION_DESC.TXT"
SPACECRAFT_POINTING_MODE = NADIR
^MEX_POINTING_DESC = "MEX_POINTING_DESC.TXT"
RIGHT_ASCENSION = -1e+32
DECLINATION = -1e+32
OFFSET_ANGLE = -1e+32
SPACECRAFT_SOLAR_DISTANCE = 2.20812e+08
TARGET_NAME = MARS
/* CAMERA DATA ELEMENTS */
DETECTOR_TEMPERATURE = 17.5549
FOCAL_PLANE_TEMPERATURE = 8.7872
INST_CMPRS_NAME = "DISCRETE COSINE TRANSFORMATION (DCT)"
INST_CMPRS_RATIO = 13.2881
INST_CMPRS_QUALITY = 0
INST_CMPRS_QUANTZ_TBL_ID = 0
INSTRUMENT_TEMPERATURE = 12.0496
LENS_TEMPERATURE = 9.3989
MACROPIXEL_SIZE = 2
MISSING_FRAMES = 1
PIXEL_SUBSAMPLING_FLAG = N
SIGNAL_CHAIN_ID = 1
/* RADIOMETRIC DATA ELEMENTS */
BANDWIDTH = 180.0
CENTER_FILTER_WAVELENGTH = 677.0
RADIANCE_OFFSET = 2.52982
RADIANCE_SCALING_FACTOR = 0.00838381
REFLECTANCE_SCALING_FACTOR = 0.000213271
MEX:REFLECTANCE_OFFSET = 0.0643546
/* IMAGE OBJECT DEFINITIONS */
OBJECT = IMAGE
  INTERCHANGE_FORMAT = BINARY
  LINES = 23971
  LINE_SAMPLES = 4994
  SAMPLE_TYPE = UNSIGNED_INTEGER
  SAMPLE_BITS = 8
  BANDS = 1
  BAND_STORAGE_TYPE = BAND_SEQUENTIAL
  MAXIMUM = 255
  MEAN = 84.3625
  MINIMUM = 1
  STANDARD_DEVIATION = 29.1988
END_OBJECT = IMAGE
/* MAP OBJECT DEFINITIONS */
OBJECT = IMAGE_MAP_PROJECTION
  ^DATA_SET_MAP_PROJECTION_CATALOG= "DSMAP.CAT"
  A_AXIS_RADIUS = 3396.0
  B_AXIS_RADIUS = 3396.0
  C_AXIS_RADIUS = 3396.0
  CENTER_LATITUDE = 0.0
  CENTER_LONGITUDE = 316.0
  COORDINATE_SYSTEM_NAME = PLANETOGRAPHIC
  COORDINATE_SYSTEM_TYPE = "BODY-FIXED ROTATING"
  EASTERNMOST_LONGITUDE = 317.733
  FIRST_STANDARD_PARALLEL = "N/A"
  LINE_FIRST_PIXEL = 1
  LINE_LAST_PIXEL = 23971
  LINE_PROJECTION_OFFSET = 150343.25
  MAP_PROJECTION_ROTATION = 0.0
  MAP_PROJECTION_TYPE = SINUSOIDAL
  MAP_RESOLUTION = 2370.85521546667
  MAP_SCALE = 0.025
  MAXIMUM_LATITUDE = 63.5082
  MINIMUM_LATITUDE = 53.2674
  POSITIVE_LONGITUDE_DIRECTION = EAST
  REFERENCE_LATITUDE = "N/A"
  REFERENCE_LONGITUDE = "N/A"
  SAMPLE_FIRST_PIXEL = 1
  SAMPLE_LAST_PIXEL = 4994
  SAMPLE_PROJECTION_OFFSET = 2574.75
  SECOND_STANDARD_PARALLEL = "N/A"
  WESTERNMOST_LONGITUDE = 313.479
END_OBJECT = IMAGE_MAP_PROJECTION
/* The JPEG2000 image data file associated with this label. */
OBJECT = COMPRESSED_FILE
  FILE_NAME = "HF823_0000_S13.JP2"
  RECORD_TYPE = UNDEFINED
  FILE_RECORDS = UNK
  ENCODING_TYPE = "JP2"
  INTERCHANGE_FORMAT = BINARY
  UNCOMPRESSED_FILE_NAME = "HF823_0000_S13.IMG"
  REQUIRED_STORAGE_BYTES = "119736144"
  ^DESCRIPTION = "JP2INFO.TXT"
END_OBJECT = COMPRESSED_FILE
END
