PDS_VERSION_ID = PDS3
/* FILE DATA ELEMENTS */
RECORD_TYPE = STREAM
/* POINTERS TO DATA OBJECTS */
^COMPRESSED_FILE = "HF823_0000_S23.JP2"
/* IDENTIFICATION DATA ELEMENTS */
DATA_SET_ID = "MEX-M-HRSC-5-REFDR-MAPPROJECTED-V3.0"
DATA_SET_NAME = "MARS EXPRESS HRSC MAP PROJECTED REFDR V3.0"
DETECTOR_ID = MEX_HRSC_S2
EVENT_TYPE = "MARS-REGIONAL-STEREO-Im-Pf"
INSTRUMENT_HOST_ID = MEX
INSTRUMENT_HOST_NAME = "MARS EXPRESS"
INSTRUMENT_ID = HRSC
INSTRUMENT_NAME = "HIGH RESOLUTION STEREO CAMERA"
MISSION_NAME = "MARS EXPRESS"
MISSION_PHASE_NAME = ME_Phase_34
PROCESSING_LEVEL_ID = 3
PRODUCT_CREATION_TIME = 2016-11-09T00:20:34.000Z
PRODUCT_ID = "HF823_0000_S23.JP2"
RELEASE_ID = 0134
REVISION_ID = 0000
/* QUALITY DATA ELEMENTS */
DATA_QUALITY_ID = 1
DATA_QUALITY_DESC = "Data calculated based on original SPICE kernels"
/* TIME DATA ELEMENTS */
SPACECRAFT_CLOCK_START_COUNT = "1/0415041502.09039"
SPACECRAFT_CLOCK_STOP_COUNT = "1/0415041737.63888"
START_TIME = 2016-06-26T17:19:49.871Z
STOP_TIME = 2016-06-26T17:22:23.568Z
/* ORBITAL DATA ELEMENTS */
ASCENDING_NODE_LONGITUDE = 276.63
MAXIMUM_RESOLUTION = 32.5
FOOTPRINT_POINT_LATITUDE = (63.2795,63.2575,63.2385,63.2182,63.217 ,63.0188,62.8204,62.6219,62.4232, 62.2246,62.026,61.8269,61.6282,61.4296, 61.2305,61.0318,60.8327,60.6335,60.335, 60.1363,59.9374,59.7385,59.5396,59.3405 ,59.1416,58.9425,58.7434,58.5444, 58.3454,58.1464,57.9474,57.7483,57.4497 ,57.2511,57.0516,56.8527,56.6538, 56.3554,56.0571,55.8583,55.5603,55.3611 ,55.1625,54.8646,54.6657,54.4673, 54.2687,53.9708,53.4747,53.3497,53.3612 ,53.3771,53.3875,53.3968,53.5047, 53.7039,53.9031,54.1026,54.3019,54.6011 ,54.8007,55.0003,55.2003,55.3999, 55.5996,55.7995,55.9993,56.2991,56.4989 ,56.6987,56.8989,57.0988,57.399,57.5991 ,57.7992,58.099,58.2996,58.4993,58.7001 ,58.9005,59.101,59.3012,59.5015,59.8018 ,60.1024,60.4029,60.6032,60.9039, 61.2043,61.4048,61.7053,61.9057,62.1059 ,62.3063,62.5065,62.7068,62.9071, 63.1073,63.3075,63.2795)
FOOTPRINT_POINT_LONGITUDE = (315.864,315.262,314.783,314.303, 313.604,313.659,313.713,313.766,313.818 ,313.869,313.919,313.969,314.018, 314.065,314.112,314.158,314.204,314.248 ,314.314,314.356,314.398,314.439, 314.479,314.519,314.558,314.596,314.634 ,314.671,314.708,314.743,314.779, 314.813,314.864,314.897,314.93,314.962, 314.994,315.04,315.085,315.115,315.158, 315.186,315.214,315.255,315.281,315.307 ,315.333,315.371,315.432,315.731,316.08 ,316.625,316.996,317.367,317.697, 317.686,317.674,317.663,317.651,317.633 ,317.621,317.609,317.596,317.584, 317.571,317.558,317.544,317.524,317.51, 317.496,317.482,317.467,317.445,317.43, 317.415,317.391,317.376,317.359,317.343 ,317.327,317.31,317.293,317.275,317.248 ,317.221,317.193,317.174,317.145, 317.115,317.094,317.063,317.042,317.02, 316.998,316.976,316.953,316.93,316.906, 316.882,315.864)
ORBIT_NUMBER = 15823
ORBITAL_ECCENTRICITY = 0.573
ORBITAL_INCLINATION = 86.95
ORBITAL_SEMIMAJOR_AXIS = 8802.0
PERIAPSIS_ALTITUDE = 372.5
PERIAPSIS_ARGUMENT_ANGLE = 132.01
PERIAPSIS_TIME = 2016-06-26T17:23:13.000Z
SPACECRAFT_ORIENTATION = (0.0,-1.0,0.0)
^MEX_ORIENTATION_DESC = "MEX_ORIENTATION_DESC.TXT"
SPACECRAFT_POINTING_MODE = NADIR
^MEX_POINTING_DESC = "MEX_POINTING_DESC.TXT"
RIGHT_ASCENSION = -1e+32
DECLINATION = -1e+32
OFFSET_ANGLE = -1e+32
SPACECRAFT_SOLAR_DISTANCE = 2.20812e+08
TARGET_NAME = MARS
/* CAMERA DATA ELEMENTS */
DETECTOR_TEMPERATURE = 19.1861
FOCAL_PLANE_TEMPERATURE = 8.7872
INST_CMPRS_NAME = "DISCRETE COSINE TRANSFORMATION (DCT)"
INST_CMPRS_RATIO = 16.0991
INST_CMPRS_QUALITY = 0
INST_CMPRS_QUANTZ_TBL_ID = 0
INSTRUMENT_TEMPERATURE = 12.0496
LENS_TEMPERATURE = 9.3989
MACROPIXEL_SIZE = 2
MISSING_FRAMES = 0
PIXEL_SUBSAMPLING_FLAG = N
SIGNAL_CHAIN_ID = 1
/* RADIOMETRIC DATA ELEMENTS */
BANDWIDTH = 178.0
CENTER_FILTER_WAVELENGTH = 679.0
RADIANCE_OFFSET = 2.40021
RADIANCE_SCALING_FACTOR = 0.0081363
REFLECTANCE_SCALING_FACTOR = 0.00021009
MEX:REFLECTANCE_OFFSET = 0.0619766
/* IMAGE OBJECT DEFINITIONS */
OBJECT = IMAGE
  INTERCHANGE_FORMAT = BINARY
  LINES = 23971
  LINE_SAMPLES = 4994
  SAMPLE_TYPE = UNSIGNED_INTEGER
  SAMPLE_BITS = 8
  BANDS = 1
  BAND_STORAGE_TYPE = BAND_SEQUENTIAL
  MAXIMUM = 255
  MEAN = 82.5185
  MINIMUM = 1
  STANDARD_DEVIATION = 26.5255
END_OBJECT = IMAGE
/* MAP OBJECT DEFINITIONS */
OBJECT = IMAGE_MAP_PROJECTION
  ^DATA_SET_MAP_PROJECTION_CATALOG= "DSMAP.CAT"
  A_AXIS_RADIUS = 3396.0
  B_AXIS_RADIUS = 3396.0
  C_AXIS_RADIUS = 3396.0
  CENTER_LATITUDE = 0.0
  CENTER_LONGITUDE = 316.0
  COORDINATE_SYSTEM_NAME = PLANETOGRAPHIC
  COORDINATE_SYSTEM_TYPE = "BODY-FIXED ROTATING"
  EASTERNMOST_LONGITUDE = 317.697
  FIRST_STANDARD_PARALLEL = "N/A"
  LINE_FIRST_PIXEL = 1
  LINE_LAST_PIXEL = 23971
  LINE_PROJECTION_OFFSET = 150343.25
  MAP_PROJECTION_ROTATION = 0.0
  MAP_PROJECTION_TYPE = SINUSOIDAL
  MAP_RESOLUTION = 2370.85521546667
  MAP_SCALE = 0.025
  MAXIMUM_LATITUDE = 63.3075
  MINIMUM_LATITUDE = 53.3497
  POSITIVE_LONGITUDE_DIRECTION = EAST
  REFERENCE_LATITUDE = "N/A"
  REFERENCE_LONGITUDE = "N/A"
  SAMPLE_FIRST_PIXEL = 1
  SAMPLE_LAST_PIXEL = 4994
  SAMPLE_PROJECTION_OFFSET = 2574.75
  SECOND_STANDARD_PARALLEL = "N/A"
  WESTERNMOST_LONGITUDE = 313.604
END_OBJECT = IMAGE_MAP_PROJECTION
/* The JPEG2000 image data file associated with this label. */
OBJECT = COMPRESSED_FILE
  FILE_NAME = "HF823_0000_S23.JP2"
  RECORD_TYPE = UNDEFINED
  FILE_RECORDS = UNK
  ENCODING_TYPE = "JP2"
  INTERCHANGE_FORMAT = BINARY
  UNCOMPRESSED_FILE_NAME = "HF823_0000_S23.IMG"
  REQUIRED_STORAGE_BYTES = "119736144"
  ^DESCRIPTION = "JP2INFO.TXT"
END_OBJECT = COMPRESSED_FILE
END
