PDS_VERSION_ID = PDS3
/* FILE DATA ELEMENTS */
RECORD_TYPE = STREAM
/* POINTERS TO DATA OBJECTS */
^COMPRESSED_FILE = "HF832_0000_P23.JP2"
/* IDENTIFICATION DATA ELEMENTS */
DATA_SET_ID = "MEX-M-HRSC-5-REFDR-MAPPROJECTED-V3.0"
DATA_SET_NAME = "MARS EXPRESS HRSC MAP PROJECTED REFDR V3.0"
DETECTOR_ID = MEX_HRSC_P2
EVENT_TYPE = "MARS-REGIONAL-MAPPING-Vo-Im-Pf"
INSTRUMENT_HOST_ID = MEX
INSTRUMENT_HOST_NAME = "MARS EXPRESS"
INSTRUMENT_ID = HRSC
INSTRUMENT_NAME = "HIGH RESOLUTION STEREO CAMERA"
MISSION_NAME = "MARS EXPRESS"
MISSION_PHASE_NAME = ME_Phase_34
PROCESSING_LEVEL_ID = 3
PRODUCT_CREATION_TIME = 2016-11-09T00:20:34.000Z
PRODUCT_ID = "HF832_0000_P23.JP2"
RELEASE_ID = 0134
REVISION_ID = 0000
/* QUALITY DATA ELEMENTS */
DATA_QUALITY_ID = 1
DATA_QUALITY_DESC = "Data calculated based on original SPICE kernels"
/* TIME DATA ELEMENTS */
SPACECRAFT_CLOCK_START_COUNT = "1/0415268712.08258"
SPACECRAFT_CLOCK_STOP_COUNT = "1/0415269192.53129"
START_TIME = 2016-06-29T08:26:31.199Z
STOP_TIME = 2016-06-29T08:32:42.549Z
/* ORBITAL DATA ELEMENTS */
ASCENDING_NODE_LONGITUDE = 276.47
MAXIMUM_RESOLUTION = 39.6
FOOTPRINT_POINT_LATITUDE = (28.655,28.6442,28.6707,28.0024,27.6611 ,27.3235,26.9802,26.4651,25.9426, 25.5937,25.0635,24.7099,24.3505,23.9918 ,23.6287,23.2654,22.8973,22.5289,22.156 ,21.7829,21.4047,20.8345,20.4521, 20.0648,19.6763,19.2842,18.8889,18.4914 ,18.0901,17.6856,17.2784,16.8681, 16.4537,16.0362,15.6158,15.1922,14.5491 ,14.1177,13.6888,13.2627,12.8384,12.416 ,11.9413,11.2302,10.7596,10.2907, 9.81903,9.34066,8.85832,8.82938,8.8258, 8.82131,8.81594,8.8143,9.29792,9.77782, 10.2505,10.7208,11.1935,11.6689,12.1463 ,12.8114,13.4486,13.8781,14.3099, 14.7423,15.1715,15.5964,16.0186,16.4373 ,16.8532,17.2641,17.8762,18.2797, 18.6811,19.0789,19.4727,19.8648,20.2531 ,20.831,21.2135,21.5926,22.1563,22.5306 ,22.8998,23.2686,23.6331,23.9976, 24.3567,24.8947,25.249,25.6035,25.9526, 26.4763,26.9926,27.3375,27.6757,28.0154 ,28.6872,28.655)
FOOTPRINT_POINT_LONGITUDE = (117.809,117.22,116.706,116.694,116.688 ,116.681,116.674,116.664,116.652, 116.644,116.631,116.623,116.613,116.604 ,116.594,116.584,116.573,116.562, 116.551,116.54,116.528,116.509,116.496, 116.483,116.469,116.455,116.44,116.425, 116.41,116.394,116.377,116.361,116.343, 116.325,116.307,116.288,116.259,116.239 ,116.219,116.198,116.177,116.156, 116.131,116.094,116.068,116.043,116.017 ,115.99,115.962,116.337,116.689,117.423 ,117.834,118.497,118.781,118.777, 118.771,118.766,118.761,118.757,118.752 ,118.746,118.739,118.736,118.733, 118.729,118.726,118.723,118.72,118.717, 118.714,118.711,118.707,118.705,118.702 ,118.7,118.697,118.695,118.692,118.69, 118.687,118.686,118.683,118.681,118.679 ,118.677,118.676,118.674,118.673, 118.671,118.669,118.667,118.666,118.664 ,118.661,118.66,118.659,118.657,118.655 ,117.809)
ORBIT_NUMBER = 15832
ORBITAL_ECCENTRICITY = 0.573
ORBITAL_INCLINATION = 86.93
ORBITAL_SEMIMAJOR_AXIS = 8807.77
PERIAPSIS_ALTITUDE = 372.82
PERIAPSIS_ARGUMENT_ANGLE = 130.43
PERIAPSIS_TIME = 2016-06-29T08:20:32.000Z
SPACECRAFT_ORIENTATION = (0.0,-1.0,0.0)
^MEX_ORIENTATION_DESC = "MEX_ORIENTATION_DESC.TXT"
SPACECRAFT_POINTING_MODE = ACROSSTRACK
^MEX_POINTING_DESC = "MEX_POINTING_DESC.TXT"
RIGHT_ASCENSION = -1e+32
DECLINATION = -1e+32
OFFSET_ANGLE = 0.8
SPACECRAFT_SOLAR_DISTANCE = 2.20317e+08
TARGET_NAME = MARS
/* CAMERA DATA ELEMENTS */
DETECTOR_TEMPERATURE = 19.5939
FOCAL_PLANE_TEMPERATURE = 10.0106
INST_CMPRS_NAME = "DISCRETE COSINE TRANSFORMATION (DCT)"
INST_CMPRS_RATIO = 5.79438
INST_CMPRS_QUALITY = 0
INST_CMPRS_QUANTZ_TBL_ID = 0
INSTRUMENT_TEMPERATURE = 12.4574
LENS_TEMPERATURE = 10.4184
MACROPIXEL_SIZE = 2
MISSING_FRAMES = 0
PIXEL_SUBSAMPLING_FLAG = N
SIGNAL_CHAIN_ID = 3
/* RADIOMETRIC DATA ELEMENTS */
BANDWIDTH = 177.0
CENTER_FILTER_WAVELENGTH = 676.5
RADIANCE_OFFSET = 3.41115
RADIANCE_SCALING_FACTOR = 0.0230143
REFLECTANCE_SCALING_FACTOR = 0.000592307
MEX:REFLECTANCE_OFFSET = 0.087791
/* IMAGE OBJECT DEFINITIONS */
OBJECT = IMAGE
  INTERCHANGE_FORMAT = BINARY
  LINES = 47166
  LINE_SAMPLES = 6240
  SAMPLE_TYPE = UNSIGNED_INTEGER
  SAMPLE_BITS = 8
  BANDS = 1
  BAND_STORAGE_TYPE = BAND_SEQUENTIAL
  MAXIMUM = 255
  MEAN = 134.713
  MINIMUM = 1
  STANDARD_DEVIATION = 14.0942
END_OBJECT = IMAGE
/* MAP OBJECT DEFINITIONS */
OBJECT = IMAGE_MAP_PROJECTION
  ^DATA_SET_MAP_PROJECTION_CATALOG= "DSMAP.CAT"
  A_AXIS_RADIUS = 3396.0
  B_AXIS_RADIUS = 3396.0
  C_AXIS_RADIUS = 3396.0
  CENTER_LATITUDE = 0.0
  CENTER_LONGITUDE = 118.0
  COORDINATE_SYSTEM_NAME = PLANETOGRAPHIC
  COORDINATE_SYSTEM_TYPE = "BODY-FIXED ROTATING"
  EASTERNMOST_LONGITUDE = 118.781
  FIRST_STANDARD_PARALLEL = "N/A"
  LINE_FIRST_PIXEL = 1
  LINE_LAST_PIXEL = 47166
  LINE_PROJECTION_OFFSET = 67972.75
  MAP_PROJECTION_ROTATION = 0.0
  MAP_PROJECTION_TYPE = SINUSOIDAL
  MAP_RESOLUTION = 2370.85521546667
  MAP_SCALE = 0.025
  MAXIMUM_LATITUDE = 28.6872
  MINIMUM_LATITUDE = 8.814299999999999
  POSITIVE_LONGITUDE_DIRECTION = EAST
  REFERENCE_LATITUDE = "N/A"
  REFERENCE_LONGITUDE = "N/A"
  SAMPLE_FIRST_PIXEL = 1
  SAMPLE_LAST_PIXEL = 6240
  SAMPLE_PROJECTION_OFFSET = 4544.75
  SECOND_STANDARD_PARALLEL = "N/A"
  WESTERNMOST_LONGITUDE = 115.962
END_OBJECT = IMAGE_MAP_PROJECTION
/* The JPEG2000 image data file associated with this label. */
OBJECT = COMPRESSED_FILE
  FILE_NAME = "HF832_0000_P23.JP2"
  RECORD_TYPE = UNDEFINED
  FILE_RECORDS = UNK
  ENCODING_TYPE = "JP2"
  INTERCHANGE_FORMAT = BINARY
  UNCOMPRESSED_FILE_NAME = "HF832_0000_P23.IMG"
  REQUIRED_STORAGE_BYTES = "294347040"
  ^DESCRIPTION = "JP2INFO.TXT"
END_OBJECT = COMPRESSED_FILE
END
