PDS_VERSION_ID = PDS3
/* FILE DATA ELEMENTS */
RECORD_TYPE = STREAM
/* POINTERS TO DATA OBJECTS */
^COMPRESSED_FILE = "HF835_0000_ND3.JP2"
/* IDENTIFICATION DATA ELEMENTS */
DATA_SET_ID = "MEX-M-HRSC-5-REFDR-MAPPROJECTED-V3.0"
DATA_SET_NAME = "MARS EXPRESS HRSC MAP PROJECTED REFDR V3.0"
DETECTOR_ID = MEX_HRSC_NADIR
EVENT_TYPE = "MARS-REGIONAL-MAPPING-Vo-Te-Im"
INSTRUMENT_HOST_ID = MEX
INSTRUMENT_HOST_NAME = "MARS EXPRESS"
INSTRUMENT_ID = HRSC
INSTRUMENT_NAME = "HIGH RESOLUTION STEREO CAMERA"
MISSION_NAME = "MARS EXPRESS"
MISSION_PHASE_NAME = ME_Phase_34
PROCESSING_LEVEL_ID = 3
PRODUCT_CREATION_TIME = 2016-11-09T00:20:34.000Z
PRODUCT_ID = "HF835_0000_ND3.JP2"
RELEASE_ID = 0134
REVISION_ID = 0000
/* QUALITY DATA ELEMENTS */
DATA_QUALITY_ID = 1
DATA_QUALITY_DESC = "Data calculated based on original SPICE kernels"
/* TIME DATA ELEMENTS */
SPACECRAFT_CLOCK_START_COUNT = "1/0415344240.08256"
SPACECRAFT_CLOCK_STOP_COUNT = "1/0415344621.55344"
START_TIME = 2016-06-30T05:24:47.974Z
STOP_TIME = 2016-06-30T05:29:12.984Z
/* ORBITAL DATA ELEMENTS */
ASCENDING_NODE_LONGITUDE = 276.4
MAXIMUM_RESOLUTION = 18
FOOTPRINT_POINT_LATITUDE = (30.6853,30.6842,30.6814,30.4076, 29.8571,29.5779,29.2991,29.0206,28.7388 ,28.4545,28.1705,27.8869,27.454,27.1649 ,26.8762,26.4364,26.1423,25.8486, 25.5497,25.2505,24.9518,24.6481,24.344, 24.0404,23.7316,23.2685,22.9565,22.6426 ,22.3292,22.0102,21.6918,21.2087, 20.8857,20.3946,20.0669,19.7338,19.4014 ,19.0643,18.7272,18.3861,18.0444, 17.6985,17.1766,16.8256,16.4714,15.9361 ,15.5764,15.213,15.0194,15.0137,15.0034 ,14.9952,15.1721,15.5367,15.8975, 16.4345,16.7897,17.1416,17.6651,18.0121 ,18.3547,18.6969,19.0349,19.373,19.7063 ,20.0403,20.3689,20.8613,21.1852, 21.6696,21.9887,22.3085,22.6228,22.9373 ,23.2502,23.7144,24.024,24.3283,24.6332 ,24.9377,25.237,25.5369,25.8365,26.1308 ,26.4256,26.8665,27.1558,27.4455, 27.8794,28.1636,28.4481,28.7331,29.0155 ,29.2946,29.574,29.8538,30.1317,30.4055 ,30.6796,30.6853)
FOOTPRINT_POINT_LONGITUDE = (170.486,169.954,169.478,169.354,169.35 ,169.348,169.345,169.343,169.34,169.337 ,169.334,169.331,169.325,169.321, 169.317,169.31,169.306,169.301,169.296, 169.29,169.285,169.279,169.273,169.267, 169.26,169.249,169.242,169.235,169.227, 169.219,169.211,169.198,169.189,169.175 ,169.166,169.156,169.146,169.135, 169.124,169.113,169.102,169.09,169.071, 169.059,169.047,169.027,169.013,168.998 ,169.441,169.87,170.527,170.983,171.292 ,171.29,171.287,171.285,171.281,171.279 ,171.275,171.274,171.273,171.271, 171.269,171.268,171.266,171.264,171.262 ,171.26,171.258,171.255,171.253,171.251 ,171.249,171.245,171.244,171.242,171.24 ,171.24,171.238,171.236,171.234,171.233 ,171.231,171.229,171.227,171.224, 171.223,171.221,171.218,171.216,171.214 ,171.212,171.21,171.208,171.206,171.204 ,171.201,171.198,171.196,170.486)
ORBIT_NUMBER = 15835
ORBITAL_ECCENTRICITY = 0.573
ORBITAL_INCLINATION = 86.94
ORBITAL_SEMIMAJOR_AXIS = 8798.7
PERIAPSIS_ALTITUDE = 373.96
PERIAPSIS_ARGUMENT_ANGLE = 129.93
PERIAPSIS_TIME = 2016-06-30T05:19:44.000Z
SPACECRAFT_ORIENTATION = (0.0,-1.0,0.0)
^MEX_ORIENTATION_DESC = "MEX_ORIENTATION_DESC.TXT"
SPACECRAFT_POINTING_MODE = ACROSSTRACK
^MEX_POINTING_DESC = "MEX_POINTING_DESC.TXT"
RIGHT_ASCENSION = -1e+32
DECLINATION = -1e+32
OFFSET_ANGLE = 0.4
SPACECRAFT_SOLAR_DISTANCE = 2.20152e+08
TARGET_NAME = MARS
/* CAMERA DATA ELEMENTS */
DETECTOR_TEMPERATURE = 18.7783
FOCAL_PLANE_TEMPERATURE = 9.6028
INST_CMPRS_NAME = "DISCRETE COSINE TRANSFORMATION (DCT)"
INST_CMPRS_RATIO = 5.79454
INST_CMPRS_QUALITY = 0
INST_CMPRS_QUANTZ_TBL_ID = 0
INSTRUMENT_TEMPERATURE = 11.8457
LENS_TEMPERATURE = 10.0106
MACROPIXEL_SIZE = 1
MISSING_FRAMES = 0
PIXEL_SUBSAMPLING_FLAG = N
SIGNAL_CHAIN_ID = 0
/* RADIOMETRIC DATA ELEMENTS */
BANDWIDTH = 177.0
CENTER_FILTER_WAVELENGTH = 677.5
RADIANCE_OFFSET = 2.9559
RADIANCE_SCALING_FACTOR = 0.0304284
REFLECTANCE_SCALING_FACTOR = 0.00078344
MEX:REFLECTANCE_OFFSET = 0.0761056
/* IMAGE OBJECT DEFINITIONS */
OBJECT = IMAGE
  INTERCHANGE_FORMAT = BINARY
  LINES = 74421
  LINE_SAMPLES = 10884
  SAMPLE_TYPE = UNSIGNED_INTEGER
  SAMPLE_BITS = 8
  BANDS = 1
  BAND_STORAGE_TYPE = BAND_SEQUENTIAL
  MAXIMUM = 255
  MEAN = 119.109
  MINIMUM = 1
  STANDARD_DEVIATION = 20.554
END_OBJECT = IMAGE
/* MAP OBJECT DEFINITIONS */
OBJECT = IMAGE_MAP_PROJECTION
  ^DATA_SET_MAP_PROJECTION_CATALOG= "DSMAP.CAT"
  A_AXIS_RADIUS = 3396.0
  B_AXIS_RADIUS = 3396.0
  C_AXIS_RADIUS = 3396.0
  CENTER_LATITUDE = 0.0
  CENTER_LONGITUDE = 170.0
  COORDINATE_SYSTEM_NAME = PLANETOGRAPHIC
  COORDINATE_SYSTEM_TYPE = "BODY-FIXED ROTATING"
  EASTERNMOST_LONGITUDE = 171.292
  FIRST_STANDARD_PARALLEL = "N/A"
  LINE_FIRST_PIXEL = 1
  LINE_LAST_PIXEL = 74421
  LINE_PROJECTION_OFFSET = 145500.0
  MAP_PROJECTION_ROTATION = 0.0
  MAP_PROJECTION_TYPE = SINUSOIDAL
  MAP_RESOLUTION = 4741.71043093333
  MAP_SCALE = 0.0125
  MAXIMUM_LATITUDE = 30.6853
  MINIMUM_LATITUDE = 14.9952
  POSITIVE_LONGITUDE_DIRECTION = EAST
  REFERENCE_LATITUDE = "N/A"
  REFERENCE_LONGITUDE = "N/A"
  SAMPLE_FIRST_PIXEL = 1
  SAMPLE_LAST_PIXEL = 10884
  SAMPLE_PROJECTION_OFFSET = 4732.0
  SECOND_STANDARD_PARALLEL = "N/A"
  WESTERNMOST_LONGITUDE = 168.998
END_OBJECT = IMAGE_MAP_PROJECTION
/* The JPEG2000 image data file associated with this label. */
OBJECT = COMPRESSED_FILE
  FILE_NAME = "HF835_0000_ND3.JP2"
  RECORD_TYPE = UNDEFINED
  FILE_RECORDS = UNK
  ENCODING_TYPE = "JP2"
  INTERCHANGE_FORMAT = BINARY
  UNCOMPRESSED_FILE_NAME = "HF835_0000_ND3.IMG"
  REQUIRED_STORAGE_BYTES = "810030816"
  ^DESCRIPTION = "JP2INFO.TXT"
END_OBJECT = COMPRESSED_FILE
END
