PDS_VERSION_ID = PDS3
/* FILE DATA ELEMENTS */
RECORD_TYPE = STREAM
/* POINTERS TO DATA OBJECTS */
^COMPRESSED_FILE = "HF839_0000_RE3.JP2"
/* IDENTIFICATION DATA ELEMENTS */
DATA_SET_ID = "MEX-M-HRSC-5-REFDR-MAPPROJECTED-V3.0"
DATA_SET_NAME = "MARS EXPRESS HRSC MAP PROJECTED REFDR V3.0"
DETECTOR_ID = MEX_HRSC_RED
EVENT_TYPE = "MARS-REGIONAL-MAPPING-Vo-Im"
INSTRUMENT_HOST_ID = MEX
INSTRUMENT_HOST_NAME = "MARS EXPRESS"
INSTRUMENT_ID = HRSC
INSTRUMENT_NAME = "HIGH RESOLUTION STEREO CAMERA"
MISSION_NAME = "MARS EXPRESS"
MISSION_PHASE_NAME = ME_Phase_35
PROCESSING_LEVEL_ID = 3
PRODUCT_CREATION_TIME = 2017-06-29T11:20:52.000Z
PRODUCT_ID = "HF839_0000_RE3.JP2"
RELEASE_ID = 0135
REVISION_ID = 0000
/* QUALITY DATA ELEMENTS */
DATA_QUALITY_ID = 1
DATA_QUALITY_DESC = "Data calculated based on original SPICE kernels"
/* TIME DATA ELEMENTS */
SPACECRAFT_CLOCK_START_COUNT = "1/0415444998.09051"
SPACECRAFT_CLOCK_STOP_COUNT = "1/0415445346.20776"
START_TIME = 2016-07-01T09:24:46.491Z
STOP_TIME = 2016-07-01T09:28:57.420Z
/* ORBITAL DATA ELEMENTS */
ASCENDING_NODE_LONGITUDE = 276.33
MAXIMUM_RESOLUTION = 82.4
FOOTPRINT_POINT_LATITUDE = (29.2927,29.2928,29.2922,29.2914, 28.8618,28.6194,28.1364,27.7695,27.5243 ,27.2795,26.9068,26.6583,26.4104, 26.1579,25.9059,25.5266,25.2709,25.0159 ,24.7584,24.4992,24.2413,23.9795, 23.5864,23.189,22.9243,22.5222,22.2541, 21.9827,21.5756,21.3004,21.0261,20.7486 ,20.471,20.1906,19.91,19.627,19.3436, 19.0575,18.771,18.4818,18.0455,17.7528, 17.4575,17.0125,16.7142,16.4128,16.1123 ,15.8381,15.8338,15.8264,15.8217, 15.8173,15.8117,15.8051,15.952,16.2534, 16.556,16.8559,17.1567,17.453,17.7487, 18.0424,18.4797,18.77,19.0579,19.3449, 19.6294,20.0538,20.336,20.6148,21.0321, 21.3074,21.5831,21.8554,22.2632,22.5322 ,22.802,23.0677,23.334,23.5989,23.8612, 24.255,24.5141,24.7739,25.1598,25.416, 25.672,25.9242,26.177,26.4296,26.6783, 26.928,27.3009,27.5465,27.7925,28.0389, 28.5229,28.7655,29.1261,29.2927)
FOOTPRINT_POINT_LONGITUDE = (121.166,120.497,120.009,119.719, 119.618,119.616,119.611,119.607,119.604 ,119.601,119.596,119.593,119.589, 119.585,119.581,119.574,119.57,119.565, 119.56,119.555,119.55,119.544,119.535, 119.526,119.52,119.51,119.503,119.496, 119.485,119.477,119.469,119.461,119.452 ,119.443,119.435,119.425,119.416, 119.406,119.396,119.386,119.37,119.359, 119.348,119.331,119.319,119.306,119.294 ,119.516,119.798,120.22,120.477,120.759 ,121.087,121.462,121.797,121.792, 121.788,121.783,121.78,121.775,121.771, 121.767,121.76,121.756,121.752,121.749, 121.744,121.739,121.735,121.731,121.725 ,121.721,121.717,121.713,121.708, 121.704,121.7,121.696,121.693,121.689, 121.685,121.679,121.676,121.672,121.667 ,121.663,121.659,121.655,121.652, 121.648,121.644,121.641,121.635,121.631 ,121.627,121.623,121.616,121.612, 121.606,121.166)
ORBIT_NUMBER = 15839
ORBITAL_ECCENTRICITY = 0.573
ORBITAL_INCLINATION = 86.93
ORBITAL_SEMIMAJOR_AXIS = 8805.3
PERIAPSIS_ALTITUDE = 373.58
PERIAPSIS_ARGUMENT_ANGLE = 129.23
PERIAPSIS_TIME = 2016-07-01T09:18:30.000Z
SPACECRAFT_ORIENTATION = (0.0,-1.0,0.0)
^MEX_ORIENTATION_DESC = "MEX_ORIENTATION_DESC.TXT"
SPACECRAFT_POINTING_MODE = NADIR
^MEX_POINTING_DESC = "MEX_POINTING_DESC.TXT"
RIGHT_ASCENSION = -1e+32
DECLINATION = -1e+32
OFFSET_ANGLE = -1e+32
SPACECRAFT_SOLAR_DISTANCE = 2.19934e+08
TARGET_NAME = MARS
/* CAMERA DATA ELEMENTS */
DETECTOR_TEMPERATURE = 18.7783
FOCAL_PLANE_TEMPERATURE = 8.9911
INST_CMPRS_NAME = "DISCRETE COSINE TRANSFORMATION (DCT)"
INST_CMPRS_RATIO = 10.324
INST_CMPRS_QUALITY = 0
INST_CMPRS_QUANTZ_TBL_ID = 0
INSTRUMENT_TEMPERATURE = 12.0496
LENS_TEMPERATURE = 8.9911
MACROPIXEL_SIZE = 4
MISSING_FRAMES = 0
PIXEL_SUBSAMPLING_FLAG = N
SIGNAL_CHAIN_ID = 2
/* RADIOMETRIC DATA ELEMENTS */
BANDWIDTH = 48.0
CENTER_FILTER_WAVELENGTH = 748.0
RADIANCE_OFFSET = 0.930392
RADIANCE_SCALING_FACTOR = 0.00705715
REFLECTANCE_SCALING_FACTOR = 0.000779002
MEX:REFLECTANCE_OFFSET = 0.102701
/* IMAGE OBJECT DEFINITIONS */
OBJECT = IMAGE
  INTERCHANGE_FORMAT = BINARY
  LINES = 16060
  LINE_SAMPLES = 2691
  SAMPLE_TYPE = UNSIGNED_INTEGER
  SAMPLE_BITS = 8
  BANDS = 1
  BAND_STORAGE_TYPE = BAND_SEQUENTIAL
  MAXIMUM = 255
  MEAN = 135.518
  MINIMUM = 1
  STANDARD_DEVIATION = 14.0022
END_OBJECT = IMAGE
/* MAP OBJECT DEFINITIONS */
OBJECT = IMAGE_MAP_PROJECTION
  ^DATA_SET_MAP_PROJECTION_CATALOG= "DSMAP.CAT"
  A_AXIS_RADIUS = 3396.0
  B_AXIS_RADIUS = 3396.0
  C_AXIS_RADIUS = 3396.0
  CENTER_LATITUDE = 0.0
  CENTER_LONGITUDE = 121.0
  COORDINATE_SYSTEM_NAME = PLANETOGRAPHIC
  COORDINATE_SYSTEM_TYPE = "BODY-FIXED ROTATING"
  EASTERNMOST_LONGITUDE = 121.797
  FIRST_STANDARD_PARALLEL = "N/A"
  LINE_FIRST_PIXEL = 1
  LINE_LAST_PIXEL = 16060
  LINE_PROJECTION_OFFSET = 34771.125
  MAP_PROJECTION_ROTATION = 0.0
  MAP_PROJECTION_TYPE = SINUSOIDAL
  MAP_RESOLUTION = 1185.42760773333
  MAP_SCALE = 0.05
  MAXIMUM_LATITUDE = 29.2928
  MINIMUM_LATITUDE = 15.8051
  POSITIVE_LONGITUDE_DIRECTION = EAST
  REFERENCE_LATITUDE = "N/A"
  REFERENCE_LONGITUDE = "N/A"
  SAMPLE_FIRST_PIXEL = 1
  SAMPLE_LAST_PIXEL = 2691
  SAMPLE_PROJECTION_OFFSET = 1872.875
  SECOND_STANDARD_PARALLEL = "N/A"
  WESTERNMOST_LONGITUDE = 119.294
END_OBJECT = IMAGE_MAP_PROJECTION
/* The JPEG2000 image data file associated with this label. */
OBJECT = COMPRESSED_FILE
  FILE_NAME = "HF839_0000_RE3.JP2"
  RECORD_TYPE = UNDEFINED
  FILE_RECORDS = UNK
  ENCODING_TYPE = "JP2"
  INTERCHANGE_FORMAT = BINARY
  UNCOMPRESSED_FILE_NAME = "HF839_0000_RE3.IMG"
  REQUIRED_STORAGE_BYTES = "43238988"
  ^DESCRIPTION = "JP2INFO.TXT"
END_OBJECT = COMPRESSED_FILE
END
