PDS_VERSION_ID = PDS3
/* FILE DATA ELEMENTS */
RECORD_TYPE = STREAM
/* POINTERS TO DATA OBJECTS */
^COMPRESSED_FILE = "HF840_0000_BL3.JP2"
/* IDENTIFICATION DATA ELEMENTS */
DATA_SET_ID = "MEX-M-HRSC-5-REFDR-MAPPROJECTED-V3.0"
DATA_SET_NAME = "MARS EXPRESS HRSC MAP PROJECTED REFDR V3.0"
DETECTOR_ID = MEX_HRSC_BLUE
EVENT_TYPE = "MARS-REGIONAL-MAPPING-Im-Pf"
INSTRUMENT_HOST_ID = MEX
INSTRUMENT_HOST_NAME = "MARS EXPRESS"
INSTRUMENT_ID = HRSC
INSTRUMENT_NAME = "HIGH RESOLUTION STEREO CAMERA"
MISSION_NAME = "MARS EXPRESS"
MISSION_PHASE_NAME = ME_Phase_35
PROCESSING_LEVEL_ID = 3
PRODUCT_CREATION_TIME = 2017-06-29T11:20:52.000Z
PRODUCT_ID = "HF840_0000_BL3.JP2"
RELEASE_ID = 0135
REVISION_ID = 0000
/* QUALITY DATA ELEMENTS */
DATA_QUALITY_ID = 1
DATA_QUALITY_DESC = "Data calculated based on original SPICE kernels"
/* TIME DATA ELEMENTS */
SPACECRAFT_CLOCK_START_COUNT = "1/0415469622.09031"
SPACECRAFT_CLOCK_STOP_COUNT = "1/0415469886.08199"
START_TIME = 2016-07-01T16:14:37.256Z
STOP_TIME = 2016-07-01T16:17:43.442Z
/* ORBITAL DATA ELEMENTS */
ASCENDING_NODE_LONGITUDE = 276.31
MAXIMUM_RESOLUTION = 60.7
FOOTPRINT_POINT_LATITUDE = (64.9787,64.9432,64.9094,64.867,64.4048 ,64.1664,63.8103,63.3447,63.1117, 62.8784,62.6451,62.4115,62.1778,61.9438 ,61.7098,61.4757,61.2414,61.0069, 60.7723,60.5375,60.3026,60.0676,59.8325 ,59.4795,59.2441,58.8907,58.6551, 58.4193,58.1834,57.9474,57.5932,57.3571 ,57.1208,56.8843,56.6479,56.2931, 55.9382,55.5831,55.3463,55.1094,54.8725 ,54.6355,54.2801,54.0431,53.8061, 53.5689,53.2133,53.0402,53.0553,53.0712 ,53.083,53.0958,53.3339,53.691,54.0482, 54.4052,54.6432,55.0003,55.2383,55.4763 ,55.7142,55.9522,56.19,56.4278,56.6655, 57.022,57.2597,57.4973,57.7348,57.9722, 58.2096,58.447,58.6843,58.9214,59.2771, 59.514,59.7509,59.9877,60.2245,60.4611, 60.6975,60.934,61.1703,61.4065,61.6426, 61.8786,62.1144,62.3502,62.5859,62.8214 ,63.0568,63.292,63.5272,63.7622,63.9971 ,64.2374,64.4783,64.7191,64.9597, 64.9787)
FOOTPRINT_POINT_LONGITUDE = (16.6905,15.7711,15.0076,14.1536, 14.1436,14.2172,14.3242,14.4586,14.5238 ,14.5879,14.6499,14.7109,14.7708,14.83, 14.8873,14.9434,14.9986,15.0527,15.1058 ,15.1577,15.2086,15.2584,15.3073,15.379 ,15.4254,15.4934,15.5374,15.5807, 15.6232,15.6649,15.7258,15.7652,15.8041 ,15.8423,15.8796,15.9342,15.9871, 16.0386,16.072,16.1048,16.1373,16.1689, 16.2147,16.2445,16.2739,16.3028,16.3448 ,16.692,17.1217,17.6333,18.0635,18.5623 ,18.5485,18.5273,18.5059,18.4836, 18.4684,18.4454,18.4298,18.4139,18.3976 ,18.3812,18.3642,18.3471,18.3296, 18.3027,18.2845,18.2659,18.2471,18.2278 ,18.2082,18.1885,18.1683,18.1475,18.116 ,18.0943,18.0722,18.0498,18.027,18.0037 ,17.9798,17.9557,17.9311,17.9059, 17.8804,17.8544,17.8275,17.8007,17.7732 ,17.7449,17.7162,17.6868,17.657,17.6266 ,17.5956,17.563,17.5298,17.4958,17.4611 ,16.6905)
ORBIT_NUMBER = 15840
ORBITAL_ECCENTRICITY = 0.573
ORBITAL_INCLINATION = 86.93
ORBITAL_SEMIMAJOR_AXIS = 8801.45
PERIAPSIS_ALTITUDE = 374.19
PERIAPSIS_ARGUMENT_ANGLE = 129.05
PERIAPSIS_TIME = 2016-07-01T16:18:12.000Z
SPACECRAFT_ORIENTATION = (0.0,-1.0,0.0)
^MEX_ORIENTATION_DESC = "MEX_ORIENTATION_DESC.TXT"
SPACECRAFT_POINTING_MODE = NADIR
^MEX_POINTING_DESC = "MEX_POINTING_DESC.TXT"
RIGHT_ASCENSION = -1e+32
DECLINATION = -1e+32
OFFSET_ANGLE = -1e+32
SPACECRAFT_SOLAR_DISTANCE = 2.19879e+08
TARGET_NAME = MARS
/* CAMERA DATA ELEMENTS */
DETECTOR_TEMPERATURE = 18.3705
FOCAL_PLANE_TEMPERATURE = 9.195
INST_CMPRS_NAME = "DISCRETE COSINE TRANSFORMATION (DCT)"
INST_CMPRS_RATIO = 5.67359
INST_CMPRS_QUALITY = 0
INST_CMPRS_QUANTZ_TBL_ID = 0
INSTRUMENT_TEMPERATURE = 11.6418
LENS_TEMPERATURE = 8.9911
MACROPIXEL_SIZE = 4
MISSING_FRAMES = 0
PIXEL_SUBSAMPLING_FLAG = N
SIGNAL_CHAIN_ID = 2
/* RADIOMETRIC DATA ELEMENTS */
BANDWIDTH = 76.0
CENTER_FILTER_WAVELENGTH = 444.0
RADIANCE_OFFSET = 0.465601
RADIANCE_SCALING_FACTOR = 0.00114649
REFLECTANCE_SCALING_FACTOR = 5.69503e-05
MEX:REFLECTANCE_OFFSET = 0.0231282
/* IMAGE OBJECT DEFINITIONS */
OBJECT = IMAGE
  INTERCHANGE_FORMAT = BINARY
  LINES = 14224
  LINE_SAMPLES = 2588
  SAMPLE_TYPE = UNSIGNED_INTEGER
  SAMPLE_BITS = 8
  BANDS = 1
  BAND_STORAGE_TYPE = BAND_SEQUENTIAL
  MAXIMUM = 255
  MEAN = 130.922
  MINIMUM = 1
  STANDARD_DEVIATION = 28.6996
END_OBJECT = IMAGE
/* MAP OBJECT DEFINITIONS */
OBJECT = IMAGE_MAP_PROJECTION
  ^DATA_SET_MAP_PROJECTION_CATALOG= "DSMAP.CAT"
  A_AXIS_RADIUS = 3396.0
  B_AXIS_RADIUS = 3396.0
  C_AXIS_RADIUS = 3396.0
  CENTER_LATITUDE = 0.0
  CENTER_LONGITUDE = 17.0
  COORDINATE_SYSTEM_NAME = PLANETOGRAPHIC
  COORDINATE_SYSTEM_TYPE = "BODY-FIXED ROTATING"
  EASTERNMOST_LONGITUDE = 18.5623
  FIRST_STANDARD_PARALLEL = "N/A"
  LINE_FIRST_PIXEL = 1
  LINE_LAST_PIXEL = 14224
  LINE_PROJECTION_OFFSET = 77084.125
  MAP_PROJECTION_ROTATION = 0.0
  MAP_PROJECTION_TYPE = SINUSOIDAL
  MAP_RESOLUTION = 1185.42760773333
  MAP_SCALE = 0.05
  MAXIMUM_LATITUDE = 64.9787
  MINIMUM_LATITUDE = 53.0402
  POSITIVE_LONGITUDE_DIRECTION = EAST
  REFERENCE_LATITUDE = "N/A"
  REFERENCE_LONGITUDE = "N/A"
  SAMPLE_FIRST_PIXEL = 1
  SAMPLE_LAST_PIXEL = 2588
  SAMPLE_PROJECTION_OFFSET = 1490.375
  SECOND_STANDARD_PARALLEL = "N/A"
  WESTERNMOST_LONGITUDE = 14.1436
END_OBJECT = IMAGE_MAP_PROJECTION
/* The JPEG2000 image data file associated with this label. */
OBJECT = COMPRESSED_FILE
  FILE_NAME = "HF840_0000_BL3.JP2"
  RECORD_TYPE = UNDEFINED
  FILE_RECORDS = UNK
  ENCODING_TYPE = "JP2"
  INTERCHANGE_FORMAT = BINARY
  UNCOMPRESSED_FILE_NAME = "HF840_0000_BL3.IMG"
  REQUIRED_STORAGE_BYTES = "36832416"
  ^DESCRIPTION = "JP2INFO.TXT"
END_OBJECT = COMPRESSED_FILE
END
