PDS_VERSION_ID = PDS3
/* FILE DATA ELEMENTS */
RECORD_TYPE = STREAM
/* POINTERS TO DATA OBJECTS */
^COMPRESSED_FILE = "HF840_0000_P13.JP2"
/* IDENTIFICATION DATA ELEMENTS */
DATA_SET_ID = "MEX-M-HRSC-5-REFDR-MAPPROJECTED-V3.0"
DATA_SET_NAME = "MARS EXPRESS HRSC MAP PROJECTED REFDR V3.0"
DETECTOR_ID = MEX_HRSC_P1
EVENT_TYPE = "MARS-REGIONAL-MAPPING-Im-Pf"
INSTRUMENT_HOST_ID = MEX
INSTRUMENT_HOST_NAME = "MARS EXPRESS"
INSTRUMENT_ID = HRSC
INSTRUMENT_NAME = "HIGH RESOLUTION STEREO CAMERA"
MISSION_NAME = "MARS EXPRESS"
MISSION_PHASE_NAME = ME_Phase_35
PROCESSING_LEVEL_ID = 3
PRODUCT_CREATION_TIME = 2017-06-29T11:20:52.000Z
PRODUCT_ID = "HF840_0000_P13.JP2"
RELEASE_ID = 0135
REVISION_ID = 0000
/* QUALITY DATA ELEMENTS */
DATA_QUALITY_ID = 1
DATA_QUALITY_DESC = "Data calculated based on original SPICE kernels"
/* TIME DATA ELEMENTS */
SPACECRAFT_CLOCK_START_COUNT = "1/0415469622.09031"
SPACECRAFT_CLOCK_STOP_COUNT = "1/0415469886.08199"
START_TIME = 2016-07-01T16:14:04.119Z
STOP_TIME = 2016-07-01T16:17:14.973Z
/* ORBITAL DATA ELEMENTS */
ASCENDING_NODE_LONGITUDE = 276.31
MAXIMUM_RESOLUTION = 31.3
FOOTPRINT_POINT_LATITUDE = (65.1015,65.0732,65.051,65.0047,64.9776 ,64.7464,64.5066,64.2664,64.0259, 63.7852,63.4247,63.1892,62.9534,62.5986 ,62.3618,62.1247,61.8878,61.6561, 61.4244,61.1923,60.8399,60.6072,60.3743 ,60.1409,59.9073,59.6736,59.4396, 59.2052,58.9707,58.7357,58.3829,58.1476 ,57.912,57.6759,57.4397,57.2034,56.9669 ,56.7301,56.4927,56.1369,55.8995, 55.6618,55.4239,55.1858,54.8287,54.3511 ,54.1117,53.7529,53.3938,53.1542, 53.0413,53.0679,53.0816,53.3308,53.5713 ,53.812,54.0522,54.2928,54.5327,54.8926 ,55.1322,55.3715,55.6109,55.8498, 56.0888,56.3275,56.5661,56.9239,57.1618 ,57.3998,57.6375,57.8751,58.1124, 58.3493,58.7044,58.9409,59.1771,59.4133 ,59.6493,59.8849,60.1202,60.4729, 60.7078,60.9424,61.2979,61.5317,61.8821 ,62.1183,62.3576,62.5965,62.8355,63.074 ,63.3123,63.5501,63.9136,64.157,64.4001 ,64.643,64.8855,65.1015)
FOOTPRINT_POINT_LONGITUDE = (17.4122,16.5802,16.0157,14.9898, 14.4613,13.9653,14.0435,14.1201,14.1951 ,14.2686,14.3752,14.4432,14.5097, 14.6067,14.6698,14.7317,14.7925,14.8502 ,14.907,14.9626,15.045,15.0979,15.1499, 15.2008,15.2507,15.2998,15.3479,15.395, 15.4412,15.4865,15.5528,15.5961,15.6385 ,15.68,15.7207,15.7607,15.8,15.8385, 15.876,15.9314,15.9675,16.0028,16.0374, 16.0714,16.1214,16.1853,16.2161,16.2617 ,16.306,16.3348,16.952,17.7476,18.2428, 18.5605,18.5471,18.5333,18.5195,18.5051 ,18.4908,18.4687,18.4538,18.4387, 18.4232,18.4076,18.3915,18.3752,18.3586 ,18.3329,18.3159,18.2981,18.2803,18.262 ,18.2434,18.2248,18.1961,18.1764, 18.1566,18.1361,18.1153,18.0943,18.0729 ,18.0399,18.0174,17.9946,17.959,17.9353 ,17.8987,17.8732,17.8471,17.8206, 17.7932,17.7656,17.7372,17.7086,17.6636 ,17.6326,17.601,17.5686,17.5357, 17.4122)
ORBIT_NUMBER = 15840
ORBITAL_ECCENTRICITY = 0.573
ORBITAL_INCLINATION = 86.93
ORBITAL_SEMIMAJOR_AXIS = 8801.45
PERIAPSIS_ALTITUDE = 374.19
PERIAPSIS_ARGUMENT_ANGLE = 129.05
PERIAPSIS_TIME = 2016-07-01T16:18:12.000Z
SPACECRAFT_ORIENTATION = (0.0,-1.0,0.0)
^MEX_ORIENTATION_DESC = "MEX_ORIENTATION_DESC.TXT"
SPACECRAFT_POINTING_MODE = NADIR
^MEX_POINTING_DESC = "MEX_POINTING_DESC.TXT"
RIGHT_ASCENSION = -1e+32
DECLINATION = -1e+32
OFFSET_ANGLE = -1e+32
SPACECRAFT_SOLAR_DISTANCE = 2.19879e+08
TARGET_NAME = MARS
/* CAMERA DATA ELEMENTS */
DETECTOR_TEMPERATURE = 17.351
FOCAL_PLANE_TEMPERATURE = 9.195
INST_CMPRS_NAME = "DISCRETE COSINE TRANSFORMATION (DCT)"
INST_CMPRS_RATIO = 13.0044
INST_CMPRS_QUALITY = 0
INST_CMPRS_QUANTZ_TBL_ID = 0
INSTRUMENT_TEMPERATURE = 11.6418
LENS_TEMPERATURE = 8.9911
MACROPIXEL_SIZE = 2
MISSING_FRAMES = 1
PIXEL_SUBSAMPLING_FLAG = N
SIGNAL_CHAIN_ID = 3
/* RADIOMETRIC DATA ELEMENTS */
BANDWIDTH = 174.0
CENTER_FILTER_WAVELENGTH = 675.0
RADIANCE_OFFSET = 3.11412
RADIANCE_SCALING_FACTOR = 0.0115762
REFLECTANCE_SCALING_FACTOR = 0.000301038
MEX:REFLECTANCE_OFFSET = 0.0809825
/* IMAGE OBJECT DEFINITIONS */
OBJECT = IMAGE
  INTERCHANGE_FORMAT = BINARY
  LINES = 28447
  LINE_SAMPLES = 5176
  SAMPLE_TYPE = UNSIGNED_INTEGER
  SAMPLE_BITS = 8
  BANDS = 1
  BAND_STORAGE_TYPE = BAND_SEQUENTIAL
  MAXIMUM = 255
  MEAN = 65.5287
  MINIMUM = 1
  STANDARD_DEVIATION = 23.9546
END_OBJECT = IMAGE
/* MAP OBJECT DEFINITIONS */
OBJECT = IMAGE_MAP_PROJECTION
  ^DATA_SET_MAP_PROJECTION_CATALOG= "DSMAP.CAT"
  A_AXIS_RADIUS = 3396.0
  B_AXIS_RADIUS = 3396.0
  C_AXIS_RADIUS = 3396.0
  CENTER_LATITUDE = 0.0
  CENTER_LONGITUDE = 17.0
  COORDINATE_SYSTEM_NAME = PLANETOGRAPHIC
  COORDINATE_SYSTEM_TYPE = "BODY-FIXED ROTATING"
  EASTERNMOST_LONGITUDE = 18.5605
  FIRST_STANDARD_PARALLEL = "N/A"
  LINE_FIRST_PIXEL = 1
  LINE_LAST_PIXEL = 28447
  LINE_PROJECTION_OFFSET = 154168.75
  MAP_PROJECTION_ROTATION = 0.0
  MAP_PROJECTION_TYPE = SINUSOIDAL
  MAP_RESOLUTION = 2370.85521546667
  MAP_SCALE = 0.025
  MAXIMUM_LATITUDE = 65.1015
  MINIMUM_LATITUDE = 53.0413
  POSITIVE_LONGITUDE_DIRECTION = EAST
  REFERENCE_LATITUDE = "N/A"
  REFERENCE_LONGITUDE = "N/A"
  SAMPLE_FIRST_PIXEL = 1
  SAMPLE_LAST_PIXEL = 5176
  SAMPLE_PROJECTION_OFFSET = 2981.25
  SECOND_STANDARD_PARALLEL = "N/A"
  WESTERNMOST_LONGITUDE = 13.9653
END_OBJECT = IMAGE_MAP_PROJECTION
/* The JPEG2000 image data file associated with this label. */
OBJECT = COMPRESSED_FILE
  FILE_NAME = "HF840_0000_P13.JP2"
  RECORD_TYPE = UNDEFINED
  FILE_RECORDS = UNK
  ENCODING_TYPE = "JP2"
  INTERCHANGE_FORMAT = BINARY
  UNCOMPRESSED_FILE_NAME = "HF840_0000_P13.IMG"
  REQUIRED_STORAGE_BYTES = "147267552"
  ^DESCRIPTION = "JP2INFO.TXT"
END_OBJECT = COMPRESSED_FILE
END
