PDS_VERSION_ID = PDS3
/* FILE DATA ELEMENTS */
RECORD_TYPE = STREAM
/* POINTERS TO DATA OBJECTS */
^COMPRESSED_FILE = "HF840_0000_P23.JP2"
/* IDENTIFICATION DATA ELEMENTS */
DATA_SET_ID = "MEX-M-HRSC-5-REFDR-MAPPROJECTED-V3.0"
DATA_SET_NAME = "MARS EXPRESS HRSC MAP PROJECTED REFDR V3.0"
DETECTOR_ID = MEX_HRSC_P2
EVENT_TYPE = "MARS-REGIONAL-MAPPING-Im-Pf"
INSTRUMENT_HOST_ID = MEX
INSTRUMENT_HOST_NAME = "MARS EXPRESS"
INSTRUMENT_ID = HRSC
INSTRUMENT_NAME = "HIGH RESOLUTION STEREO CAMERA"
MISSION_NAME = "MARS EXPRESS"
MISSION_PHASE_NAME = ME_Phase_35
PROCESSING_LEVEL_ID = 3
PRODUCT_CREATION_TIME = 2017-06-29T11:20:52.000Z
PRODUCT_ID = "HF840_0000_P23.JP2"
RELEASE_ID = 0135
REVISION_ID = 0000
/* QUALITY DATA ELEMENTS */
DATA_QUALITY_ID = 1
DATA_QUALITY_DESC = "Data calculated based on original SPICE kernels"
/* TIME DATA ELEMENTS */
SPACECRAFT_CLOCK_START_COUNT = "1/0415469622.09031"
SPACECRAFT_CLOCK_STOP_COUNT = "1/0415469886.08199"
START_TIME = 2016-07-01T16:14:55.738Z
STOP_TIME = 2016-07-01T16:18:00.125Z
/* ORBITAL DATA ELEMENTS */
ASCENDING_NODE_LONGITUDE = 276.31
MAXIMUM_RESOLUTION = 31.2
FOOTPRINT_POINT_LATITUDE = (64.9431,64.9218,64.9048,64.8839,64.866 ,64.8424,64.7819,64.5467,64.3113, 64.0758,63.8401,63.4865,63.1325,62.7782 ,62.5424,62.3062,62.0698,61.7149, 61.3603,61.0053,60.7686,60.5318,60.2949 ,60.0582,59.8212,59.584,59.347,58.9915, 58.636,58.399,58.1619,57.9246,57.6876, 57.3319,56.9761,56.6203,56.3838,56.2646 ,56.0276,55.7904,55.5533,55.3163, 55.0791,54.8416,54.6051,54.2498,53.8948 ,53.6579,53.4211,53.1845,53.0454, 53.0572,53.0669,53.0734,53.0826,53.0906 ,53.0985,53.2218,53.4595,53.8159, 54.0538,54.4103,54.7673,55.0052,55.3627 ,55.7199,55.9582,56.3156,56.5539, 56.7919,57.0304,57.3881,57.7457,57.9841 ,58.2225,58.5807,58.9384,59.177,59.4154 ,59.6538,59.8924,60.131,60.3694,60.727, 60.9654,61.3229,61.5614,61.7997,62.0378 ,62.2762,62.5144,62.8717,63.2287, 63.4668,63.8239,64.1808,64.4185,64.6562 ,65.0127,64.9431)
FOOTPRINT_POINT_LONGITUDE = (17.0079,16.4078,15.9661,15.4621, 15.0533,14.5504,14.0252,14.0999,14.173, 14.2446,14.3147,14.4168,14.516,14.6121, 14.6737,14.7345,14.7943,14.8816,14.9657 ,15.0474,15.1005,15.1526,15.2036, 15.2533,15.3022,15.3503,15.3972,15.4657 ,15.532,15.5751,15.6174,15.659,15.6995, 15.7588,15.8165,15.8725,15.9082,15.9267 ,15.9618,15.9965,16.0303,16.0634,16.096 ,16.1284,16.1591,16.2046,16.2486, 16.2775,16.3058,16.3333,16.5851,16.9281 ,17.228,17.4422,17.764,18.0642,18.386, 18.5588,18.5448,18.523,18.5083,18.4856, 18.4625,18.4466,18.4227,18.3979,18.381, 18.3551,18.3374,18.3191,18.3008,18.2728 ,18.2439,18.2241,18.2041,18.1736, 18.1419,18.1204,18.0983,18.0758,18.0531 ,18.0299,18.0061,17.9696,17.9447, 17.9063,17.8803,17.8537,17.8264,17.7987 ,17.7705,17.727,17.6821,17.6515,17.6045 ,17.5558,17.5225,17.4885,17.4361, 17.0079)
ORBIT_NUMBER = 15840
ORBITAL_ECCENTRICITY = 0.573
ORBITAL_INCLINATION = 86.93
ORBITAL_SEMIMAJOR_AXIS = 8801.45
PERIAPSIS_ALTITUDE = 374.19
PERIAPSIS_ARGUMENT_ANGLE = 129.05
PERIAPSIS_TIME = 2016-07-01T16:18:12.000Z
SPACECRAFT_ORIENTATION = (0.0,-1.0,0.0)
^MEX_ORIENTATION_DESC = "MEX_ORIENTATION_DESC.TXT"
SPACECRAFT_POINTING_MODE = NADIR
^MEX_POINTING_DESC = "MEX_POINTING_DESC.TXT"
RIGHT_ASCENSION = -1e+32
DECLINATION = -1e+32
OFFSET_ANGLE = -1e+32
SPACECRAFT_SOLAR_DISTANCE = 2.19879e+08
TARGET_NAME = MARS
/* CAMERA DATA ELEMENTS */
DETECTOR_TEMPERATURE = 19.1861
FOCAL_PLANE_TEMPERATURE = 9.195
INST_CMPRS_NAME = "DISCRETE COSINE TRANSFORMATION (DCT)"
INST_CMPRS_RATIO = 8.66066
INST_CMPRS_QUALITY = 0
INST_CMPRS_QUANTZ_TBL_ID = 0
INSTRUMENT_TEMPERATURE = 11.6418
LENS_TEMPERATURE = 8.9911
MACROPIXEL_SIZE = 2
MISSING_FRAMES = 0
PIXEL_SUBSAMPLING_FLAG = N
SIGNAL_CHAIN_ID = 3
/* RADIOMETRIC DATA ELEMENTS */
BANDWIDTH = 177.0
CENTER_FILTER_WAVELENGTH = 676.5
RADIANCE_OFFSET = 3.08608
RADIANCE_SCALING_FACTOR = 0.0111814
REFLECTANCE_SCALING_FACTOR = 0.000286632
MEX:REFLECTANCE_OFFSET = 0.0791104
/* IMAGE OBJECT DEFINITIONS */
OBJECT = IMAGE
  INTERCHANGE_FORMAT = BINARY
  LINES = 28447
  LINE_SAMPLES = 5176
  SAMPLE_TYPE = UNSIGNED_INTEGER
  SAMPLE_BITS = 8
  BANDS = 1
  BAND_STORAGE_TYPE = BAND_SEQUENTIAL
  MAXIMUM = 255
  MEAN = 63.9206
  MINIMUM = 1
  STANDARD_DEVIATION = 25.8012
END_OBJECT = IMAGE
/* MAP OBJECT DEFINITIONS */
OBJECT = IMAGE_MAP_PROJECTION
  ^DATA_SET_MAP_PROJECTION_CATALOG= "DSMAP.CAT"
  A_AXIS_RADIUS = 3396.0
  B_AXIS_RADIUS = 3396.0
  C_AXIS_RADIUS = 3396.0
  CENTER_LATITUDE = 0.0
  CENTER_LONGITUDE = 17.0
  COORDINATE_SYSTEM_NAME = PLANETOGRAPHIC
  COORDINATE_SYSTEM_TYPE = "BODY-FIXED ROTATING"
  EASTERNMOST_LONGITUDE = 18.5588
  FIRST_STANDARD_PARALLEL = "N/A"
  LINE_FIRST_PIXEL = 1
  LINE_LAST_PIXEL = 28447
  LINE_PROJECTION_OFFSET = 154168.75
  MAP_PROJECTION_ROTATION = 0.0
  MAP_PROJECTION_TYPE = SINUSOIDAL
  MAP_RESOLUTION = 2370.85521546667
  MAP_SCALE = 0.025
  MAXIMUM_LATITUDE = 65.0127
  MINIMUM_LATITUDE = 53.0454
  POSITIVE_LONGITUDE_DIRECTION = EAST
  REFERENCE_LATITUDE = "N/A"
  REFERENCE_LONGITUDE = "N/A"
  SAMPLE_FIRST_PIXEL = 1
  SAMPLE_LAST_PIXEL = 5176
  SAMPLE_PROJECTION_OFFSET = 2981.25
  SECOND_STANDARD_PARALLEL = "N/A"
  WESTERNMOST_LONGITUDE = 14.0252
END_OBJECT = IMAGE_MAP_PROJECTION
/* The JPEG2000 image data file associated with this label. */
OBJECT = COMPRESSED_FILE
  FILE_NAME = "HF840_0000_P23.JP2"
  RECORD_TYPE = UNDEFINED
  FILE_RECORDS = UNK
  ENCODING_TYPE = "JP2"
  INTERCHANGE_FORMAT = BINARY
  UNCOMPRESSED_FILE_NAME = "HF840_0000_P23.IMG"
  REQUIRED_STORAGE_BYTES = "147267552"
  ^DESCRIPTION = "JP2INFO.TXT"
END_OBJECT = COMPRESSED_FILE
END
