PDS_VERSION_ID = PDS3
/* FILE DATA ELEMENTS */
RECORD_TYPE = STREAM
/* POINTERS TO DATA OBJECTS */
^COMPRESSED_FILE = "HF855_0000_S13.JP2"
/* IDENTIFICATION DATA ELEMENTS */
DATA_SET_ID = "MEX-M-HRSC-5-REFDR-MAPPROJECTED-V3.0"
DATA_SET_NAME = "MARS EXPRESS HRSC MAP PROJECTED REFDR V3.0"
DETECTOR_ID = MEX_HRSC_S1
EVENT_TYPE = "MARS-REGIONAL-STEREO-Te"
INSTRUMENT_HOST_ID = MEX
INSTRUMENT_HOST_NAME = "MARS EXPRESS"
INSTRUMENT_ID = HRSC
INSTRUMENT_NAME = "HIGH RESOLUTION STEREO CAMERA"
MISSION_NAME = "MARS EXPRESS"
MISSION_PHASE_NAME = ME_Phase_35
PROCESSING_LEVEL_ID = 3
PRODUCT_CREATION_TIME = 2017-06-29T11:20:52.000Z
PRODUCT_ID = "HF855_0000_S13.JP2"
RELEASE_ID = 0135
REVISION_ID = 0000
/* QUALITY DATA ELEMENTS */
DATA_QUALITY_ID = 1
DATA_QUALITY_DESC = "Data calculated based on original SPICE kernels"
/* TIME DATA ELEMENTS */
SPACECRAFT_CLOCK_START_COUNT = "1/0415847772.08300"
SPACECRAFT_CLOCK_STOP_COUNT = "1/0415847996.00719"
START_TIME = 2016-07-06T01:16:19.747Z
STOP_TIME = 2016-07-06T01:18:34.235Z
/* ORBITAL DATA ELEMENTS */
ASCENDING_NODE_LONGITUDE = 276.03
MAXIMUM_RESOLUTION = 16.5
FOOTPRINT_POINT_LATITUDE = (41.913,41.9139,41.9138,41.9128,41.9108 ,41.9079,41.904,41.6009,41.4311,41.1735 ,40.9168,40.6598,40.4885,40.3171, 40.1453,39.9742,39.8027,39.6294,39.4549 ,39.1955,38.9433,38.6866,38.5139, 38.3416,38.0833,37.912,37.6553,37.4842, 37.2278,37.0569,36.8834,36.7077,36.531, 36.2686,36.0935,35.8297,35.6532,35.4752 ,35.299,35.1204,34.9386,34.7578,34.5762 ,34.3949,34.2144,34.0346,33.8539, 33.5813,33.3966,33.1145,33.1156,33.1152 ,33.114,33.1118,33.1077,33.1977,33.3825 ,33.5676,33.8411,34.0223,34.2037, 34.4757,34.6577,34.9297,35.1111,35.29, 35.4666,35.6431,35.9072,36.1711,36.3473 ,36.6126,36.7894,36.9657,37.1377,37.309 ,37.4802,37.6516,37.8232,37.9948, 38.2524,38.5109,38.6836,38.8564,39.0292 ,39.2014,39.3704,39.6285,39.8002, 39.9695,40.1416,40.3167,40.4897,40.7471 ,40.9186,41.0904,41.348,41.5199,41.6915 ,41.913)
FOOTPRINT_POINT_LONGITUDE = (284.775,284.488,284.202,283.917, 283.634,283.351,283.069,283.007,283.013 ,283.02,283.028,283.035,283.04,283.045, 283.049,283.053,283.058,283.061,283.065 ,283.07,283.077,283.082,283.085,283.089 ,283.093,283.096,283.101,283.103, 283.108,283.11,283.113,283.115,283.117, 283.121,283.123,283.126,283.127,283.129 ,283.13,283.132,283.133,283.134,283.135 ,283.136,283.137,283.138,283.139,283.14 ,283.14,283.248,283.607,283.859,284.148 ,284.437,284.801,284.973,284.971, 284.969,284.965,284.963,284.96,284.957, 284.954,284.95,284.947,284.945,284.943, 284.94,284.937,284.933,284.931,284.927, 284.924,284.922,284.919,284.917,284.914 ,284.912,284.91,284.907,284.903,284.898 ,284.895,284.892,284.889,284.885, 284.884,284.879,284.877,284.875,284.872 ,284.867,284.863,284.858,284.855, 284.852,284.847,284.844,284.84,284.775)
ORBIT_NUMBER = 15855
ORBITAL_ECCENTRICITY = 0.573
ORBITAL_INCLINATION = 86.93
ORBITAL_SEMIMAJOR_AXIS = 8797.78
PERIAPSIS_ALTITUDE = 375.34
PERIAPSIS_ARGUMENT_ANGLE = 126.49
PERIAPSIS_TIME = 2016-07-06T01:13:55.000Z
SPACECRAFT_ORIENTATION = (0.0,-1.0,0.0)
^MEX_ORIENTATION_DESC = "MEX_ORIENTATION_DESC.TXT"
SPACECRAFT_POINTING_MODE = ACROSSTRACK
^MEX_POINTING_DESC = "MEX_POINTING_DESC.TXT"
RIGHT_ASCENSION = -1e+32
DECLINATION = -1e+32
OFFSET_ANGLE = 0.269
SPACECRAFT_SOLAR_DISTANCE = 2.19067e+08
TARGET_NAME = MARS
/* CAMERA DATA ELEMENTS */
DETECTOR_TEMPERATURE = 18.1666
FOCAL_PLANE_TEMPERATURE = 9.195
INST_CMPRS_NAME = "DISCRETE COSINE TRANSFORMATION (DCT)"
INST_CMPRS_RATIO = 5.28032
INST_CMPRS_QUALITY = 0
INST_CMPRS_QUANTZ_TBL_ID = 0
INSTRUMENT_TEMPERATURE = 11.4379
LENS_TEMPERATURE = 9.3989
MACROPIXEL_SIZE = 1
MISSING_FRAMES = 0
PIXEL_SUBSAMPLING_FLAG = N
SIGNAL_CHAIN_ID = 2
/* RADIOMETRIC DATA ELEMENTS */
BANDWIDTH = 180.0
CENTER_FILTER_WAVELENGTH = 677.0
RADIANCE_OFFSET = 1.71601
RADIANCE_SCALING_FACTOR = 0.0397999
REFLECTANCE_SCALING_FACTOR = 0.000996498
MEX:REFLECTANCE_OFFSET = 0.042965
/* IMAGE OBJECT DEFINITIONS */
OBJECT = IMAGE
  INTERCHANGE_FORMAT = BINARY
  LINES = 41603
  LINE_SAMPLES = 7844
  SAMPLE_TYPE = UNSIGNED_INTEGER
  SAMPLE_BITS = 8
  BANDS = 1
  BAND_STORAGE_TYPE = BAND_SEQUENTIAL
  MAXIMUM = 255
  MEAN = 121.416
  MINIMUM = 1
  STANDARD_DEVIATION = 11.8447
END_OBJECT = IMAGE
/* MAP OBJECT DEFINITIONS */
OBJECT = IMAGE_MAP_PROJECTION
  ^DATA_SET_MAP_PROJECTION_CATALOG= "DSMAP.CAT"
  A_AXIS_RADIUS = 3396.0
  B_AXIS_RADIUS = 3396.0
  C_AXIS_RADIUS = 3396.0
  CENTER_LATITUDE = 0.0
  CENTER_LONGITUDE = 284.0
  COORDINATE_SYSTEM_NAME = PLANETOGRAPHIC
  COORDINATE_SYSTEM_TYPE = "BODY-FIXED ROTATING"
  EASTERNMOST_LONGITUDE = 284.973
  FIRST_STANDARD_PARALLEL = "N/A"
  LINE_FIRST_PIXEL = 1
  LINE_LAST_PIXEL = 41603
  LINE_PROJECTION_OFFSET = 198563.0
  MAP_PROJECTION_ROTATION = 0.0
  MAP_PROJECTION_TYPE = SINUSOIDAL
  MAP_RESOLUTION = 4741.71043093333
  MAP_SCALE = 0.0125
  MAXIMUM_LATITUDE = 41.9139
  MINIMUM_LATITUDE = 33.1077
  POSITIVE_LONGITUDE_DIRECTION = EAST
  REFERENCE_LATITUDE = "N/A"
  REFERENCE_LONGITUDE = "N/A"
  SAMPLE_FIRST_PIXEL = 1
  SAMPLE_LAST_PIXEL = 7844
  SAMPLE_PROJECTION_OFFSET = 3693.0
  SECOND_STANDARD_PARALLEL = "N/A"
  WESTERNMOST_LONGITUDE = 283.007
END_OBJECT = IMAGE_MAP_PROJECTION
/* The JPEG2000 image data file associated with this label. */
OBJECT = COMPRESSED_FILE
  FILE_NAME = "HF855_0000_S13.JP2"
  RECORD_TYPE = UNDEFINED
  FILE_RECORDS = UNK
  ENCODING_TYPE = "JP2"
  INTERCHANGE_FORMAT = BINARY
  UNCOMPRESSED_FILE_NAME = "HF855_0000_S13.IMG"
  REQUIRED_STORAGE_BYTES = "326365308"
  ^DESCRIPTION = "JP2INFO.TXT"
END_OBJECT = COMPRESSED_FILE
END
