PDS_VERSION_ID = PDS3
/* FILE DATA ELEMENTS */
RECORD_TYPE = STREAM
/* POINTERS TO DATA OBJECTS */
^COMPRESSED_FILE = "HF860_0016_SR3.JP2"
/* IDENTIFICATION DATA ELEMENTS */
DATA_SET_ID = "MEX-M-HRSC-5-REFDR-MAPPROJECTED-V3.0"
DATA_SET_NAME = "MARS EXPRESS HRSC MAP PROJECTED REFDR V3.0"
DETECTOR_ID = MEX_HRSC_SRC
EVENT_TYPE = "MARS-LOCAL-CARTOGRAPHY-Pf-Tc"
INSTRUMENT_HOST_ID = MEX
INSTRUMENT_HOST_NAME = "MARS EXPRESS"
INSTRUMENT_ID = HRSC
INSTRUMENT_NAME = "HIGH RESOLUTION STEREO CAMERA"
MISSION_NAME = "MARS EXPRESS"
MISSION_PHASE_NAME = ME_Phase_35
PROCESSING_LEVEL_ID = 3
PRODUCT_CREATION_TIME = 2017-06-29T11:20:52.000Z
PRODUCT_ID = "HF860_0016_SR3.JP2"
RELEASE_ID = 0135
REVISION_ID = 0000
/* QUALITY DATA ELEMENTS */
DATA_QUALITY_ID = 1
DATA_QUALITY_DESC = "Data calculated based on original SPICE kernels"
/* TIME DATA ELEMENTS */
SPACECRAFT_CLOCK_START_COUNT = "1/0415973570.09060"
SPACECRAFT_CLOCK_STOP_COUNT = "1/0415973714.34304"
IMAGE_TIME = 2016-07-07T12:14:00.139Z
START_TIME = 2016-07-07T12:14:00.137Z
STOP_TIME = 2016-07-07T12:14:00.142Z
/* ORBITAL DATA ELEMENTS */
ASCENDING_NODE_LONGITUDE = 275.94
MAXIMUM_RESOLUTION = 3.65
FOOTPRINT_POINT_LATITUDE = (47.9743,47.9776,47.9795,47.9834, 47.9869,47.99,47.9926,47.9954,47.9972, 47.9994,48.0028,48.0061,48.0084,48.0116 ,48.0136,48.0153,48.0187,48.0207,48.023 ,48.026,48.028,48.0309,48.0327,48.0334, 48.0334,48.0334,48.0334,48.0334,48.0335 ,48.0335,48.0335,48.0335,48.0335, 48.0336,48.0336,48.0336,48.0336,48.0336 ,48.0337,48.0337,48.0337,48.0337, 48.0337,48.0338,48.0338,48.0338,48.0338 ,48.0338,48.0321,48.0304,48.0279, 48.0259,48.0231,48.0199,48.0173,48.0155 ,48.0134,48.0117,48.0095,48.0075, 48.0054,48.0037,48.0016,47.9994,47.9974 ,47.9941,47.9915,47.9876,47.9849,47.983 ,47.9805,47.9776,47.9751,47.9714, 47.9714,47.9714,47.9714,47.9714,47.9714 ,47.9714,47.9714,47.9714,47.9713, 47.9713,47.9713,47.9713,47.9713,47.9713 ,47.9713,47.9713,47.9712,47.9712, 47.9712,47.9712,47.9712,47.9712,47.9712 ,47.9711,47.9711,47.9743)
FOOTPRINT_POINT_LONGITUDE = (134.255,134.255,134.255,134.255, 134.255,134.255,134.255,134.255,134.255 ,134.254,134.254,134.254,134.254, 134.254,134.254,134.254,134.254,134.254 ,134.254,134.254,134.254,134.254, 134.254,134.257,134.261,134.265,134.269 ,134.273,134.276,134.28,134.284,134.288 ,134.292,134.298,134.301,134.305, 134.309,134.313,134.317,134.321,134.325 ,134.328,134.332,134.336,134.34,134.344 ,134.348,134.352,134.352,134.352, 134.352,134.352,134.352,134.352,134.352 ,134.352,134.352,134.352,134.352, 134.352,134.352,134.352,134.352,134.353 ,134.353,134.353,134.353,134.353, 134.353,134.353,134.353,134.353,134.353 ,134.352,134.348,134.344,134.34,134.336 ,134.332,134.329,134.325,134.321, 134.317,134.313,134.309,134.305,134.302 ,134.298,134.295,134.291,134.287, 134.283,134.279,134.276,134.272,134.268 ,134.264,134.26,134.256,134.255)
ORBIT_NUMBER = 15860
ORBITAL_ECCENTRICITY = 0.573
ORBITAL_INCLINATION = 86.94
ORBITAL_SEMIMAJOR_AXIS = 8797.4
PERIAPSIS_ALTITUDE = 376.04
PERIAPSIS_ARGUMENT_ANGLE = 125.61
PERIAPSIS_TIME = 2016-07-07T12:12:22.000Z
SPACECRAFT_ORIENTATION = (0.0,-1.0,0.0)
^MEX_ORIENTATION_DESC = "MEX_ORIENTATION_DESC.TXT"
SPACECRAFT_POINTING_MODE = ACROSSTRACK
^MEX_POINTING_DESC = "MEX_POINTING_DESC.TXT"
RIGHT_ASCENSION = -1e+32
DECLINATION = -1e+32
OFFSET_ANGLE = 1.61
SPACECRAFT_SOLAR_DISTANCE = 2.18799e+08
TARGET_NAME = MARS
/* CAMERA DATA ELEMENTS */
BUFFER_MODE_ID = DIRECT
EXPOSURE_DURATION = 5.04
INST_CMPRS_NAME = NONE
INST_CMPRS_RATIO = 1.0
INST_CMPRS_QUALITY = -2147483648
INST_CMPRS_QUANTZ_TBL_ID = -2147483648
INSTRUMENT_TEMPERATURE = 8.18182
MISSING_FRAMES = 0
START_BIT = 0
/* RADIOMETRIC DATA ELEMENTS */
BANDWIDTH = 250.0
CENTER_FILTER_WAVELENGTH = 600.0
RADIANCE_OFFSET = -9.99e+31
RADIANCE_SCALING_FACTOR = -9.99e+31
REFLECTANCE_SCALING_FACTOR = -9.99e+31
MEX:REFLECTANCE_OFFSET = -9.99e+31
/* IMAGE OBJECT DEFINITIONS */
OBJECT = IMAGE
  INTERCHANGE_FORMAT = BINARY
  LINES = 1568
  LINE_SAMPLES = 1652
  SAMPLE_TYPE = UNSIGNED_INTEGER
  SAMPLE_BITS = 8
  BANDS = 1
  BAND_STORAGE_TYPE = BAND_SEQUENTIAL
  MAXIMUM = 246
  MEAN = 140.936
  MINIMUM = 24
  STANDARD_DEVIATION = 19.2507
END_OBJECT = IMAGE
/* MAP OBJECT DEFINITIONS */
OBJECT = IMAGE_MAP_PROJECTION
  ^DATA_SET_MAP_PROJECTION_CATALOG= "DSMAP.CAT"
  A_AXIS_RADIUS = 3396.19
  B_AXIS_RADIUS = 3396.19
  C_AXIS_RADIUS = 3396.19
  CENTER_LATITUDE = 0.0
  CENTER_LONGITUDE = 134.0
  COORDINATE_SYSTEM_NAME = PLANETOGRAPHIC
  COORDINATE_SYSTEM_TYPE = "BODY-FIXED ROTATING"
  EASTERNMOST_LONGITUDE = 134.353
  FIRST_STANDARD_PARALLEL = "N/A"
  LINE_FIRST_PIXEL = 1
  LINE_LAST_PIXEL = 1568
  LINE_PROJECTION_OFFSET = 1137560.0
  MAP_PROJECTION_ROTATION = 0.0
  MAP_PROJECTION_TYPE = SINUSOIDAL
  MAP_RESOLUTION = 23709.8786048756
  MAP_SCALE = 0.0025
  MAXIMUM_LATITUDE = 48.0338
  MINIMUM_LATITUDE = 47.9711
  POSITIVE_LONGITUDE_DIRECTION = EAST
  REFERENCE_LATITUDE = "N/A"
  REFERENCE_LONGITUDE = "N/A"
  SAMPLE_FIRST_PIXEL = 1
  SAMPLE_LAST_PIXEL = 1652
  SAMPLE_PROJECTION_OFFSET = -5242.0
  SECOND_STANDARD_PARALLEL = "N/A"
  WESTERNMOST_LONGITUDE = 134.254
END_OBJECT = IMAGE_MAP_PROJECTION
/* The JPEG2000 image data file associated with this label. */
OBJECT = COMPRESSED_FILE
  FILE_NAME = "HF860_0016_SR3.JP2"
  RECORD_TYPE = UNDEFINED
  FILE_RECORDS = UNK
  ENCODING_TYPE = "JP2"
  INTERCHANGE_FORMAT = BINARY
  UNCOMPRESSED_FILE_NAME = "HF860_0016_SR3.IMG"
  REQUIRED_STORAGE_BYTES = "2610160"
  ^DESCRIPTION = "JP2INFO.TXT"
END_OBJECT = COMPRESSED_FILE
END
