PDS_VERSION_ID = PDS3
/* FILE DATA ELEMENTS */
RECORD_TYPE = STREAM
/* POINTERS TO DATA OBJECTS */
^COMPRESSED_FILE = "HF860_0018_SR3.JP2"
/* IDENTIFICATION DATA ELEMENTS */
DATA_SET_ID = "MEX-M-HRSC-5-REFDR-MAPPROJECTED-V3.0"
DATA_SET_NAME = "MARS EXPRESS HRSC MAP PROJECTED REFDR V3.0"
DETECTOR_ID = MEX_HRSC_SRC
EVENT_TYPE = "MARS-LOCAL-CARTOGRAPHY-Pf-Tc"
INSTRUMENT_HOST_ID = MEX
INSTRUMENT_HOST_NAME = "MARS EXPRESS"
INSTRUMENT_ID = HRSC
INSTRUMENT_NAME = "HIGH RESOLUTION STEREO CAMERA"
MISSION_NAME = "MARS EXPRESS"
MISSION_PHASE_NAME = ME_Phase_35
PROCESSING_LEVEL_ID = 3
PRODUCT_CREATION_TIME = 2017-06-29T11:20:52.000Z
PRODUCT_ID = "HF860_0018_SR3.JP2"
RELEASE_ID = 0135
REVISION_ID = 0000
/* QUALITY DATA ELEMENTS */
DATA_QUALITY_ID = 1
DATA_QUALITY_DESC = "Data calculated based on original SPICE kernels"
/* TIME DATA ELEMENTS */
SPACECRAFT_CLOCK_START_COUNT = "1/0415973570.09060"
SPACECRAFT_CLOCK_STOP_COUNT = "1/0415973714.34304"
IMAGE_TIME = 2016-07-07T12:14:01.229Z
START_TIME = 2016-07-07T12:14:01.227Z
STOP_TIME = 2016-07-07T12:14:01.232Z
/* ORBITAL DATA ELEMENTS */
ASCENDING_NODE_LONGITUDE = 275.94
MAXIMUM_RESOLUTION = 3.652
FOOTPRINT_POINT_LATITUDE = (47.9048,47.9069,47.9096,47.9127, 47.9146,47.9171,47.9203,47.9223,47.9239 ,47.9271,47.9294,47.9322,47.9345, 47.9378,47.9411,47.9434,47.9459,47.9488 ,47.9507,47.9535,47.9556,47.9589, 47.9616,47.9633,47.9634,47.9634,47.9634 ,47.9634,47.9634,47.9635,47.9635, 47.9635,47.9635,47.9635,47.9636,47.9636 ,47.9636,47.9636,47.9636,47.9637, 47.9637,47.9637,47.9637,47.9637,47.9637 ,47.9638,47.9638,47.9638,47.9629, 47.9595,47.9577,47.9551,47.9533,47.951, 47.9491,47.9474,47.9447,47.942,47.9396, 47.9381,47.9356,47.9331,47.9308,47.9271 ,47.9253,47.9234,47.9207,47.9187,47.917 ,47.9143,47.9113,47.9079,47.9055, 47.9024,47.9014,47.9014,47.9014,47.9014 ,47.9014,47.9013,47.9013,47.9013, 47.9013,47.9013,47.9013,47.9013,47.9013 ,47.9013,47.9012,47.9012,47.9012, 47.9012,47.9012,47.9012,47.9012,47.9011 ,47.9011,47.9011,47.9011,47.9048)
FOOTPRINT_POINT_LONGITUDE = (134.255,134.255,134.255,134.255, 134.255,134.255,134.255,134.255,134.255 ,134.255,134.255,134.255,134.255, 134.255,134.255,134.255,134.255,134.255 ,134.255,134.255,134.255,134.255, 134.255,134.255,134.259,134.262,134.266 ,134.27,134.274,134.278,134.282,134.286 ,134.289,134.293,134.298,134.302, 134.306,134.31,134.314,134.317,134.321, 134.325,134.329,134.333,134.337,134.341 ,134.344,134.348,134.353,134.353, 134.353,134.353,134.353,134.353,134.353 ,134.353,134.353,134.353,134.353, 134.353,134.353,134.353,134.353,134.353 ,134.353,134.353,134.353,134.353, 134.353,134.353,134.353,134.353,134.353 ,134.353,134.348,134.344,134.341, 134.337,134.333,134.329,134.325,134.321 ,134.317,134.314,134.31,134.306,134.302 ,134.298,134.294,134.29,134.287,134.283 ,134.279,134.275,134.271,134.267, 134.264,134.26,134.256,134.255)
ORBIT_NUMBER = 15860
ORBITAL_ECCENTRICITY = 0.573
ORBITAL_INCLINATION = 86.94
ORBITAL_SEMIMAJOR_AXIS = 8797.4
PERIAPSIS_ALTITUDE = 376.04
PERIAPSIS_ARGUMENT_ANGLE = 125.61
PERIAPSIS_TIME = 2016-07-07T12:12:22.000Z
SPACECRAFT_ORIENTATION = (0.0,-1.0,0.0)
^MEX_ORIENTATION_DESC = "MEX_ORIENTATION_DESC.TXT"
SPACECRAFT_POINTING_MODE = ACROSSTRACK
^MEX_POINTING_DESC = "MEX_POINTING_DESC.TXT"
RIGHT_ASCENSION = -1e+32
DECLINATION = -1e+32
OFFSET_ANGLE = 1.61
SPACECRAFT_SOLAR_DISTANCE = 2.18799e+08
TARGET_NAME = MARS
/* CAMERA DATA ELEMENTS */
BUFFER_MODE_ID = DIRECT
EXPOSURE_DURATION = 5.04
INST_CMPRS_NAME = NONE
INST_CMPRS_RATIO = 1.0
INST_CMPRS_QUALITY = -2147483648
INST_CMPRS_QUANTZ_TBL_ID = -2147483648
INSTRUMENT_TEMPERATURE = 8.18182
MISSING_FRAMES = 0
START_BIT = 0
/* RADIOMETRIC DATA ELEMENTS */
BANDWIDTH = 250.0
CENTER_FILTER_WAVELENGTH = 600.0
RADIANCE_OFFSET = -9.99e+31
RADIANCE_SCALING_FACTOR = -9.99e+31
REFLECTANCE_SCALING_FACTOR = -9.99e+31
MEX:REFLECTANCE_OFFSET = -9.99e+31
/* IMAGE OBJECT DEFINITIONS */
OBJECT = IMAGE
  INTERCHANGE_FORMAT = BINARY
  LINES = 1568
  LINE_SAMPLES = 1653
  SAMPLE_TYPE = UNSIGNED_INTEGER
  SAMPLE_BITS = 8
  BANDS = 1
  BAND_STORAGE_TYPE = BAND_SEQUENTIAL
  MAXIMUM = 242
  MEAN = 133.539
  MINIMUM = 9
  STANDARD_DEVIATION = 20.1278
END_OBJECT = IMAGE
/* MAP OBJECT DEFINITIONS */
OBJECT = IMAGE_MAP_PROJECTION
  ^DATA_SET_MAP_PROJECTION_CATALOG= "DSMAP.CAT"
  A_AXIS_RADIUS = 3396.19
  B_AXIS_RADIUS = 3396.19
  C_AXIS_RADIUS = 3396.19
  CENTER_LATITUDE = 0.0
  CENTER_LONGITUDE = 134.0
  COORDINATE_SYSTEM_NAME = PLANETOGRAPHIC
  COORDINATE_SYSTEM_TYPE = "BODY-FIXED ROTATING"
  EASTERNMOST_LONGITUDE = 134.353
  FIRST_STANDARD_PARALLEL = "N/A"
  LINE_FIRST_PIXEL = 1
  LINE_LAST_PIXEL = 1568
  LINE_PROJECTION_OFFSET = 1135905.0
  MAP_PROJECTION_ROTATION = 0.0
  MAP_PROJECTION_TYPE = SINUSOIDAL
  MAP_RESOLUTION = 23709.8786048756
  MAP_SCALE = 0.0025
  MAXIMUM_LATITUDE = 47.9638
  MINIMUM_LATITUDE = 47.9011
  POSITIVE_LONGITUDE_DIRECTION = EAST
  REFERENCE_LATITUDE = "N/A"
  REFERENCE_LONGITUDE = "N/A"
  SAMPLE_FIRST_PIXEL = 1
  SAMPLE_LAST_PIXEL = 1653
  SAMPLE_PROJECTION_OFFSET = -5252.0
  SECOND_STANDARD_PARALLEL = "N/A"
  WESTERNMOST_LONGITUDE = 134.255
END_OBJECT = IMAGE_MAP_PROJECTION
/* The JPEG2000 image data file associated with this label. */
OBJECT = COMPRESSED_FILE
  FILE_NAME = "HF860_0018_SR3.JP2"
  RECORD_TYPE = UNDEFINED
  FILE_RECORDS = UNK
  ENCODING_TYPE = "JP2"
  INTERCHANGE_FORMAT = BINARY
  UNCOMPRESSED_FILE_NAME = "HF860_0018_SR3.IMG"
  REQUIRED_STORAGE_BYTES = "2611740"
  ^DESCRIPTION = "JP2INFO.TXT"
END_OBJECT = COMPRESSED_FILE
END
