PDS_VERSION_ID = PDS3
/* FILE DATA ELEMENTS */
RECORD_TYPE = STREAM
/* POINTERS TO DATA OBJECTS */
^COMPRESSED_FILE = "HF860_0019_SR3.JP2"
/* IDENTIFICATION DATA ELEMENTS */
DATA_SET_ID = "MEX-M-HRSC-5-REFDR-MAPPROJECTED-V3.0"
DATA_SET_NAME = "MARS EXPRESS HRSC MAP PROJECTED REFDR V3.0"
DETECTOR_ID = MEX_HRSC_SRC
EVENT_TYPE = "MARS-LOCAL-CARTOGRAPHY-Pf-Tc"
INSTRUMENT_HOST_ID = MEX
INSTRUMENT_HOST_NAME = "MARS EXPRESS"
INSTRUMENT_ID = HRSC
INSTRUMENT_NAME = "HIGH RESOLUTION STEREO CAMERA"
MISSION_NAME = "MARS EXPRESS"
MISSION_PHASE_NAME = ME_Phase_35
PROCESSING_LEVEL_ID = 3
PRODUCT_CREATION_TIME = 2017-06-29T11:20:52.000Z
PRODUCT_ID = "HF860_0019_SR3.JP2"
RELEASE_ID = 0135
REVISION_ID = 0000
/* QUALITY DATA ELEMENTS */
DATA_QUALITY_ID = 1
DATA_QUALITY_DESC = "Data calculated based on original SPICE kernels"
/* TIME DATA ELEMENTS */
SPACECRAFT_CLOCK_START_COUNT = "1/0415973570.09060"
SPACECRAFT_CLOCK_STOP_COUNT = "1/0415973714.34304"
IMAGE_TIME = 2016-07-07T12:14:01.774Z
START_TIME = 2016-07-07T12:14:01.772Z
STOP_TIME = 2016-07-07T12:14:01.777Z
/* ORBITAL DATA ELEMENTS */
ASCENDING_NODE_LONGITUDE = 275.94
MAXIMUM_RESOLUTION = 3.652
FOOTPRINT_POINT_LATITUDE = (47.8692,47.8716,47.874,47.8761,47.8791 ,47.8813,47.8834,47.8863,47.8885, 47.8907,47.893,47.8946,47.8965,47.8981, 47.9016,47.904,47.9067,47.9087,47.9109, 47.9129,47.9158,47.9176,47.9204,47.9228 ,47.9246,47.9283,47.9284,47.9284, 47.9284,47.9284,47.9284,47.9285,47.9285 ,47.9285,47.9285,47.9285,47.9286, 47.9286,47.9286,47.9286,47.9286,47.9287 ,47.9287,47.9287,47.9287,47.9287, 47.9288,47.9288,47.9288,47.9288,47.9276 ,47.9248,47.9225,47.9209,47.9189, 47.9165,47.9129,47.9095,47.9067,47.9047 ,47.9018,47.8981,47.8958,47.8936, 47.8903,47.8874,47.8843,47.882,47.8789, 47.877,47.874,47.8721,47.8686,47.8664, 47.8664,47.8664,47.8664,47.8664,47.8663 ,47.8663,47.8663,47.8663,47.8663, 47.8663,47.8663,47.8663,47.8663,47.8662 ,47.8662,47.8662,47.8662,47.8662, 47.8662,47.8662,47.8661,47.8661,47.8661 ,47.8661,47.8661,47.8692)
FOOTPRINT_POINT_LONGITUDE = (134.256,134.255,134.255,134.255, 134.255,134.255,134.255,134.255,134.255 ,134.255,134.255,134.255,134.255, 134.255,134.255,134.255,134.255,134.255 ,134.255,134.255,134.255,134.255, 134.255,134.255,134.255,134.255,134.259 ,134.263,134.267,134.27,134.274,134.278 ,134.282,134.286,134.29,134.293,134.298 ,134.302,134.306,134.31,134.314,134.318 ,134.321,134.325,134.329,134.333, 134.337,134.341,134.345,134.348,134.353 ,134.353,134.353,134.353,134.353, 134.353,134.353,134.353,134.353,134.353 ,134.353,134.353,134.353,134.353, 134.353,134.353,134.353,134.353,134.353 ,134.353,134.353,134.353,134.353, 134.353,134.348,134.345,134.341,134.337 ,134.333,134.329,134.325,134.322, 134.318,134.314,134.31,134.306,134.302, 134.298,134.295,134.291,134.287,134.283 ,134.279,134.275,134.271,134.268, 134.264,134.26,134.256,134.256)
ORBIT_NUMBER = 15860
ORBITAL_ECCENTRICITY = 0.573
ORBITAL_INCLINATION = 86.94
ORBITAL_SEMIMAJOR_AXIS = 8797.4
PERIAPSIS_ALTITUDE = 376.04
PERIAPSIS_ARGUMENT_ANGLE = 125.61
PERIAPSIS_TIME = 2016-07-07T12:12:22.000Z
SPACECRAFT_ORIENTATION = (0.0,-1.0,0.0)
^MEX_ORIENTATION_DESC = "MEX_ORIENTATION_DESC.TXT"
SPACECRAFT_POINTING_MODE = ACROSSTRACK
^MEX_POINTING_DESC = "MEX_POINTING_DESC.TXT"
RIGHT_ASCENSION = -1e+32
DECLINATION = -1e+32
OFFSET_ANGLE = 1.61
SPACECRAFT_SOLAR_DISTANCE = 2.18799e+08
TARGET_NAME = MARS
/* CAMERA DATA ELEMENTS */
BUFFER_MODE_ID = DIRECT
EXPOSURE_DURATION = 5.04
INST_CMPRS_NAME = NONE
INST_CMPRS_RATIO = 1.0
INST_CMPRS_QUALITY = -2147483648
INST_CMPRS_QUANTZ_TBL_ID = -2147483648
INSTRUMENT_TEMPERATURE = 8.18182
MISSING_FRAMES = 0
START_BIT = 0
/* RADIOMETRIC DATA ELEMENTS */
BANDWIDTH = 250.0
CENTER_FILTER_WAVELENGTH = 600.0
RADIANCE_OFFSET = -9.99e+31
RADIANCE_SCALING_FACTOR = -9.99e+31
REFLECTANCE_SCALING_FACTOR = -9.99e+31
MEX:REFLECTANCE_OFFSET = -9.99e+31
/* IMAGE OBJECT DEFINITIONS */
OBJECT = IMAGE
  INTERCHANGE_FORMAT = BINARY
  LINES = 1569
  LINE_SAMPLES = 1653
  SAMPLE_TYPE = UNSIGNED_INTEGER
  SAMPLE_BITS = 8
  BANDS = 1
  BAND_STORAGE_TYPE = BAND_SEQUENTIAL
  MAXIMUM = 249
  MEAN = 137.179
  MINIMUM = 18
  STANDARD_DEVIATION = 19.1108
END_OBJECT = IMAGE
/* MAP OBJECT DEFINITIONS */
OBJECT = IMAGE_MAP_PROJECTION
  ^DATA_SET_MAP_PROJECTION_CATALOG= "DSMAP.CAT"
  A_AXIS_RADIUS = 3396.19
  B_AXIS_RADIUS = 3396.19
  C_AXIS_RADIUS = 3396.19
  CENTER_LATITUDE = 0.0
  CENTER_LONGITUDE = 134.0
  COORDINATE_SYSTEM_NAME = PLANETOGRAPHIC
  COORDINATE_SYSTEM_TYPE = "BODY-FIXED ROTATING"
  EASTERNMOST_LONGITUDE = 134.353
  FIRST_STANDARD_PARALLEL = "N/A"
  LINE_FIRST_PIXEL = 1
  LINE_LAST_PIXEL = 1569
  LINE_PROJECTION_OFFSET = 1135078.0
  MAP_PROJECTION_ROTATION = 0.0
  MAP_PROJECTION_TYPE = SINUSOIDAL
  MAP_RESOLUTION = 23709.8786048756
  MAP_SCALE = 0.0025
  MAXIMUM_LATITUDE = 47.9288
  MINIMUM_LATITUDE = 47.8661
  POSITIVE_LONGITUDE_DIRECTION = EAST
  REFERENCE_LATITUDE = "N/A"
  REFERENCE_LONGITUDE = "N/A"
  SAMPLE_FIRST_PIXEL = 1
  SAMPLE_LAST_PIXEL = 1653
  SAMPLE_PROJECTION_OFFSET = -5258.0
  SECOND_STANDARD_PARALLEL = "N/A"
  WESTERNMOST_LONGITUDE = 134.255
END_OBJECT = IMAGE_MAP_PROJECTION
/* The JPEG2000 image data file associated with this label. */
OBJECT = COMPRESSED_FILE
  FILE_NAME = "HF860_0019_SR3.JP2"
  RECORD_TYPE = UNDEFINED
  FILE_RECORDS = UNK
  ENCODING_TYPE = "JP2"
  INTERCHANGE_FORMAT = BINARY
  UNCOMPRESSED_FILE_NAME = "HF860_0019_SR3.IMG"
  REQUIRED_STORAGE_BYTES = "2613393"
  ^DESCRIPTION = "JP2INFO.TXT"
END_OBJECT = COMPRESSED_FILE
END
