PDS_VERSION_ID = PDS3
/* FILE DATA ELEMENTS */
RECORD_TYPE = STREAM
/* POINTERS TO DATA OBJECTS */
^COMPRESSED_FILE = "HF860_0025_SR3.JP2"
/* IDENTIFICATION DATA ELEMENTS */
DATA_SET_ID = "MEX-M-HRSC-5-REFDR-MAPPROJECTED-V3.0"
DATA_SET_NAME = "MARS EXPRESS HRSC MAP PROJECTED REFDR V3.0"
DETECTOR_ID = MEX_HRSC_SRC
EVENT_TYPE = "MARS-LOCAL-CARTOGRAPHY-Pf-Tc"
INSTRUMENT_HOST_ID = MEX
INSTRUMENT_HOST_NAME = "MARS EXPRESS"
INSTRUMENT_ID = HRSC
INSTRUMENT_NAME = "HIGH RESOLUTION STEREO CAMERA"
MISSION_NAME = "MARS EXPRESS"
MISSION_PHASE_NAME = ME_Phase_35
PROCESSING_LEVEL_ID = 3
PRODUCT_CREATION_TIME = 2017-06-29T11:20:52.000Z
PRODUCT_ID = "HF860_0025_SR3.JP2"
RELEASE_ID = 0135
REVISION_ID = 0000
/* QUALITY DATA ELEMENTS */
DATA_QUALITY_ID = 1
DATA_QUALITY_DESC = "Data calculated based on original SPICE kernels"
/* TIME DATA ELEMENTS */
SPACECRAFT_CLOCK_START_COUNT = "1/0415973570.09060"
SPACECRAFT_CLOCK_STOP_COUNT = "1/0415973714.34304"
IMAGE_TIME = 2016-07-07T12:14:05.044Z
START_TIME = 2016-07-07T12:14:05.042Z
STOP_TIME = 2016-07-07T12:14:05.047Z
/* ORBITAL DATA ELEMENTS */
ASCENDING_NODE_LONGITUDE = 275.94
MAXIMUM_RESOLUTION = 3.657
FOOTPRINT_POINT_LATITUDE = (47.6592,47.6631,47.6666,47.6685, 47.6708,47.6738,47.6779,47.6801,47.6823 ,47.6849,47.6877,47.6896,47.6921, 47.6958,47.6979,47.7005,47.7024,47.7046 ,47.7072,47.7092,47.7119,47.7137, 47.7167,47.7184,47.7184,47.7184,47.7184 ,47.7185,47.7185,47.7185,47.7185, 47.7185,47.7186,47.7186,47.7186,47.7186 ,47.7186,47.7187,47.7187,47.7187, 47.7187,47.7187,47.7187,47.7188,47.7188 ,47.7188,47.7188,47.7188,47.7188, 47.7174,47.7158,47.7137,47.7108,47.7091 ,47.7064,47.7046,47.7018,47.6998, 47.6982,47.6956,47.6933,47.6909,47.6872 ,47.6839,47.6823,47.6802,47.6772, 47.6751,47.6728,47.6709,47.6675,47.6647 ,47.6627,47.6592,47.6564,47.6563, 47.6563,47.6563,47.6563,47.6563,47.6563 ,47.6563,47.6563,47.6563,47.6562, 47.6562,47.6562,47.6562,47.6562,47.6562 ,47.6562,47.6562,47.6561,47.6561, 47.6561,47.6561,47.6561,47.6561,47.6561 ,47.6592)
FOOTPRINT_POINT_LONGITUDE = (134.256,134.256,134.256,134.256, 134.256,134.256,134.256,134.256,134.256 ,134.256,134.256,134.256,134.256, 134.256,134.256,134.256,134.256,134.256 ,134.256,134.256,134.256,134.256, 134.256,134.256,134.26,134.264,134.267, 134.271,134.275,134.279,134.283,134.287 ,134.29,134.294,134.298,134.302,134.306 ,134.31,134.313,134.317,134.321,134.325 ,134.329,134.333,134.337,134.34,134.344 ,134.348,134.352,134.353,134.353, 134.354,134.354,134.354,134.354,134.354 ,134.354,134.354,134.354,134.354, 134.354,134.354,134.354,134.354,134.354 ,134.354,134.354,134.354,134.354, 134.354,134.354,134.354,134.354,134.354 ,134.354,134.348,134.344,134.34,134.337 ,134.333,134.329,134.325,134.321, 134.317,134.313,134.31,134.306,134.302, 134.298,134.292,134.289,134.285,134.281 ,134.277,134.273,134.269,134.266, 134.262,134.258,134.256)
ORBIT_NUMBER = 15860
ORBITAL_ECCENTRICITY = 0.573
ORBITAL_INCLINATION = 86.94
ORBITAL_SEMIMAJOR_AXIS = 8797.4
PERIAPSIS_ALTITUDE = 376.04
PERIAPSIS_ARGUMENT_ANGLE = 125.61
PERIAPSIS_TIME = 2016-07-07T12:12:22.000Z
SPACECRAFT_ORIENTATION = (0.0,-1.0,0.0)
^MEX_ORIENTATION_DESC = "MEX_ORIENTATION_DESC.TXT"
SPACECRAFT_POINTING_MODE = ACROSSTRACK
^MEX_POINTING_DESC = "MEX_POINTING_DESC.TXT"
RIGHT_ASCENSION = -1e+32
DECLINATION = -1e+32
OFFSET_ANGLE = 1.61
SPACECRAFT_SOLAR_DISTANCE = 2.18799e+08
TARGET_NAME = MARS
/* CAMERA DATA ELEMENTS */
BUFFER_MODE_ID = DIRECT
EXPOSURE_DURATION = 5.04
INST_CMPRS_NAME = NONE
INST_CMPRS_RATIO = 1.0
INST_CMPRS_QUALITY = -2147483648
INST_CMPRS_QUANTZ_TBL_ID = -2147483648
INSTRUMENT_TEMPERATURE = 8.18182
MISSING_FRAMES = 0
START_BIT = 0
/* RADIOMETRIC DATA ELEMENTS */
BANDWIDTH = 250.0
CENTER_FILTER_WAVELENGTH = 600.0
RADIANCE_OFFSET = -9.99e+31
RADIANCE_SCALING_FACTOR = -9.99e+31
REFLECTANCE_SCALING_FACTOR = -9.99e+31
MEX:REFLECTANCE_OFFSET = -9.99e+31
/* IMAGE OBJECT DEFINITIONS */
OBJECT = IMAGE
  INTERCHANGE_FORMAT = BINARY
  LINES = 1570
  LINE_SAMPLES = 1653
  SAMPLE_TYPE = UNSIGNED_INTEGER
  SAMPLE_BITS = 8
  BANDS = 1
  BAND_STORAGE_TYPE = BAND_SEQUENTIAL
  MAXIMUM = 248
  MEAN = 128.655
  MINIMUM = 1
  STANDARD_DEVIATION = 20.7195
END_OBJECT = IMAGE
/* MAP OBJECT DEFINITIONS */
OBJECT = IMAGE_MAP_PROJECTION
  ^DATA_SET_MAP_PROJECTION_CATALOG= "DSMAP.CAT"
  A_AXIS_RADIUS = 3396.19
  B_AXIS_RADIUS = 3396.19
  C_AXIS_RADIUS = 3396.19
  CENTER_LATITUDE = 0.0
  CENTER_LONGITUDE = 134.0
  COORDINATE_SYSTEM_NAME = PLANETOGRAPHIC
  COORDINATE_SYSTEM_TYPE = "BODY-FIXED ROTATING"
  EASTERNMOST_LONGITUDE = 134.354
  FIRST_STANDARD_PARALLEL = "N/A"
  LINE_FIRST_PIXEL = 1
  LINE_LAST_PIXEL = 1570
  LINE_PROJECTION_OFFSET = 1130115.0
  MAP_PROJECTION_ROTATION = 0.0
  MAP_PROJECTION_TYPE = SINUSOIDAL
  MAP_RESOLUTION = 23709.8786048756
  MAP_SCALE = 0.0025
  MAXIMUM_LATITUDE = 47.7188
  MINIMUM_LATITUDE = 47.6561
  POSITIVE_LONGITUDE_DIRECTION = EAST
  REFERENCE_LATITUDE = "N/A"
  REFERENCE_LONGITUDE = "N/A"
  SAMPLE_FIRST_PIXEL = 1
  SAMPLE_LAST_PIXEL = 1653
  SAMPLE_PROJECTION_OFFSET = -5278.0
  SECOND_STANDARD_PARALLEL = "N/A"
  WESTERNMOST_LONGITUDE = 134.256
END_OBJECT = IMAGE_MAP_PROJECTION
/* The JPEG2000 image data file associated with this label. */
OBJECT = COMPRESSED_FILE
  FILE_NAME = "HF860_0025_SR3.JP2"
  RECORD_TYPE = UNDEFINED
  FILE_RECORDS = UNK
  ENCODING_TYPE = "JP2"
  INTERCHANGE_FORMAT = BINARY
  UNCOMPRESSED_FILE_NAME = "HF860_0025_SR3.IMG"
  REQUIRED_STORAGE_BYTES = "2615046"
  ^DESCRIPTION = "JP2INFO.TXT"
END_OBJECT = COMPRESSED_FILE
END
